Workbook

Sheet Données
A1: Mois | B1: Mois | C1: Prix (€) - Compagnies régulières, destinations longues | D1: Nombre de voyageurs | E1: Prix (€) - Compagnies régulières, destinations courtes | F1: Nombre de voyageurs | G1: Prix (€) - Vols low cost | H1: Nombre de voyageurs | I1: Prix (€) - Maroquinerie, vêtement | J1: Quantité (milliers)
F2: (milliers) | H2: (milliers)
A3: Janv-Fév2010 | B3: 1 | C3: 734.56 | D3: 19 | E3: 257.77 | F3: 22 | G3: 122.31 | H3: 24 | I3: 136.43 | J3: 2
A4: Mars-Avril2010 | B4: =B3+1 -> 2 | C4: 750.67 | D4: 21 | E4: 259.74 | F4: 22 | G4: 122.48 | H4: 23 | I4: 137.02 | J4: 2
A5: Mai-Juin2010 | B5: =B4+1 -> 3 | C5: 830.48 | D5: 21 | E5: 262.99 | F5: 24 | G5: 130.75 | H5: 24 | I5: 136.94 | J5: 3
A6: Juil-Aout2010 | B6: =B5+1 -> 4 | C6: 929 | D6: 26 | E6: 271.07 | F6: 28 | G6: 140.75 | H6: 29 | I6: 136.95 | J6: 3
A7: Sept-Oct2010 | B7: =B6+1 -> 5 | C7: 859.9 | D7: 23 | E7: 269.58 | F7: 25 | G7: 136.84 | H7: 27 | I7: 137.49 | J7: 2
A8: Nov-Dec2010 | B8: =B7+1 -> 6 | C8: 843.28 | D8: 25 | E8: 265 | F8: 25 | G8: 133.87 | H8: 26 | I8: 137.58 | J8: 2
A9: Janv-Fév2011 | B9: =B8+1 -> 7 | C9: 835.85 | D9: 26 | E9: 258.52 | F9: 23 | G9: 129.87 | H9: 23 | I9: 137.78 | J9: 3
A10: Mars-Avril2011 | B10: =B9+1 -> 8 | C10: 862.7 | D10: 28 | E10: 258.44 | F10: 23 | G10: 125.18 | H10: 22 | I10: 138.29 | J10: 4
A11: Mai-Juin2011 | B11: =B10+1 -> 9 | C11: 990.82 | D11: 31 | E11: 262.38 | F11: 26 | G11: 130.23 | H11: 25 | I11: 138.05 | J11: 5
A12: Juil-Aout2011 | B12: =B11+1 -> 10 | C12: 1028.74 | D12: 35 | E12: 269.08 | F12: 30 | G12: 136.93 | H12: 28 | I12: 139.04 | J12: 7
A13: Sept-Oct2011 | B13: =B12+1 -> 11 | C13: 836.9 | D13: 29 | E13: 261.88 | F13: 25 | G13: 135.71 | H13: 25 | I13: 139.82 | J13: 4
A14: Nov-Dec2011 | B14: =B13+1 -> 12 | C14: 799.78 | D14: 28 | E14: 259.18 | F14: 24 | G14: 132.07 | H14: 23 | I14: 140.33 | J14: 4
A15: Janv-Fév2012 | B15: =B14+1 -> 13 | C15: 820.54 | D15: 28 | E15: 245.61 | F15: 23 | G15: 132.18 | H15: 21 | I15: 140.35 | J15: 4
... A26: Nov-Dec2013 | B26: =B25+1 -> 24 | C26: 880.65 | D26: 45 | E26: 228.04 | F26: 28 | G26: 141.3 | H26: 24 | I26: 142.78 | J26: 6

Sheet Indices
C2: Indice des moyennes | F2: Moyenne des indices
B3: Mois | C3: Laspeyres | D3: Paasche | F3: Laspeyres | G3: Paasche | I3: Mois | K3: Somme Pi1*Qi0 | L3: Somme Pi0*Qi0 | M3: Somme Pi0*Qi1 | N3: Somme Pi1*Qi1 | O3: Somme Qi1 | P3: Somme Qi0 | Q3: Somme (Pi1/Pi0)*Qi0 | R3: Somme (Pi1/Pi0)*Qi1
B4: =1 -> 1 | C4: =(K4/L4)*100 -> 100 | D4: =(N4/M4)*100 -> 100 | F4: =(Q4/P4)*100 -> 100 | G4: =(R4/O4)*100 -> 100 | I4: 1 | K4: =Données!C3*Données!D$3 + Données!E3*Données!F$3 + Données!G3*Données!H$3 + Données!I3*Données!J$3 -> 22835.88 | L4: =Données!C$3*Données!D$3+Données!E$3*Données!F$3+Données!G$3*Données!H$3+Données!I$3*Données!J$3 -> 22835.88 | M4: =Données!C$3*Données!D3+Données!E$3*Données!F3+Données!G$3*Données!H3+Données!I$3*Données!J3 -> 22835.88 | N4: =Données!C3*Données!D3+Données!E3*Données!F3+Données!G3*Données!H3+Données!I3*Données!J3 -> 22835.88 | O4: =Données!D3+Données!F3+Données!H3+Données!J3 -> 67 | P4: =Données!D$3+Données!F$3+Données!H$3+Données!J$3 -> 67 | Q4: =(Données!C3/Données!C$3)*Données!D$3+(Données!E3/Données!E$3)*Données!F$3+(Données!G3/Données!G$3)*Données!H$3+(Données!I3/Données!I$3)*Données!J$3 -> 67 | R4: =(Données!C3/Données!C$3)*Données!D3+(Données!E3/Données!E$3)*Données!F3+(Données!G3/Données!G$3)*Données!H3+(Données!I3/Données!I$3)*Données!J3 -> 67
B5: =B4 + 1 -> 2 | C5: =(K5/L5)*100 -> 101.55321 | D5: =(N5/M5)*100 -> 101.59924 | F5: =(Q5/P5)*100 -> 100.93558 | G5: =(R5/O5)*100 -> 100.98428 | I5: 2 | K5: =Données!C4*Données!D$3 + Données!E4*Données!F$3 + Données!G4*Données!H$3 + Données!I4*Données!J$3 -> 23190.57 | L5: =Données!C$3*Données!D$3+Données!E$3*Données!F$3+Données!G$3*Données!H$3+Données!I$3*Données!J$3 -> 22835.88 | M5: =Données!C$3*Données!D4+Données!E$3*Données!F4+Données!G$3*Données!H4+Données!I$3*Données!J4 -> 24182.69 | N5: =Données!C4*Données!D4+Données!E4*Données!F4+Données!G4*Données!H4+Données!I4*Données!J4 -> 24569.43 | O5: =Données!D4+Données!F4+Données!H4+Données!J4 -> 68 | P5: =Données!D$3+Données!F$3+Données!H$3+Données!J$3 -> 67 | Q5: =(Données!C4/Données!C$3)*Données!D$3+(Données!E4/Données!E$3)*Données!F$3+(Données!G4/Données!G$3)*Données!H$3+(Données!I4/Données!I$3)*Données!J$3 -> 67.62684 | R5: =(Données!C4/Données!C$3)*Données!D4+(Données!E4/Données!E$3)*Données!F4+(Données!G4/Données!G$3)*Données!H4+(Données!I4/Données!I$3)*Données!J4 -> 68.669313
B6: =B5 + 1 -> 3 | C6: =(K6/L6)*100 -> 109.37516 | D6: =(N6/M6)*100 -> 109.39092 | F6: =(Q6/P6)*100 -> 106.85098 | G6: =(R6/O6)*100 -> 106.79939 | I6: 3 | K6: =Données!C5*Données!D$3 + Données!E5*Données!F$3 + Données!G5*Données!H$3 + Données!I5*Données!J$3 -> 24976.78 | L6: =Données!C$3*Données!D$3+Données!E$3*Données!F$3+Données!G$3*Données!H$3+Données!I$3*Données!J$3 -> 22835.88 | M6: =Données!C$3*Données!D5+Données!E$3*Données!F5+Données!G$3*Données!H5+Données!I$3*Données!J5 -> 24956.97 | N6: =Données!C5*Données!D5+Données!E5*Données!F5+Données!G5*Données!H5+Données!I5*Données!J5 -> 27300.66 | O6: =Données!D5+Données!F5+Données!H5+Données!J5 -> 72 | P6: =Données!D$3+Données!F$3+Données!H$3+Données!J$3 -> 67 | Q6: =(Données!C5/Données!C$3)*Données!D$3+(Données!E5/Données!E$3)*Données!F$3+(Données!G5/Données!G$3)*Données!H$3+(Données!I5/Données!I$3)*Données!J$3 -> 71.590159 | R6: =(Données!C5/Données!C$3)*Données!D5+(Données!E5/Données!E$3)*Données!F5+(Données!G5/Données!G$3)*Données!H5+(Données!I5/Données!I$3)*Données!J5 -> 76.895562
B7: =B6 + 1 -> 4 | C7: =(K7/L7)*100 -> 119.40175 | D7: =(N7/M7)*100 -> 119.70164 | F7: =(Q7/P7)*100 -> 114.6126 | G7: =(R7/O7)*100 -> 114.77973 | I7: 4 | K7: =Données!C6*Données!D$3 + Données!E6*Données!F$3 + Données!G6*Données!H$3 + Données!I6*Données!J$3 -> 27266.44 | L7: =Données!C$3*Données!D$3+Données!E$3*Données!F$3+Données!G$3*Données!H$3+Données!I$3*Données!J$3 -> 22835.88 | M7: =Données!C$3*Données!D6+Données!E$3*Données!F6+Données!G$3*Données!H6+Données!I$3*Données!J6 -> 30272.4 | N7: =Données!C6*Données!D6+Données!E6*Données!F6+Données!G6*Données!H6+Données!I6*Données!J6 -> 36236.56 | O7: =Données!D6+Données!F6+Données!H6+Données!J6 -> 86 | P7: =Données!D$3+Données!F$3+Données!H$3+Données!J$3 -> 67 | Q7: =(Données!C6/Données!C$3)*Données!D$3+(Données!E6/Données!E$3)*Données!F$3+(Données!G6/Données!G$3)*Données!H$3+(Données!I6/Données!I$3)*Données!J$3 -> 76.790441 | R7: =(Données!C6/Données!C$3)*Données!D6+(Données!E6/Données!E$3)*Données!F6+(Données!G6/Données!G$3)*Données!H6+(Données!I6/Données!I$3)*Données!J6 -> 98.710572
B8: =B7 + 1 -> 5 | C8: =(K8/L8)*100 -> 113.10271 | D8: =(N8/M8)*100 -> 113.27358 | F8: =(Q8/P8)*100 -> 110.62184 | G8: =(R8/O8)*100 -> 110.77013 | I8: 5 | K8: =Données!C7*Données!D$3 + Données!E7*Données!F$3 + Données!G7*Données!H$3 + Données!I7*Données!J$3 -> 25828 | L8: =Données!C$3*Données!D$3+Données!E$3*Données!F$3+Données!G$3*Données!H$3+Données!I$3*Données!J$3 -> 22835.88 | M8: =Données!C$3*Données!D7+Données!E$3*Données!F7+Données!G$3*Données!H7+Données!I$3*Données!J7 -> 26914.36 | N8: =Données!C7*Données!D7+Données!E7*Données!F7+Données!G7*Données!H7+Données!I7*Données!J7 -> 30486.86 | O8: =Données!D7+Données!F7+Données!H7+Données!J7 -> 77 | P8: =Données!D$3+Données!F$3+Données!H$3+Données!J$3 -> 67 | Q8: =(Données!C7/Données!C$3)*Données!D$3+(Données!E7/Données!E$3)*Données!F$3+(Données!G7/Données!G$3)*Données!H$3+(Données!I7/Données!I$3)*Données!J$3 -> 74.11663 | R8: =(Données!C7/Données!C$3)*Données!D7+(Données!E7/Données!E$3)*Données!F7+(Données!G7/Données!G$3)*Données!H7+(Données!I7/Données!I$3)*Données!J7 -> 85.292999
B9: =B8 + 1 -> 6 | C9: =(K9/L9)*100 -> 110.9673 | D9: =(N9/M9)*100 -> 111.32865 | F9: =(Q9/P9)*100 -> 108.52894 | G9: =(R9/O9)*100 -> 108.81487 | I9: 6 | K9: =Données!C8*Données!D$3 + Données!E8*Données!F$3 + Données!G8*Données!H$3 + Données!I8*Données!J$3 -> 25340.36 | L9: =Données!C$3*Données!D$3+Données!E$3*Données!F$3+Données!G$3*Données!H$3+Données!I$3*Données!J$3 -> 22835.88 | M9: =Données!C$3*Données!D8+Données!E$3*Données!F8+Données!G$3*Données!H8+Données!I$3*Données!J8 -> 28261.17 | N9: =Données!C8*Données!D8+Données!E8*Données!F8+Données!G8*Données!H8+Données!I8*Données!J8 -> 31462.78 | O9: =Données!D8+Données!F8+Données!H8+Données!J8 -> 78 | P9: =Données!D$3+Données!F$3+Données!H$3+Données!J$3 -> 67 | Q9: =(Données!C8/Données!C$3)*Données!D$3+(Données!E8/Données!E$3)*Données!F$3+(Données!G8/Données!G$3)*Données!H$3+(Données!I8/Données!I$3)*Données!J$3 -> 72.714387 | R9: =(Données!C8/Données!C$3)*Données!D8+(Données!E8/Données!E$3)*Données!F8+(Données!G8/Données!G$3)*Données!H8+(Données!I8/Données!I$3)*Données!J8 -> 84.875602
B10: =B9 + 1 -> 7 | C10: =(K10/L10)*100 -> 109.30619 | D10: =(N10/M10)*100 -> 110.01328 | F10: =(Q10/P10)*100 -> 106.24954 | G10: =(R10/O10)*100 -> 106.80458 | I10: 7 | K10: =Données!C9*Données!D$3 + Données!E9*Données!F$3 + Données!G9*Données!H$3 + Données!I9*Données!J$3 -> 24961.03 | L10: =Données!C$3*Données!D$3+Données!E$3*Données!F$3+Données!G$3*Données!H$3+Données!I$3*Données!J$3 -> 22835.88 | M10: =Données!C$3*Données!D9+Données!E$3*Données!F9+Données!G$3*Données!H9+Données!I$3*Données!J9 -> 28249.69 | N10: =Données!C9*Données!D9+Données!E9*Données!F9+Données!G9*Données!H9+Données!I9*Données!J9 -> 31078.41 | O10: =Données!D9+Données!F9+Données!H9+Données!J9 -> 75 | P10: =Données!D$3+Données!F$3+Données!H$3+Données!J$3 -> 67 | Q10: =(Données!C9/Données!C$3)*Données!D$3+(Données!E9/Données!E$3)*Données!F$3+(Données!G9/Données!G$3)*Données!H$3+(Données!I9/Données!I$3)*Données!J$3 -> 71.187194 | R10: =(Données!C9/Données!C$3)*Données!D9+(Données!E9/Données!E$3)*Données!F9+(Données!G9/Données!G$3)*Données!H9+(Données!I9/Données!I$3)*Données!J9 -> 80.103433
B11: =B10 + 1 -> 8 | C11: =(K11/L11)*100 -> 111.04402 | D11: =(N11/M11)*100 -> 112.35637 | F11: =(Q11/P11)*100 -> 105.91352 | G11: =(R11/O11)*100 -> 107.16233 | I11: 8 | K11: =Données!C10*Données!D$3 + Données!E10*Données!F$3 + Données!G10*Données!H$3 + Données!I10*Données!J$3 -> 25357.88 | L11: =Données!C$3*Données!D$3+Données!E$3*Données!F$3+Données!G$3*Données!H$3+Données!I$3*Données!J$3 -> 22835.88 | M11: =Données!C$3*Données!D10+Données!E$3*Données!F10+Données!G$3*Données!H10+Données!I$3*Données!J10 -> 29732.93 | N11: =Données!C10*Données!D10+Données!E10*Données!F10+Données!G10*Données!H10+Données!I10*Données!J10 -> 33406.84 | O11: =Données!D10+Données!F10+Données!H10+Données!J10 -> 77 | P11: =Données!D$3+Données!F$3+Données!H$3+Données!J$3 -> 67 | Q11: =(Données!C10/Données!C$3)*Données!D$3+(Données!E10/Données!E$3)*Données!F$3+(Données!G10/Données!G$3)*Données!H$3+(Données!I10/Données!I$3)*Données!J$3 -> 70.962055 | R11: =(Données!C10/Données!C$3)*Données!D10+(Données!E10/Données!E$3)*Données!F10+(Données!G10/Données!G$3)*Données!H10+(Données!I10/Données!I$3)*Données!J10 -> 82.514993
B12: =B11 + 1 -> 9 | C12: =(K12/L12)*100 -> 122.61213 | D12: =(N12/M12)*100 -> 124.89974 | F12: =(Q12/P12)*100 -> 112.83531 | G12: =(R12/O12)*100 -> 114.89416 | I12: 9 | K12: =Données!C11*Données!D$3 + Données!E11*Données!F$3 + Données!G11*Données!H$3 + Données!I11*Données!J$3 -> 27999.56 | L12: =Données!C$3*Données!D$3+Données!E$3*Données!F$3+Données!G$3*Données!H$3+Données!I$3*Données!J$3 -> 22835.88 | M12: =Données!C$3*Données!D11+Données!E$3*Données!F11+Données!G$3*Données!H11+Données!I$3*Données!J11 -> 33213.28 | N12: =Données!C11*Données!D11+Données!E11*Données!F11+Données!G11*Données!H11+Données!I11*Données!J11 -> 41483.3 | O12: =Données!D11+Données!F11+Données!H11+Données!J11 -> 87 | P12: =Données!D$3+Données!F$3+Données!H$3+Données!J$3 -> 67 | Q12: =(Données!C11/Données!C$3)*Données!D$3+(Données!E11/Données!E$3)*Données!F$3+(Données!G11/Données!G$3)*Données!H$3+(Données!I11/Données!I$3)*Données!J$3 -> 75.59966 | R12: =(Données!C11/Données!C$3)*Données!D11+(Données!E11/Données!E$3)*Données!F11+(Données!G11/Données!G$3)*Données!H11+(Données!I11/Données!I$3)*Données!J11 -> 99.957916
B13: =B12 + 1 -> 10 | C13: =(K13/L13)*100 -> 127.12547 | D13: =(N13/M13)*100 -> 129.25048 | F13: =(Q13/P13)*100 -> 117.1366 | G13: =(R13/O13)*100 -> 118.81407 | I13: 10 | K13: =Données!C12*Données!D$3 + Données!E12*Données!F$3 + Données!G12*Données!H$3 + Données!I12*Données!J$3 -> 29030.22 | L13: =Données!C$3*Données!D$3+Données!E$3*Données!F$3+Données!G$3*Données!H$3+Données!I$3*Données!J$3 -> 22835.88 | M13: =Données!C$3*Données!D12+Données!E$3*Données!F12+Données!G$3*Données!H12+Données!I$3*Données!J12 -> 37822.39 | N13: =Données!C12*Données!D12+Données!E12*Données!F12+Données!G12*Données!H12+Données!I12*Données!J12 -> 48885.62 | O13: =Données!D12+Données!F12+Données!H12+Données!J12 -> 100 | P13: =Données!D$3+Données!F$3+Données!H$3+Données!J$3 -> 67 | Q13: =(Données!C12/Données!C$3)*Données!D$3+(Données!E12/Données!E$3)*Données!F$3+(Données!G12/Données!G$3)*Données!H$3+(Données!I12/Données!I$3)*Données!J$3 -> 78.481525 | R13: =(Données!C12/Données!C$3)*Données!D12+(Données!E12/Données!E$3)*Données!F12+(Données!G12/Données!G$3)*Données!H12+(Données!I12/Données!I$3)*Données!J12 -> 118.81407
B14: =B13 + 1 -> 11 | C14: =(K14/L14)*100 -> 110.34889 | D14: =(N14/M14)*100 -> 110.90646 | F14: =(Q14/P14)*100 -> 108.47308 | G14: =(R14/O14)*100 -> 108.76779 | I14: 11 | K14: =Données!C13*Données!D$3 + Données!E13*Données!F$3 + Données!G13*Données!H$3 + Données!I13*Données!J$3 -> 25199.14 | L14: =Données!C$3*Données!D$3+Données!E$3*Données!F$3+Données!G$3*Données!H$3+Données!I$3*Données!J$3 -> 22835.88 | M14: =Données!C$3*Données!D13+Données!E$3*Données!F13+Données!G$3*Données!H13+Données!I$3*Données!J13 -> 31349.96 | N14: =Données!C13*Données!D13+Données!E13*Données!F13+Données!G13*Données!H13+Données!I13*Données!J13 -> 34769.13 | O14: =Données!D13+Données!F13+Données!H13+Données!J13 -> 83 | P14: =Données!D$3+Données!F$3+Données!H$3+Données!J$3 -> 67 | Q14: =(Données!C13/Données!C$3)*Données!D$3+(Données!E13/Données!E$3)*Données!F$3+(Données!G13/Données!G$3)*Données!H$3+(Données!I13/Données!I$3)*Données!J$3 -> 72.676966 | R14: =(Données!C13/Données!C$3)*Données!D13+(Données!E13/Données!E$3)*Données!F13+(Données!G13/Données!G$3)*Données!H13+(Données!I13/Données!I$3)*Données!J13 -> 90.277268
B15: =B14 + 1 -> 12 | C15: =(K15/L15)*100 -> 106.62221 | D15: =(N15/M15)*100 -> 106.974 | F15: =(Q15/P15)*100 -> 105.64122 | G15: =(R15/O15)*100 -> 105.78104 | I15: 12 | K15: =Données!C14*Données!D$3 + Données!E14*Données!F$3 + Données!G14*Données!H$3 + Données!I14*Données!J$3 -> 24348.12 | L15: =Données!C$3*Données!D$3+Données!E$3*Données!F$3+Données!G$3*Données!H$3+Données!I$3*Données!J$3 -> 22835.88 | M15: =Données!C$3*Données!D14+Données!E$3*Données!F14+Données!G$3*Données!H14+Données!I$3*Données!J14 -> 30113.01 | N15: =Données!C14*Données!D14+Données!E14*Données!F14+Données!G14*Données!H14+Données!I14*Données!J14 -> 32213.09 | O15: =Données!D14+Données!F14+Données!H14+Données!J14 -> 79 | P15: =Données!D$3+Données!F$3+Données!H$3+Données!J$3 -> 67 | Q15: =(Données!C14/Données!C$3)*Données!D$3+(Données!E14/Données!E$3)*Données!F$3+(Données!G14/Données!G$3)*Données!H$3+(Données!I14/Données!I$3)*Données!J$3 -> 70.779615 | R15: =(Données!C14/Données!C$3)*Données!D14+(Données!E14/Données!E$3)*Données!F14+(Données!G14/Données!G$3)*Données!H14+(Données!I14/Données!I$3)*Données!J14 -> 83.56702
B16: =B15 + 1 -> 13 | C16: =(K16/L16)*100 -> 107.0539 | D16: =(N16/M16)*100 -> 107.93874 | F16: =(Q16/P16)*100 -> 104.74672 | G16: =(R16/O16)*100 -> 105.26573 | I16: 13 | K16: =Données!C15*Données!D$3 + Données!E15*Données!F$3 + Données!G15*Données!H$3 + Données!I15*Données!J$3 -> 24446.7 | L16: =Données!C$3*Données!D$3+Données!E$3*Données!F$3+Données!G$3*Données!H$3+Données!I$3*Données!J$3 -> 22835.88 | M16: =Données!C$3*Données!D15+Données!E$3*Données!F15+Données!G$3*Données!H15+Données!I$3*Données!J15 -> 29610.62 | N16: =Données!C15*Données!D15+Données!E15*Données!F15+Données!G15*Données!H15+Données!I15*Données!J15 -> 31961.33 | O16: =Données!D15+Données!F15+Données!H15+Données!J15 -> 76 | P16: =Données!D$3+Données!F$3+Données!H$3+Données!J$3 -> 67 | Q16: =(Données!C15/Données!C$3)*Données!D$3+(Données!E15/Données!E$3)*Données!F$3+(Données!G15/Données!G$3)*Données!H$3+(Données!I15/Données!I$3)*Données!J$3 -> 70.180303 | R16: =(Données!C15/Données!C$3)*Données!D15+(Données!E15/Données!E$3)*Données!F15+(Données!G15/Données!G$3)*Données!H15+(Données!I15/Données!I$3)*Données!J15 -> 80.001951
... B27: =B26 + 1 -> 24 | C27: =(K27/L27)*100 -> 111.34228 | D27: =(N27/M27)*100 -> 114.1629 | F27: =(Q27/P27)*100 -> 107.55331 | G27: =(R27/O27)*100 -> 109.44251 | I27: 24 | K27: =Données!C26*Données!D$3 + Données!E26*Données!F$3 + Données!G26*Données!H$3 + Données!I26*Données!J$3 -> 25425.99 | L27: =Données!C$3*Données!D$3+Données!E$3*Données!F$3+Données!G$3*Données!H$3+Données!I$3*Données!J$3 -> 22835.88 | M27: =Données!C$3*Données!D26+Données!E$3*Données!F26+Données!G$3*Données!H26+Données!I$3*Données!J26 -> 44026.78 | N27: =Données!C26*Données!D26+Données!E26*Données!F26+Données!G26*Données!H26+Données!I26*Données!J26 -> 50262.25 | O27: =Données!D26+Données!F26+Données!H26+Données!J26 -> 103 | P27: =Données!D$3+Données!F$3+Données!H$3+Données!J$3 -> 67 | Q27: =(Données!C26/Données!C$3)*Données!D$3+(Données!E26/Données!E$3)*Données!F$3+(Données!G26/Données!G$3)*Données!H$3+(Données!I26/Données!I$3)*Données!J$3 -> 72.060717 | R27: =(Données!C26/Données!C$3)*Données!D26+(Données!E26/Données!E$3)*Données!F26+(Données!G26/Données!G$3)*Données!H26+(Données!I26/Données!I$3)*Données!J26 -> 112.72579
B29: Moyenne y | C29: =SUM(C4:C27)/24 -> 113.27887 | D29: =SUM(D4:D27)/24 -> 114.94515 | F29: =SUM(F4:F27)/24 -> 108.52992 | G29: =SUM(G4:G27)/24 -> 109.84376
B30: Moyenne xy | C30: =SUM(B$4*C4,B$5*C5,B$6*C6,B$7*C7,B$8*C8,B$9*C9,B$10*C10,B$11*C11,B$12*C12,B$13*C13,B$14*C14,B$15*C15,B$16*C16,B$17*C17,B$18*C18,B$19*C19,B$20*C20,B$21*C21,B$22*C22,B$23*C23,B$24*C24,B$25*C25,B$26*C26,B$27*C27)/24 -> 1433.5023 | D30: =SUM(B$4*D4,B$5*D5,B$6*D6,B$7*D7,B$8*D8,B$9*D9,B$10*D10,B$11*D11,B$12*D12,B$13*D13,B$14*D14,B$15*D15,B$16*D16,B$17*D17,B$18*D18,B$19*D19,B$20*D20,B$21*D21,B$22*D22,B$23*D23,B$24*D24,B$25*D25,B$26*D26,B$27*D27)/24 -> 1462.3145 | F30: =SUM(B$4*F4,B$5*F5,B$6*F6,B$7*F7,B$8*F8,B$9*F9,B$10*F10,B$11*F11,B$12*F12,B$13*F13,B$14*F14,B$15*F15,B$16*F16,B$17*F17,B$18*F18,B$19*F19,B$20*F20,B$21*F21,B$22*F22,B$23*F23,B$24*F24,B$25*F25,B$26*F26,B$27*F27)/24 -> 1364.3761 | G30: =SUM(B$4*G4,B$5*G5,B$6*G6,B$7*G7,B$8*G8,B$9*G9,B$10*G10,B$11*G11,B$12*G12,B$13*G13,B$14*G14,B$15*G15,B$16*G16,B$17*G17,B$18*G18,B$19*G19,B$20*G20,B$21*G21,B$22*G22,B$23*G23,B$24*G24,B$25*G25,B$26*G26,B$27*G27)/24 -> 1387.0312
C32: Ajustement | D32: Ajustement | F32: Ajustement | G32: Ajustement | I32: Moyenne des x | J32: Moyenne des x²
B33: A = | C33: =(C30-(C29*I$33))/(J$33-I$34) -> 0.3655596 | D33: =(D30-(D29*I$33))/(J$33-I$34) -> 0.53217634 | F33: =(F30-(F29*I$33))/(J$33-I$34) -> 0.1617827 | G33: =(G30-(G29*I$33))/(J$33-I$34) -> 0.29184514 | I33: =SUM(Données!B3:B26)/24 -> 12.5 | J33: =SUMSQ(B4:B27)/24 -> 204.16667
B34: B = | C34: =C29-(C33*I33) -> 108.70938 | D34: =D29-(D33*I33) -> 108.29295 | F34: =F29-(F33*I33) -> 106.50764 | G34: =G29-(G33*I33) -> 106.1957 | I34: =POWER(I33,2) -> 156.25
B36: 1 | C36: =B36*C$33+C$34 -> 109.07494 | D36: =B36*D$33+D$34 -> 108.82512 | F36: =F$33*B36+F$34 -> 106.66942 | G36: =G$33*B36+G$34 -> 106.48754
B37: =B36+1 -> 2 | C37: =B37*C$33+C$34 -> 109.4405 | D37: =B37*D$33+D$34 -> 109.3573 | F37: =F$33*B37+F$34 -> 106.8312 | G37: =G$33*B37+G$34 -> 106.77939
B38: =B37+1 -> 3 | C38: =B38*C$33+C$34 -> 109.80606 | D38: =B38*D$33+D$34 -> 109.88948 | F38: =F$33*B38+F$34 -> 106.99299 | G38: =G$33*B38+G$34 -> 107.07123
B39: =B38+1 -> 4 | C39: =B39*C$33+C$34 -> 110.17162 | D39: =B39*D$33+D$34 -> 110.42165 | F39: =F$33*B39+F$34 -> 107.15477 | G39: =G$33*B39+G$34 -> 107.36308
B40: =B39+1 -> 5 | C40: =B40*C$33+C$34 -> 110.53718 | D40: =B40*D$33+D$34 -> 110.95383 | F40: =F$33*B40+F$34 -> 107.31655 | G40: =G$33*B40+G$34 -> 107.65492
B41: =B40+1 -> 6 | C41: =B41*C$33+C$34 -> 110.90274 | D41: =B41*D$33+D$34 -> 111.48601 | F41: =F$33*B41+F$34 -> 107.47833 | G41: =G$33*B41+G$34 -> 107.94677
B42: =B41+1 -> 7 | C42: =B42*C$33+C$34 -> 111.2683 | D42: =B42*D$33+D$34 -> 112.01818 | F42: =F$33*B42+F$34 -> 107.64012 | G42: =G$33*B42+G$34 -> 108.23861
B43: =B42+1 -> 8 | C43: =B43*C$33+C$34 -> 111.63386 | D43: =B43*D$33+D$34 -> 112.55036 | F43: =F$33*B43+F$34 -> 107.8019 | G43: =G$33*B43+G$34 -> 108.53046
B44: =B43+1 -> 9 | C44: =B44*C$33+C$34 -> 111.99942 | D44: =B44*D$33+D$34 -> 113.08253 | F44: =F$33*B44+F$34 -> 107.96368 | G44: =G$33*B44+G$34 -> 108.8223
B45: =B44+1 -> 10 | C45: =B45*C$33+C$34 -> 112.36498 | D45: =B45*D$33+D$34 -> 113.61471 | F45: =F$33*B45+F$34 -> 108.12546 | G45: =G$33*B45+G$34 -> 109.11415
B46: =B45+1 -> 11 | C46: =B46*C$33+C$34 -> 112.73054 | D46: =B46*D$33+D$34 -> 114.14689 | F46: =F$33*B46+F$34 -> 108.28725 | G46: =G$33*B46+G$34 -> 109.40599
B47: =B46+1 -> 12 | C47: =B47*C$33+C$34 -> 113.0961 | D47: =B47*D$33+D$34 -> 114.67906 | F47: =F$33*B47+F$34 -> 108.44903 | G47: =G$33*B47+G$34 -> 109.69784
B48: =B47+1 -> 13 | C48: =B48*C$33+C$34 -> 113.46165 | D48: =B48*D$33+D$34 -> 115.21124 | F48: =F$33*B48+F$34 -> 108.61081 | G48: =G$33*B48+G$34 -> 109.98968
... B71: =B70+1 -> 36 | C71: =B71*C$33+C$34 -> 121.86953 | D71: =B71*D$33+D$34 -> 127.4513 | F71: =F$33*B71+F$34 -> 112.33182 | G71: =G$33*B71+G$34 -> 116.70212

Sheet Courbes
