Workbook

Sheet Feuil1
A1: Step 1 | B1: Process | C1: Time | D1: Priority | F1: Fair Clock | H1: Executed Process
B2: P1 | C2: 10 | D2: 1 | F2: =(C2+C3+C4)/3 -> 5.3333333 | H2: P1
B3: P2 | C3: 4 | D3: 2
B4: P3 | C4: 2 | D4: 3
A5: Step 2 | B5: Process | C5: Time | D5: Priority
B6: P1 | C6: =C2-F2 -> 4.6666667 | D6: 1 | F6: =(C6+C7+C8)/3 -> 3.5555556 | H6: P1
B7: P2 | C7: 4 | D7: 2
B8: P3 | C8: 2 | D8: 3
A9: Step 3 | B9: Process | C9: Time | D9: Priority
B10: P1 | C10: =C6-F6 -> 1.1111111 | D10: 3 | F10: =(C10+C11+C12)/3 -> 2.3703704 | H10: P2
B11: P2 | C11: 4 | D11: 1
B12: P3 | C12: 2 | D12: 2
A13: Step 4 | B13: Process | C13: Time | D13: Priority
B14: P1 | C14: =C10 -> 1.1111111 | D14: 3 | F14: =(C14+C15+C16)/3 -> 1.5802469 | H14: P3
B15: P2 | C15: =C11-F10 -> 1.6296296 | D15: 2
B16: P3 | C16: 2 | D16: 1
A17: Step 5 | B17: Process | C17: Time | D17: Priority
B18: P1 | C18: =C14 -> 1.1111111 | D18: 2 | F18: =(C18+C19+C20)/3 -> 1.0534979 | H18: P2
B19: P2 | C19: =C15 -> 1.6296296 | D19: 1
B20: P3 | C20: =2-F14 -> 0.41975309 | D20: 3
A21: Step 6 | B21: Process | C21: Time | D21: Priority
B22: P1 | C22: =C18 -> 1.1111111 | D22: 1 | F22: =(C22+C23+C24)/3 -> 0.70233196 | H22: P1
B23: P2 | C23: =C19-F18 -> 0.57613169 | D23: 2
B24: P3 | C24: =C20 -> 0.41975309 | D24: 3
A25: Step 7 | B25: Process | C25: Time | D25: Priority
B26: P1 | C26: =C22-F22 -> 0.40877915 | D26: 3 | F26: =(C26+C27+C28)/3 -> 0.46822131 | H26: P2
B27: P2 | C27: =C23 -> 0.57613169 | D27: 1
B28: P3 | C28: =C24 -> 0.41975309 | D28: 2
A29: Step 8 | B29: Process | C29: Time | D29: Priority
B30: P1 | C30: =C26 -> 0.40877915 | D30: 2 | F30: =(C30+C31+C32)/3 -> 0.31214754 | H30: P3
B31: P2 | C31: =C27-F26 -> 0.10791038 | D31: 3
B32: P3 | C32: =C28 -> 0.41975309 | D32: 1
A33: Step 9 | C33: Time | D33: Priority
B34: P1 | C34: =C30 -> 0.40877915 | D34: 1 | F34: =(C34+C35+C36)/3 -> 0.20809836 | H34: P1
B35: P2 | C35: =C31 -> 0.10791038 | D35: 2
B36: P3 | C36: =C32-F30 -> 0.10760555 | D36: 3
A37: Step 10 | B37: Process | C37: Time | D37: Priority
B38: P1 | C38: =C34-F34 -> 0.20068079 | D38: 1 | F38: =(C38+C39+C40)/3 -> 0.13873224 | H38: P1
B39: P2 | C39: =C35 -> 0.10791038 | D39: 2
B40: P3 | C40: =C36 -> 0.10760555 | D40: 3
...

Sheet Feuil2
A3: 1 FC | B3: 1 FC | C3: 1 FC | D3: 1 FC | E3: 1 FC | F3: 1 FC | G3: 1 FC | H3: 1 FC | I3: 1 FC | J3: 1 FC | K3: 1 FC | L3: 1 FC | M3: 1 FC | N3: 1 FC | O3: 1 FC
A4: ↔ | B4: ↔ | C4: ↔ | D4: ↔ | E4: ↔ | F4: ↔ | G4: ↔ | H4: ↔ | I4: ↔ | J4: ↔ | K4: ↔ | L4: ↔ | M4: ↔ | N4: ↔ | O4: ↔
A5: P1 | B5: P1 | C5: P2 | D5: P3 | E5: P2 | F5: P1 | G5: P2 | H5: P3 | I5: P1 | J5: P1 | K5: P2 | L5: P3 | M5: P1 | N5: P3 | O5: P3
A6: 0 | B6: =A6+Feuil1!F2 -> 5.3333333 | C6: =B6+Feuil1!F6 -> 8.8888889 | D6: =C6+Feuil1!F10 -> 11.259259 | E6: =D6+Feuil1!F14 -> 12.839506 | F6: =E6+Feuil1!F18 -> 13.893004 | G6: =F6+Feuil1!F22 -> 14.595336 | H6: =G6+Feuil1!F26 -> 15.063557 | I6: =H6+Feuil1!F30 -> 15.375705 | J6: =I6+Feuil1!F34 -> 15.583803 | K6: =J6+Feuil1!F38 -> 15.722536 | L6: =K6+Feuil1!F42 -> 15.815024 | M6: =L6+Feuil1!F46 -> 15.876682 | N6: =M6+Feuil1!F50 -> 15.917788 | O6: =N6+Feuil1!F54 -> 15.945192 | P6: 16 ns

Sheet Feuil3
