Workbook

Sheet énoncé
A1: PA | B1: PB | C1: PO | E1: risque σ(p) | F1: gain E(Rp)
A2: 0 | B2: 0 | C2: =1-B2-A2 -> 1 | E2: =SQRT(A2^2*0.07^2+B2*0.12^2+2*A2*B2*0.07*0.12*$N$7) -> 0 | F2: =0.1*A2+0.17*B2+0.05*C2 -> 0.05 | M2: paramètres
A3: 0 | B3: 0.1 | C3: =1-B3-A3 -> 0.9 | E3: =SQRT(A3^2*0.07^2+B3*0.12^2+2*A3*B3*0.07*0.12*$N$7) -> 0.037947332 | F3: =0.1*A3+0.17*B3+0.05*C3 -> 0.062 | M3: E(Ra) | N3: 0.1
A4: 0 | B4: 0.2 | C4: =1-B4-A4 -> 0.8 | E4: =SQRT(A4^2*0.07^2+B4*0.12^2+2*A4*B4*0.07*0.12*$N$7) -> 0.053665631 | F4: =0.1*A4+0.17*B4+0.05*C4 -> 0.074 | M4: σa | N4: 0.07
A5: 0 | B5: 0.3 | C5: =1-B5-A5 -> 0.7 | E5: =SQRT(A5^2*0.07^2+B5*0.12^2+2*A5*B5*0.07*0.12*$N$7) -> 0.065726707 | F5: =0.1*A5+0.17*B5+0.05*C5 -> 0.086 | M5: E(Rb) | N5: 0.17
A6: 0 | B6: 0.4 | C6: =1-B6-A6 -> 0.6 | E6: =SQRT(A6^2*0.07^2+B6*0.12^2+2*A6*B6*0.07*0.12*$N$7) -> 0.075894664 | F6: =0.1*A6+0.17*B6+0.05*C6 -> 0.098 | M6: σb | N6: 0.12
A7: 0 | B7: 0.5 | C7: =1-B7-A7 -> 0.5 | E7: =SQRT(A7^2*0.07^2+B7*0.12^2+2*A7*B7*0.07*0.12*$N$7) -> 0.084852814 | F7: =0.1*A7+0.17*B7+0.05*C7 -> 0.11 | M7: corrélationAB | N7: 0.5
A8: 0 | B8: 0.6 | C8: =1-B8-A8 -> 0.4 | E8: =SQRT(A8^2*0.07^2+B8*0.12^2+2*A8*B8*0.07*0.12*$N$7) -> 0.0929516 | F8: =0.1*A8+0.17*B8+0.05*C8 -> 0.122 | M8: E(Ro) | N8: 0.05
A9: 0 | B9: 0.7 | C9: =1-B9-A9 -> 0.3 | E9: =SQRT(A9^2*0.07^2+B9*0.12^2+2*A9*B9*0.07*0.12*$N$7) -> 0.1003992 | F9: =0.1*A9+0.17*B9+0.05*C9 -> 0.134 | M9: Exigence | N9: 0.1
A10: 0 | B10: 0.8 | C10: =1-B10-A10 -> 0.2 | E10: =SQRT(A10^2*0.07^2+B10*0.12^2+2*A10*B10*0.07*0.12*$N$7) -> 0.10733126 | F10: =0.1*A10+0.17*B10+0.05*C10 -> 0.146
A11: 0 | B11: 0.9 | C11: =1-B11-A11 -> 0.1 | E11: =SQRT(A11^2*0.07^2+B11*0.12^2+2*A11*B11*0.07*0.12*$N$7) -> 0.113842 | F11: =0.1*A11+0.17*B11+0.05*C11 -> 0.158
A12: 0 | B12: 1 | C12: =1-B12-A12 -> 0 | E12: =SQRT(A12^2*0.07^2+B12*0.12^2+2*A12*B12*0.07*0.12*$N$7) -> 0.12 | F12: =0.1*A12+0.17*B12+0.05*C12 -> 0.17 | M12: pa | N12: =matrices!I15 -> 0.19230769
A13: 0.1 | B13: 0 | C13: =1-B13-A13 -> 0.9 | E13: =SQRT(A13^2*0.07^2+B13*0.12^2+2*A13*B13*0.07*0.12*$N$7) -> 0.007 | F13: =0.1*A13+0.17*B13+0.05*C13 -> 0.055 | M13: pb | N13: =matrices!I16 -> 0.33653846
A14: 0.1 | B14: 0.1 | C14: =1-B14-A14 -> 0.8 | E14: =SQRT(A14^2*0.07^2+B14*0.12^2+2*A14*B14*0.07*0.12*$N$7) -> 0.039661064 | F14: =0.1*A14+0.17*B14+0.05*C14 -> 0.067 | M14: po | N14: =matrices!I17 -> 0.47115385
A15: 0.1 | B15: 0.2 | C15: =1-B15-A15 -> 0.7 | E15: =SQRT(A15^2*0.07^2+B15*0.12^2+2*A15*B15*0.07*0.12*$N$7) -> 0.055650696 | F15: =0.1*A15+0.17*B15+0.05*C15 -> 0.079 | M15: alpha1 | N15: =matrices!I18 -> 0.0047115385
A16: 0.1 | B16: 0.3 | C16: =1-B16-A16 -> 0.6 | E16: =SQRT(A16^2*0.07^2+B16*0.12^2+2*A16*B16*0.07*0.12*$N$7) -> 0.067977938 | F16: =0.1*A16+0.17*B16+0.05*C16 -> 0.091 | M16: alpha2 | N16: =matrices!I19 -> -0.094230769
A17: 0.1 | B17: 0.4 | C17: =1-B17-A17 -> 0.5 | E17: =SQRT(A17^2*0.07^2+B17*0.12^2+2*A17*B17*0.07*0.12*$N$7) -> 0.07839005 | F17: =0.1*A17+0.17*B17+0.05*C17 -> 0.103
A18: 0.1 | B18: 0.5 | C18: =1-B18-A18 -> 0.4 | E18: =SQRT(A18^2*0.07^2+B18*0.12^2+2*A18*B18*0.07*0.12*$N$7) -> 0.087572827 | F18: =0.1*A18+0.17*B18+0.05*C18 -> 0.115
A19: 0.1 | B19: 0.6 | C19: =1-B19-A19 -> 0.3 | E19: =SQRT(A19^2*0.07^2+B19*0.12^2+2*A19*B19*0.07*0.12*$N$7) -> 0.095880134 | F19: =0.1*A19+0.17*B19+0.05*C19 -> 0.127
A20: 0.1 | B20: 0.7 | C20: =1-B20-A20 -> 0.2 | E20: =SQRT(A20^2*0.07^2+B20*0.12^2+2*A20*B20*0.07*0.12*$N$7) -> 0.10352294 | F20: =0.1*A20+0.17*B20+0.05*C20 -> 0.139
A21: 0.1 | B21: 0.8 | C21: =1-B21-A21 -> 0.1 | E21: =SQRT(A21^2*0.07^2+B21*0.12^2+2*A21*B21*0.07*0.12*$N$7) -> 0.11063905 | F21: =0.1*A21+0.17*B21+0.05*C21 -> 0.151
A22: 0.1 | B22: 0.9 | C22: =1-B22-A22 -> 0 | E22: =SQRT(A22^2*0.07^2+B22*0.12^2+2*A22*B22*0.07*0.12*$N$7) -> 0.11732434 | F22: =0.1*A22+0.17*B22+0.05*C22 -> 0.163
A23: 0.2 | B23: 0 | C23: =1-B23-A23 -> 0.8 | E23: =SQRT(A23^2*0.07^2+B23*0.12^2+2*A23*B23*0.07*0.12*$N$7) -> 0.014 | F23: =0.1*A23+0.17*B23+0.05*C23 -> 0.06
A24: 0.2 | B24: 0.1 | C24: =1-B24-A24 -> 0.7 | E24: =SQRT(A24^2*0.07^2+B24*0.12^2+2*A24*B24*0.07*0.12*$N$7) -> 0.042473521 | F24: =0.1*A24+0.17*B24+0.05*C24 -> 0.072
A25: 0.2 | B25: 0.2 | C25: =1-B25-A25 -> 0.6 | E25: =SQRT(A25^2*0.07^2+B25*0.12^2+2*A25*B25*0.07*0.12*$N$7) -> 0.058412327 | F25: =0.1*A25+0.17*B25+0.05*C25 -> 0.084
A26: 0.2 | B26: 0.3 | C26: =1-B26-A26 -> 0.5 | E26: =SQRT(A26^2*0.07^2+B26*0.12^2+2*A26*B26*0.07*0.12*$N$7) -> 0.070851958 | F26: =0.1*A26+0.17*B26+0.05*C26 -> 0.096
A27: 0.2 | B27: 0.4 | C27: =1-B27-A27 -> 0.4 | E27: =SQRT(A27^2*0.07^2+B27*0.12^2+2*A27*B27*0.07*0.12*$N$7) -> 0.08141253 | F27: =0.1*A27+0.17*B27+0.05*C27 -> 0.108
A28: 0.2 | B28: 0.5 | C28: =1-B28-A28 -> 0.3 | E28: =SQRT(A28^2*0.07^2+B28*0.12^2+2*A28*B28*0.07*0.12*$N$7) -> 0.09075241 | F28: =0.1*A28+0.17*B28+0.05*C28 -> 0.12
... A66: 0.9 | B66: 0.1 | C66: =1-B66-A66 -> 0 | E66: =SQRT(A66^2*0.07^2+B66*0.12^2+2*A66*B66*0.07*0.12*$N$7) -> 0.078517514 | F66: =0.1*A66+0.17*B66+0.05*C66 -> 0.107

Sheet matrices
A1: 1 | B1: 1 | D1: 1
A2: 2 | B2: 1 | D2: 0
A4: {=MINVERSE(A1:B2)} -> -1 | B4: 1 | D4: =MMULT(A4:B4,$D$1:$D$2) -> -1
A5: 2 | B5: -1 | D5: =MMULT(A5:B5,$D$1:$D$2) -> 2
A8: maintenant on bosse !!! | D8: A | I8: B
A9: =2*énoncé!N4^2 -> 0.0098 | B9: =2*énoncé!N4*énoncé!N6*énoncé!N7 -> 0.0084 | C9: 0 | D9: 1 | E9: =énoncé!N3 -> 0.1 | I9: 0
A10: =2*énoncé!N4*énoncé!N6*énoncé!N7 -> 0.0084 | B10: =2*énoncé!N6^2 -> 0.0288 | C10: 0 | D10: 1 | E10: =énoncé!N5 -> 0.17 | I10: 0
A11: 0 | B11: 0 | C11: 0 | D11: 1 | E11: =énoncé!N8 -> 0.05 | I11: 0
A12: 1 | B12: 1 | C12: 1 | D12: 0 | E12: 0 | I12: 1
A13: =énoncé!N3 -> 0.1 | B13: =énoncé!N5 -> 0.17 | C13: =énoncé!N8 -> 0.05 | D13: 0 | E13: 0 | I13: =énoncé!N9 -> 0.1
A15: {=MINVERSE(A9:E13)} -> 128.20513 | B15: -53.418803 | C15: -74.786325 | D15: -0.19230769 | E15: 3.8461538 | I15: =MMULT(A15:E15,$I$9:$I$13) -> 0.19230769
A16: -53.418803 | B16: 22.257835 | C16: 31.160969 | D16: -0.33653846 | E16: 6.7307692 | I16: =MMULT(A16:E16,$I$9:$I$13) -> 0.33653846
A17: -74.786325 | B17: 31.160969 | C17: 43.625356 | D17: 1.5288462 | E17: -10.576923 | I17: =MMULT(A17:E17,$I$9:$I$13) -> 0.47115385
A18: -0.19230769 | B18: -0.33653846 | C18: 1.5288462 | D18: -0.0047115385 | E18: 0.094230769 | I18: =MMULT(A18:E18,$I$9:$I$13) -> 0.0047115385
A19: 3.8461538 | B19: 6.7307692 | C19: -10.576923 | D19: 0.094230769 | E19: -1.8846154 | I19: =MMULT(A19:E19,$I$9:$I$13) -> -0.094230769

Sheet Feuil3
