Workbook

Sheet Feuil1
A1: ISIN | B1: date | C1: cours LVMH | D1: TEC 10 (taux à l'échéance constante 10ans) | E1: Hermes (FR0000052292) | F1: Christian DIOR (FR0000130403) | G1: Le Tanneur (FR0000075673) | I1: ROI = Rt | J1: Rm | AA1: périodes (d'un mois) | AB1: mois (en chiffre / 36) | AC1: LVMH mensuel | AD1: TEC10 mensuel | AE1: Hermes mensuel | AF1: Christian DIOR mensuel | AG1: Le Tanneur mensuel
A2: FR0000121014 | B2: 39798 | C2: 47.66 | D2: 0.0365 | E2: 106.06 | F2: 39.14 | G2: 3.98 | AA2: dec-janv 2008 | AB2: 1 | AC2: =AVERAGE(C2:C21) -> 46.3675 | AD2: =AVERAGE(D2:D21) -> 0.034945 | AE2: =AVERAGE(E2:E21) -> 100.096 | AF2: =AVERAGE(F2:F21) -> 40.1885 | AG2: =AVERAGE(G2:G21) -> 3.575
A3: FR0000121014 | B3: 39799 | C3: 46.9 | D3: 0.0348 | E3: 109.11 | F3: 40 | G3: 4.11 | I3: =C3/$C$2-1 -> -0.015946286 | J3: =D3/$D$2-1 -> -0.046575342
A4: FR0000121014 | B4: 39800 | C4: 47.42 | D4: 0.0351 | E4: 106.2 | F4: 39.9 | G4: 3.75 | I4: =C4/$C$2-1 -> -0.0050356693 | J4: =D4/$D$2-1 -> -0.038356164
A5: FR0000121014 | B5: 39801 | C5: 47.02 | D5: 0.0346 | E5: 106 | F5: 39.01 | G5: 3.7 | I5: =C5/$C$2-1 -> -0.013428452 | J5: =D5/$D$2-1 -> -0.052054795
A6: FR0000121014 | B6: 39804 | C6: 45.32 | D6: 0.0347 | E6: 104.5 | F6: 39.34 | G6: 3.2 | I6: =C6/$C$2-1 -> -0.049097776 | J6: =D6/$D$2-1 -> -0.049315068
A7: FR0000121014 | B7: 39805 | C7: 44.72 | D7: 0.0339 | E7: 103.7 | F7: 38.58 | G7: 3.15 | I7: =C7/$C$2-1 -> -0.061686949 | J7: =D7/$D$2-1 -> -0.071232877
A8: FR0000121014 | B8: 39806 | C8: 46 | D8: 0.0339 | E8: 102 | F8: 38.3 | G8: 3.13 | I8: =C8/$C$2-1 -> -0.034830046 | J8: =D8/$D$2-1 -> -0.071232877
A9: FR0000121014 | B9: 39811 | C9: 45.97 | D9: 0.0339 | E9: 99.99 | F9: 38.32 | G9: 3.14 | I9: =C9/$C$2-1 -> -0.035459505 | J9: =D9/$D$2-1 -> -0.071232877
A10: FR0000121014 | B10: 39812 | C10: 46.79 | D10: 0.0339 | E10: 102 | F10: 39.79 | G10: 2.99 | I10: =C10/$C$2-1 -> -0.018254301 | J10: =D10/$D$2-1 -> -0.071232877
A11: FR0000121014 | B11: 39813 | C11: 47.77 | D11: 0.0342 | E11: 99.48 | F11: 40.25 | G11: 3.13 | I11: =C11/$C$2-1 -> 0.0023080151 | J11: =D11/$D$2-1 -> -0.063013699
A12: FR0000121014 | B12: 39815 | C12: 48.4 | D12: 0.0342 | E12: 100 | F12: 40.5 | G12: 3.4 | I12: =C12/$C$2-1 -> 0.015526647 | J12: =D12/$D$2-1 -> -0.063013699
A13: FR0000121014 | B13: 39818 | C13: 48.86 | D13: 0.0345 | E13: 102.5 | F13: 42.42 | G13: 3.4 | I13: =C13/$C$2-1 -> 0.025178347 | J13: =D13/$D$2-1 -> -0.054794521
A14: FR0000121014 | B14: 39819 | C14: 49.45 | D14: 0.0349 | E14: 101.55 | F14: 42.76 | G14: 3.45 | I14: =C14/$C$2-1 -> 0.0375577 | J14: =D14/$D$2-1 -> -0.043835616
... A21: FR0000121014 | B21: 39828 | C21: 41 | D21: 0.0355 | E21: 86.17 | F21: 35.9 | G21: 4.1 | I21: =C21/$C$2-1 -> -0.13973982 | J21: =D21/$D$2-1 -> -0.02739726
A22: FR0000121014 | B22: 39829 | C22: 40.76 | D22: 0.0341 | E22: 88.92 | F22: 37 | G22: 3.75 | I22: =C22/$C$2-1 -> -0.14477549 | J22: =D22/$D$2-1 -> -0.065753425 | AA22: janv-fev 2009 | AB22: 2 | AC22: =AVERAGE(C22:C42) -> 44.349048 | AD22: =AVERAGE(D22:D42) -> 0.037142857 | AE22: =AVERAGE(E22:E42) -> 80.384762 | AF22: =AVERAGE(F22:F42) -> 39.448571 | AG22: =AVERAGE(G22:G42) -> 3.7719048
A23: FR0000121014 | B23: 39832 | C23: 40 | D23: 0.0345 | E23: 86.9 | F23: 37.84 | G23: 3.74 | I23: =C23/$C$2-1 -> -0.16072178 | J23: =D23/$D$2-1 -> -0.054794521
A24: FR0000121014 | B24: 39833 | C24: 40.74 | D24: 0.0355 | E24: 85.13 | F24: 36.6 | G24: 3.55 | I24: =C24/$C$2-1 -> -0.14519513 | J24: =D24/$D$2-1 -> -0.02739726
A25: FR0000121014 | B25: 39834 | C25: 41.51 | D25: 0.0356 | E25: 82.53 | F25: 37.49 | G25: 3.56 | I25: =C25/$C$2-1 -> -0.12903903 | J25: =D25/$D$2-1 -> -0.024657534
A26: FR0000121014 | B26: 39835 | C26: 41.92 | D26: 0.0357 | E26: 82.08 | F26: 38.55 | G26: 3.5 | I26: =C26/$C$2-1 -> -0.12043642 | J26: =D26/$D$2-1 -> -0.021917808
A27: FR0000121014 | B27: 39836 | C27: 41.07 | D27: 0.0368 | E27: 80.96 | F27: 37 | G27: 3.56 | I27: =C27/$C$2-1 -> -0.13827109 | J27: =D27/$D$2-1 -> 0.0082191781
A28: FR0000121014 | B28: 39839 | C28: 43.94 | D28: 0.0371 | E28: 77.15 | F28: 35.75 | G28: 2.99 | I28: =C28/$C$2-1 -> -0.078052875 | J28: =D28/$D$2-1 -> 0.016438356
A29: FR0000121014 | B29: 39840 | C29: 43.35 | D29: 0.0383 | E29: 82 | F29: 38.11 | G29: 2.99 | I29: =C29/$C$2-1 -> -0.090432228 | J29: =D29/$D$2-1 -> 0.049315068
A30: FR0000121014 | B30: 39841 | C30: 45.61 | D30: 0.0386 | E30: 81.14 | F30: 37.96 | G30: 3.24 | I30: =C30/$C$2-1 -> -0.043013009 | J30: =D30/$D$2-1 -> 0.057534247
A31: FR0000121014 | B31: 39842 | C31: 42.88 | D31: 0.0381 | E31: 80 | F31: 39.5 | G31: 3.32 | I31: =C31/$C$2-1 -> -0.10029375 | J31: =D31/$D$2-1 -> 0.043835616
A32: FR0000121014 | B32: 39843 | C32: 42.81 | D32: 0.0373 | E32: 79.47 | F32: 38.85 | G32: 3.49 | I32: =C32/$C$2-1 -> -0.10176248 | J32: =D32/$D$2-1 -> 0.021917808
A33: FR0000121014 | B33: 39846 | C33: 42 | D33: 0.0381 | E33: 78.14 | F33: 39.08 | G33: 4.35 | I33: =C33/$C$2-1 -> -0.11875787 | J33: =D33/$D$2-1 -> 0.043835616
A34: FR0000121014 | B34: 39847 | C34: 42.33 | D34: 0.0378 | E34: 78.135 | F34: 38.76 | G34: 4.43 | I34: =C34/$C$2-1 -> -0.11183382 | J34: =D34/$D$2-1 -> 0.035616438
... A42: FR0000121014 | B42: 39857 | C42: 48.585 | D42: 0.0364 | E42: 78.23 | F42: 42.9 | G42: 4.38 | I42: =C42/$C$2-1 -> 0.019408309 | J42: =D42/$D$2-1 -> -0.002739726
A43: FR0000121014 | B43: 39860 | C43: 47.83 | D43: 0.0363 | E43: 77.695 | F43: 42.05 | G43: 3.42 | I43: =C43/$C$2-1 -> 0.0035669324 | J43: =D43/$D$2-1 -> -0.0054794521 | AA43: fev-mars 2009 | AB43: 3 | AC43: =AVERAGE(C43:C62) -> 46.2335 | AD43: =AVERAGE(D43:D62) -> 0.0362 | AE43: =AVERAGE(E43:E62) -> 70.77925 | AF43: =AVERAGE(F43:F62) -> 40.14725 | AG43: =AVERAGE(G43:G62) -> 3.2735
A44: FR0000121014 | B44: 39861 | C44: 47.39 | D44: 0.0359 | E44: 75 | F44: 41.63 | G44: 3.42 | I44: =C44/$C$2-1 -> -0.005665128 | J44: =D44/$D$2-1 -> -0.016438356
A45: FR0000121014 | B45: 39862 | C45: 46.85 | D45: 0.0358 | E45: 73.86 | F45: 41.39 | G45: 3.43 | I45: =C45/$C$2-1 -> -0.016995384 | J45: =D45/$D$2-1 -> -0.019178082
A46: FR0000121014 | B46: 39863 | C46: 47.295 | D46: 0.0352 | E46: 72.265 | F46: 40.9 | G46: 3.43 | I46: =C46/$C$2-1 -> -0.0076584138 | J46: =D46/$D$2-1 -> -0.035616438
A47: FR0000121014 | B47: 39864 | C47: 45.76 | D47: 0.0361 | E47: 72.885 | F47: 40.56 | G47: 2.99 | I47: =C47/$C$2-1 -> -0.039865715 | J47: =D47/$D$2-1 -> -0.010958904
A48: FR0000121014 | B48: 39867 | C48: 45.245 | D48: 0.0357 | E48: 71.75 | F48: 39.5 | G48: 2.8 | I48: =C48/$C$2-1 -> -0.050671423 | J48: =D48/$D$2-1 -> -0.021917808
A49: FR0000121014 | B49: 39868 | C49: 45.9 | D49: 0.0362 | E49: 70.005 | F49: 39 | G49: 3.3 | I49: =C49/$C$2-1 -> -0.036928242 | J49: =D49/$D$2-1 -> -0.0082191781
A50: FR0000121014 | B50: 39869 | C50: 46.25 | D50: 0.0353 | E50: 70.295 | F50: 39.79 | G50: 3.09 | I50: =C50/$C$2-1 -> -0.029584557 | J50: =D50/$D$2-1 -> -0.032876712
A51: FR0000121014 | B51: 39870 | C51: 46.455 | D51: 0.0358 | E51: 68.94 | F51: 39.73 | G51: 4.44 | I51: =C51/$C$2-1 -> -0.025283256 | J51: =D51/$D$2-1 -> -0.019178082
A52: FR0000121014 | B52: 39871 | C52: 45.38 | D52: 0.0365 | E52: 66.755 | F52: 39.42 | G52: 3.8 | I52: =C52/$C$2-1 -> -0.047838859 | J52: =D52/$D$2-1 -> 0
A53: FR0000121014 | B53: 39874 | C53: 43.405 | D53: 0.0367 | E53: 65.545 | F53: 38.82 | G53: 3.8 | I53: =C53/$C$2-1 -> -0.089278221 | J53: =D53/$D$2-1 -> 0.0054794521
...

Sheet Feuil2
A1: =Feuil1!AA1 -> périodes (d'un mois) | B1: =Feuil1!AB1 -> mois (en chiffre / 36) | C1: =Feuil1!AC1 -> LVMH mensuel | D1: =Feuil1!AD1 -> TEC10 mensuel | E1: =Feuil1!AE1 -> Hermes mensuel | F1: =Feuil1!AF1 -> Christian DIOR mensuel
A2: =Feuil1!AA2 -> dec-janv 2008 | B2: =Feuil1!AB2 -> 1 | C2: =Feuil1!AC2 -> 46.3675 | D2: =Feuil1!AD2*1000 -> 34.945 | E2: =Feuil1!AE2 -> 100.096 | F2: =Feuil1!AF2 -> 40.1885
A3: =Feuil1!AA22 -> janv-fev 2009 | B3: =Feuil1!AB22 -> 2 | C3: =Feuil1!AC22 -> 44.349048 | D3: =Feuil1!AD22*1000 -> 37.142857 | E3: =Feuil1!AE22 -> 80.384762 | F3: =Feuil1!AF22 -> 39.448571
A4: =Feuil1!AA43 -> fev-mars 2009 | B4: =Feuil1!AB43 -> 3 | C4: =Feuil1!AC43 -> 46.2335 | D4: =Feuil1!AD43*1000 -> 36.2 | E4: =Feuil1!AE43 -> 70.77925 | F4: =Feuil1!AF43 -> 40.14725
A5: =Feuil1!AA63 -> mars-avr 2009 | B5: =Feuil1!AB63 -> 4 | C5: =Feuil1!AC63 -> 49.46619 | D5: =Feuil1!AD63*1000 -> 36.571429 | E5: =Feuil1!AE63 -> 82.115952 | F5: =Feuil1!AF63 -> 43.242381
A6: =Feuil1!AA84 -> avr-mai 2009 | B6: =Feuil1!AB84 -> 5 | C6: =Feuil1!AC84 -> 56.784048 | D6: =Feuil1!AD84*1000 -> 36.552381 | E6: =Feuil1!AE84 -> 97.570476 | F6: =Feuil1!AF84 -> 51.130714
A7: =Feuil1!AA105 -> mai-juin 2009 | B7: =Feuil1!AB105 -> 6 | C7: =Feuil1!AC105 -> 59.319762 | D7: =Feuil1!AD105*1000 -> 39.3 | E7: =Feuil1!AE105 -> 97.144048 | F7: =Feuil1!AF105 -> 54.644762
A8: =Feuil1!AA126 -> juin-juil 2009 | B8: =Feuil1!AB126 -> 7 | C8: =Feuil1!AC126 -> 55.1125 | D8: =Feuil1!AD126*1000 -> 37.463636 | E8: =Feuil1!AE126 -> 94.289545 | F8: =Feuil1!AF126 -> 53.3825
A9: =Feuil1!AA148 -> juil-aout 2009 | B9: =Feuil1!AB148 -> 8 | C9: =Feuil1!AC148 -> 62.012273 | D9: =Feuil1!AD148*1000 -> 36.363636 | E9: =Feuil1!AE148 -> 102.32864 | F9: =Feuil1!AF148 -> 58.944545
A10: =Feuil1!AA170 -> aout-sept 2009 | B10: =Feuil1!AB170 -> 9 | C10: =Feuil1!AC170 -> 66.398182 | D10: =Feuil1!AD170*1000 -> 35.390909 | E10: =Feuil1!AE170 -> 100.53636 | F10: =Feuil1!AF170 -> 63.452273
A11: =Feuil1!AA192 -> sept-oct 2009 | B11: =Feuil1!AB192 -> 10 | C11: =Feuil1!AC192 -> 69.550909 | D11: =Feuil1!AD192*1000 -> 35.481818 | E11: =Feuil1!AE192 -> 99.272273 | F11: =Feuil1!AF192 -> 68.031364
A12: =Feuil1!AA214 -> oct-nov 2009 | B12: =Feuil1!AB214 -> 11 | C12: =Feuil1!AC214 -> 72.428095 | D12: =Feuil1!AD214*1000 -> 35.92381 | E12: =Feuil1!AE214 -> 97.53 | F12: =Feuil1!AF214 -> 69.180952
A13: =Feuil1!AA235 -> nov-dec 2009 | B13: =Feuil1!AB235 -> 12 | C13: =Feuil1!AC235 -> 73.081818 | D13: =Feuil1!AD235*1000 -> 34.968182 | E13: =Feuil1!AE235 -> 96.165 | F13: =Feuil1!AF235 -> 69.351364
A14: =Feuil1!AA257 -> dec-janv 2009 | B14: =Feuil1!AB257 -> 13 | C14: =Feuil1!AC257 -> 78.584762 | D14: =Feuil1!AD257*1000 -> 35.5 | E14: =Feuil1!AE257 -> 94.295238 | F14: =Feuil1!AF257 -> 72.778095
A15: =Feuil1!AA278 -> janv-fev 2010 | B15: =Feuil1!AB278 -> 14 | C15: =Feuil1!AC278 -> 78.551429 | D15: =Feuil1!AD278*1000 -> 34.880952 | E15: =Feuil1!AE278 -> 97.454762 | F15: =Feuil1!AF278 -> 72.496667
A16: =Feuil1!AA299 -> fev-mars 2010 | B16: =Feuil1!AB299 -> 15 | C16: =Feuil1!AC299 -> 82.2805 | D16: =Feuil1!AD299*1000 -> 34.34 | E16: =Feuil1!AE299 -> 100.136 | F16: =Feuil1!AF299 -> 74.269
A17: =Feuil1!AA319 -> mars-avr 2010 | B17: =Feuil1!AB319 -> 16 | C17: =Feuil1!AC319 -> 87.629048 | D17: =Feuil1!AD319*1000 -> 34.242857 | E17: =Feuil1!AE319 -> 102.57333 | F17: =Feuil1!AF319 -> 80.872381
A18: =Feuil1!AA340 -> avr-mai 2010 | B18: =Feuil1!AB340 -> 17 | C18: =Feuil1!AC340 -> 86.989048 | D18: =Feuil1!AD340*1000 -> 32.92381 | E18: =Feuil1!AE340 -> 101.42381 | F18: =Feuil1!AF340 -> 80.658571
A19: =Feuil1!AA361 -> mai-juin 2010 | B19: =Feuil1!AB361 -> 18 | C19: =Feuil1!AC361 -> 87.159091 | D19: =Feuil1!AD361*1000 -> 30.127273 | E19: =Feuil1!AE361 -> 107.06364 | F19: =Feuil1!AF361 -> 78.291818
A20: =Feuil1!AA383 -> juin-juil 2010 | B20: =Feuil1!AB383 -> 19 | C20: =Feuil1!AC383 -> 90.558182 | D20: =Feuil1!AD383*1000 -> 30.509091 | E20: =Feuil1!AE383 -> 111.27273 | F20: =Feuil1!AF383 -> 80.685455
A21: =Feuil1!AA405 -> juil-aout 2010 | B21: =Feuil1!AB405 -> 20 | C21: =Feuil1!AC405 -> 93.360476 | D21: =Feuil1!AD405*1000 -> 29.442857 | E21: =Feuil1!AE405 -> 129.20714 | F21: =Feuil1!AF405 -> 82.240952
A22: =Feuil1!AA426 -> aout-sept 2010 | B22: =Feuil1!AB426 -> 21 | C22: =Feuil1!AC426 -> 95.405217 | D22: =Feuil1!AD426*1000 -> 26.282609 | E22: =Feuil1!AE426 -> 145.53696 | F22: =Feuil1!AF426 -> 83.833043
A23: =Feuil1!AA449 -> sept-oct 2010 | B23: =Feuil1!AB449 -> 22 | C23: =Feuil1!AC449 -> 106.78636 | D23: =Feuil1!AD449*1000 -> 27.131818 | E23: =Feuil1!AE449 -> 166.06364 | F23: =Feuil1!AF449 -> 94.965
A24: =Feuil1!AA471 -> oct-nov 2010 | B24: =Feuil1!AB471 -> 23 | C24: =Feuil1!AC471 -> 114.6881 | D24: =Feuil1!AD471*1000 -> 28.585714 | E24: =Feuil1!AE471 -> 165.82619 | F24: =Feuil1!AF471 -> 105.59095
A25: =Feuil1!AA492 -> nov-dec 2010 | B25: =Feuil1!AB492 -> 24 | C25: =Feuil1!AC492 -> 119.92273 | D25: =Feuil1!AD492*1000 -> 31.909091 | E25: =Feuil1!AE492 -> 147.25909 | F25: =Feuil1!AF492 -> 109.34773
A26: =Feuil1!AA514 -> dec-janv 2010 | B26: =Feuil1!AB514 -> 25 | C26: =Feuil1!AC514 -> 122.93864 | D26: =Feuil1!AD514*1000 -> 33.618182 | E26: =Feuil1!AE514 -> 157.55455 | F26: =Feuil1!AF514 -> 107.44545
A27: =Feuil1!AA536 -> janv-fev 2011 | B27: =Feuil1!AB536 -> 26 | C27: =Feuil1!AC536 -> 116.16364 | D27: =Feuil1!AD536*1000 -> 35.563636 | E27: =Feuil1!AE536 -> 151.15682 | F27: =Feuil1!AF536 -> 103.01909
A28: =Feuil1!AA558 -> fev-mars 2011 | B28: =Feuil1!AB558 -> 27 | C28: =Feuil1!AC558 -> 113.1575 | D28: =Feuil1!AD558*1000 -> 35.87 | E28: =Feuil1!AE558 -> 150.38 | F28: =Feuil1!AF558 -> 103.829
A29: =Feuil1!AA578 -> mars-avr 2011 | B29: =Feuil1!AB578 -> 28 | C29: =Feuil1!AC578 -> 110.06739 | D29: =Feuil1!AD578*1000 -> 36.808696 | E29: =Feuil1!AE578 -> 152.22391 | F29: =Feuil1!AF578 -> 98.680435
A30: =Feuil1!AA601 -> avr-mai 2011 | B30: =Feuil1!AB601 -> 29 | C30: =Feuil1!AC601 -> 119.04444 | D30: =Feuil1!AD601*1000 -> 35.911111 | E30: =Feuil1!AE601 -> 158.24722 | F30: =Feuil1!AF601 -> 106.16722
A31: =Feuil1!AA619 -> mai-juin 2011 | B31: =Feuil1!AB619 -> 30 | C31: =Feuil1!AC619 -> 117.86739 | D31: =Feuil1!AD619*1000 -> 34.204348 | E31: =Feuil1!AE619 -> 180.16304 | F31: =Feuil1!AF619 -> 105.3587
A32: =Feuil1!AA642 -> juin-juil 2011 | B32: =Feuil1!AB642 -> 31 | C32: =Feuil1!AC642 -> 121.49091 | D32: =Feuil1!AD642*1000 -> 33.877273 | E32: =Feuil1!AE642 -> 202.19318 | F32: =Feuil1!AF642 -> 106.27409
A33: =Feuil1!AA664 -> juil-aout 2011 | B33: =Feuil1!AB664 -> 32 | C33: =Feuil1!AC664 -> 121.17857 | D33: =Feuil1!AD664*1000 -> 31.847619 | E33: =Feuil1!AE664 -> 232.53095 | F33: =Feuil1!AF664 -> 106.50762
A34: =Feuil1!AA685 -> aout-sept 2011 | B34: =Feuil1!AB685 -> 33 | C34: =Feuil1!AC685 -> 112.27391 | D34: =Feuil1!AD685*1000 -> 27.308696 | E34: =Feuil1!AE685 -> 259.66304 | F34: =Feuil1!AF685 -> 96.701304
A35: =Feuil1!AA708 -> sept-oct 2011 | B35: =Feuil1!AB708 -> 34 | C35: =Feuil1!AC708 -> 107.95381 | D35: =Feuil1!AD708*1000 -> 26.780952 | E35: =Feuil1!AE708 -> 238.9 | F35: =Feuil1!AF708 -> 91.92381
A36: =Feuil1!AA729 -> oct-nov 2011 | B36: =Feuil1!AB729 -> 35 | C36: =Feuil1!AC729 -> 116.49318 | D36: =Feuil1!AD729*1000 -> 31.909091 | E36: =Feuil1!AE729 -> 245.01364 | F36: =Feuil1!AF729 -> 97.576364
A37: =Feuil1!AA751 -> nov-dec 2011 | B37: =Feuil1!AB751 -> 36 | C37: =Feuil1!AC751 -> 111.625 | D37: =Feuil1!AD751*1000 -> 34.263636 | E37: =Feuil1!AE751 -> 223.90909 | F37: =Feuil1!AF751 -> 93.338182

Sheet Feuil3
A1: semaine | B1: Rm | C1: Rt
A2: =Feuil1!B514 -> 40528 | B2: =SUM(Feuil1!J492:J496)/5 -> -0.16328767
A3: =Feuil1!B518 -> 40534 | B3: =SUM(Feuil1!J497:J501)/5 -> -0.15287671
A4: =Feuil1!B523 -> 40541 | B4: =SUM(Feuil1!J502:J506)/5 -> -0.11506849
A5: =Feuil1!B528 -> 40548 | B5: =SUM(Feuil1!J507:J511)/5 -> -0.089863014
A6: =Feuil1!B533 -> 40555 | B6: =SUM(Feuil1!J512:J516)/5 -> -0.076164384
A7: =Feuil1!B538 -> 40562 | B7: =SUM(Feuil1!J517:J521)/5 -> -0.081643836
A8: =Feuil1!B543 -> 40569 | B8: =SUM(Feuil1!J522:J526)/5 -> -0.08109589
A9: =Feuil1!B548 -> 40576 | B9: =SUM(Feuil1!J527:J531)/5 -> -0.082191781
A10: =Feuil1!B553 -> 40583 | B10: =SUM(Feuil1!J532:J536)/5 -> -0.071232877
A11: =Feuil1!B558 -> 40590 | B11: =SUM(Feuil1!J537:J541)/5 -> -0.044931507
A12: =Feuil1!B563 -> 40597 | B12: =SUM(Feuil1!J542:J546)/5 -> -0.037260274
A13: =Feuil1!B568 -> 40604 | B13: =SUM(Feuil1!J547:J551)/5 -> -0.016986301
A14: =Feuil1!B573 -> 40611 | B14: =SUM(Feuil1!J552:J556)/5 -> -0.002739726
A15: =Feuil1!B578 -> 40618 | B15: =SUM(Feuil1!J553:J557)/5 -> 0.0010958904
A16: =Feuil1!B583 -> 40625 | B16: =SUM(Feuil1!J558:J562)/5 -> -0.016438356
A17: =Feuil1!B587 -> 40631 | B17: =SUM(Feuil1!J563:J567)/5 -> -0.033424658
A18: =Feuil1!B592 -> 40638 | B18: =SUM(Feuil1!J568:J572)/5 -> -0.002739726
A19: =Feuil1!B597 -> 40645 | B19: =SUM(Feuil1!J573:J577)/5 -> -0.016438356
A20: =Feuil1!B602 -> 40652 | B20: =SUM(Feuil1!J578:J582)/5 -> -0.032876712
A21: =Feuil1!B607 -> 40661 | B21: =SUM(Feuil1!J583:J587)/5 -> 8.8817842e-17
A22: =Feuil1!B612 -> 40668 | B22: =SUM(Feuil1!J588:J592)/5 -> 0.022465753
A23: =Feuil1!B617 -> 40675 | B23: =SUM(Feuil1!J593:J597)/5 -> 0.032328767
A24: =Feuil1!B622 -> 40682 | B24: =SUM(Feuil1!J598:J602)/5 -> 0.018630137
A25: =Feuil1!B627 -> 40689 | B25: =SUM(Feuil1!J603:J607)/5 -> -0.0076712329
A26: =Feuil1!B632 -> 40696 | B26: =SUM(Feuil1!J608:J612)/5 -> -0.0060273973
A27: =Feuil1!B637 -> 40703 | B27: =SUM(Feuil1!J613:J617)/5 -> -0.037808219
A28: =Feuil1!B642 -> 40710 | B28: =SUM(Feuil1!J618:J622)/5 -> -0.043835616
A29: =Feuil1!B647 -> 40717 | B29: =SUM(Feuil1!J623:J627)/5 -> -0.05369863
A30: =Feuil1!B652 -> 40724 | B30: =SUM(Feuil1!J628:J632)/5 -> -0.071232877
A31: =Feuil1!B657 -> 40731 | B31: =SUM(Feuil1!J633:J637)/5 -> -0.069589041
A32: =Feuil1!B662 -> 40738 | B32: =SUM(Feuil1!J638:J642)/5 -> -0.073424658
A33: =Feuil1!B667 -> 40745 | B33: =SUM(Feuil1!J643:J647)/5 -> -0.070136986
A34: =Feuil1!B672 -> 40752 | B34: =SUM(Feuil1!J648:J652)/5 -> -0.071780822
A35: =Feuil1!B677 -> 40759 | B35: =SUM(Feuil1!J653:J657)/5 -> -0.059726027
A36: =Feuil1!B682 -> 40766 | B36: =SUM(Feuil1!J658:J662)/5 -> -0.08109589
A37: =Feuil1!B687 -> 40773 | B37: =SUM(Feuil1!J663:J667)/5 -> -0.093150685
A38: =Feuil1!B692 -> 40780 | B38: =SUM(Feuil1!J668:J672)/5 -> -0.096438356
A39: =Feuil1!B697 -> 40787 | B39: =SUM(Feuil1!J673:J677)/5 -> -0.13479452
A40: =Feuil1!B702 -> 40794 | B40: =SUM(Feuil1!J678:J682)/5 -> -0.14958904
...
