Workbook

Sheet Feuil1
A1: ISIN | B1: date | C1: cours LVMH | D1: TEC 10 (taux à l'échéance constante 10ans) | E1: Hermes (FR0000052292) | F1: Christian DIOR (FR0000130403) | G1: Le Tanneur (FR0000075673) | I1: ROI = Rt | J1: Rm | AA1: périodes (d'un mois) | AB1: mois (en chiffre / 36) | AC1: LVMH mensuel | AD1: TEC10 mensuel | AE1: Hermes mensuel | AF1: Christian DIOR mensuel | AG1: Le Tanneur mensuel
A2: FR0000121014 | B2: 39798 | C2: 47.66 | D2: 0.0365 | E2: 106.06 | F2: 39.14 | G2: 3.98 | AA2: dec-janv 2008 | AB2: 1 | AC2: =AVERAGE(C2:C21) -> 46.3675 | AD2: =AVERAGE(D2:D21) -> 0.034945 | AE2: =AVERAGE(E2:E21) -> 100.096 | AF2: =AVERAGE(F2:F21) -> 40.1885 | AG2: =AVERAGE(G2:G21) -> 3.575
A3: FR0000121014 | B3: 39799 | C3: 46.9 | D3: 0.0348 | E3: 109.11 | F3: 40 | G3: 4.11 | I3: =C3/$C$2-1 -> -0.015946286 | J3: =D3/$D$2-1 -> -0.046575342
A4: FR0000121014 | B4: 39800 | C4: 47.42 | D4: 0.0351 | E4: 106.2 | F4: 39.9 | G4: 3.75 | I4: =C4/$C$2-1 -> -0.0050356693 | J4: =D4/$D$2-1 -> -0.038356164
A5: FR0000121014 | B5: 39801 | C5: 47.02 | D5: 0.0346 | E5: 106 | F5: 39.01 | G5: 3.7 | I5: =C5/$C$2-1 -> -0.013428452 | J5: =D5/$D$2-1 -> -0.052054795
A6: FR0000121014 | B6: 39804 | C6: 45.32 | D6: 0.0347 | E6: 104.5 | F6: 39.34 | G6: 3.2 | I6: =C6/$C$2-1 -> -0.049097776 | J6: =D6/$D$2-1 -> -0.049315068
A7: FR0000121014 | B7: 39805 | C7: 44.72 | D7: 0.0339 | E7: 103.7 | F7: 38.58 | G7: 3.15 | I7: =C7/$C$2-1 -> -0.061686949 | J7: =D7/$D$2-1 -> -0.071232877
A8: FR0000121014 | B8: 39806 | C8: 46 | D8: 0.0339 | E8: 102 | F8: 38.3 | G8: 3.13 | I8: =C8/$C$2-1 -> -0.034830046 | J8: =D8/$D$2-1 -> -0.071232877
A9: FR0000121014 | B9: 39811 | C9: 45.97 | D9: 0.0339 | E9: 99.99 | F9: 38.32 | G9: 3.14 | I9: =C9/$C$2-1 -> -0.035459505 | J9: =D9/$D$2-1 -> -0.071232877
A10: FR0000121014 | B10: 39812 | C10: 46.79 | D10: 0.0339 | E10: 102 | F10: 39.79 | G10: 2.99 | I10: =C10/$C$2-1 -> -0.018254301 | J10: =D10/$D$2-1 -> -0.071232877
A11: FR0000121014 | B11: 39813 | C11: 47.77 | D11: 0.0342 | E11: 99.48 | F11: 40.25 | G11: 3.13 | I11: =C11/$C$2-1 -> 0.0023080151 | J11: =D11/$D$2-1 -> -0.063013699
A12: FR0000121014 | B12: 39815 | C12: 48.4 | D12: 0.0342 | E12: 100 | F12: 40.5 | G12: 3.4 | I12: =C12/$C$2-1 -> 0.015526647 | J12: =D12/$D$2-1 -> -0.063013699
A13: FR0000121014 | B13: 39818 | C13: 48.86 | D13: 0.0345 | E13: 102.5 | F13: 42.42 | G13: 3.4 | I13: =C13/$C$2-1 -> 0.025178347 | J13: =D13/$D$2-1 -> -0.054794521
A14: FR0000121014 | B14: 39819 | C14: 49.45 | D14: 0.0349 | E14: 101.55 | F14: 42.76 | G14: 3.45 | I14: =C14/$C$2-1 -> 0.0375577 | J14: =D14/$D$2-1 -> -0.043835616
... A21: FR0000121014 | B21: 39828 | C21: 41 | D21: 0.0355 | E21: 86.17 | F21: 35.9 | G21: 4.1 | I21: =C21/$C$2-1 -> -0.13973982 | J21: =D21/$D$2-1 -> -0.02739726
A22: FR0000121014 | B22: 39829 | C22: 40.76 | D22: 0.0341 | E22: 88.92 | F22: 37 | G22: 3.75 | I22: =C22/$C$2-1 -> -0.14477549 | J22: =D22/$D$2-1 -> -0.065753425 | AA22: janv-fev 2009 | AB22: 2 | AC22: =AVERAGE(C22:C42) -> 44.349048 | AD22: =AVERAGE(D22:D42) -> 0.037142857 | AE22: =AVERAGE(E22:E42) -> 80.384762 | AF22: =AVERAGE(F22:F42) -> 39.448571 | AG22: =AVERAGE(G22:G42) -> 3.7719048
A23: FR0000121014 | B23: 39832 | C23: 40 | D23: 0.0345 | E23: 86.9 | F23: 37.84 | G23: 3.74 | I23: =C23/$C$2-1 -> -0.16072178 | J23: =D23/$D$2-1 -> -0.054794521
A24: FR0000121014 | B24: 39833 | C24: 40.74 | D24: 0.0355 | E24: 85.13 | F24: 36.6 | G24: 3.55 | I24: =C24/$C$2-1 -> -0.14519513 | J24: =D24/$D$2-1 -> -0.02739726
A25: FR0000121014 | B25: 39834 | C25: 41.51 | D25: 0.0356 | E25: 82.53 | F25: 37.49 | G25: 3.56 | I25: =C25/$C$2-1 -> -0.12903903 | J25: =D25/$D$2-1 -> -0.024657534
A26: FR0000121014 | B26: 39835 | C26: 41.92 | D26: 0.0357 | E26: 82.08 | F26: 38.55 | G26: 3.5 | I26: =C26/$C$2-1 -> -0.12043642 | J26: =D26/$D$2-1 -> -0.021917808
A27: FR0000121014 | B27: 39836 | C27: 41.07 | D27: 0.0368 | E27: 80.96 | F27: 37 | G27: 3.56 | I27: =C27/$C$2-1 -> -0.13827109 | J27: =D27/$D$2-1 -> 0.0082191781
A28: FR0000121014 | B28: 39839 | C28: 43.94 | D28: 0.0371 | E28: 77.15 | F28: 35.75 | G28: 2.99 | I28: =C28/$C$2-1 -> -0.078052875 | J28: =D28/$D$2-1 -> 0.016438356
A29: FR0000121014 | B29: 39840 | C29: 43.35 | D29: 0.0383 | E29: 82 | F29: 38.11 | G29: 2.99 | I29: =C29/$C$2-1 -> -0.090432228 | J29: =D29/$D$2-1 -> 0.049315068
A30: FR0000121014 | B30: 39841 | C30: 45.61 | D30: 0.0386 | E30: 81.14 | F30: 37.96 | G30: 3.24 | I30: =C30/$C$2-1 -> -0.043013009 | J30: =D30/$D$2-1 -> 0.057534247
A31: FR0000121014 | B31: 39842 | C31: 42.88 | D31: 0.0381 | E31: 80 | F31: 39.5 | G31: 3.32 | I31: =C31/$C$2-1 -> -0.10029375 | J31: =D31/$D$2-1 -> 0.043835616
A32: FR0000121014 | B32: 39843 | C32: 42.81 | D32: 0.0373 | E32: 79.47 | F32: 38.85 | G32: 3.49 | I32: =C32/$C$2-1 -> -0.10176248 | J32: =D32/$D$2-1 -> 0.021917808
A33: FR0000121014 | B33: 39846 | C33: 42 | D33: 0.0381 | E33: 78.14 | F33: 39.08 | G33: 4.35 | I33: =C33/$C$2-1 -> -0.11875787 | J33: =D33/$D$2-1 -> 0.043835616
A34: FR0000121014 | B34: 39847 | C34: 42.33 | D34: 0.0378 | E34: 78.135 | F34: 38.76 | G34: 4.43 | I34: =C34/$C$2-1 -> -0.11183382 | J34: =D34/$D$2-1 -> 0.035616438
... A42: FR0000121014 | B42: 39857 | C42: 48.585 | D42: 0.0364 | E42: 78.23 | F42: 42.9 | G42: 4.38 | I42: =C42/$C$2-1 -> 0.019408309 | J42: =D42/$D$2-1 -> -0.002739726
A43: FR0000121014 | B43: 39860 | C43: 47.83 | D43: 0.0363 | E43: 77.695 | F43: 42.05 | G43: 3.42 | I43: =C43/$C$2-1 -> 0.0035669324 | J43: =D43/$D$2-1 -> -0.0054794521 | AA43: fev-mars 2009 | AB43: 3 | AC43: =AVERAGE(C43:C62) -> 46.2335 | AD43: =AVERAGE(D43:D62) -> 0.0362 | AE43: =AVERAGE(E43:E62) -> 70.77925 | AF43: =AVERAGE(F43:F62) -> 40.14725 | AG43: =AVERAGE(G43:G62) -> 3.2735
A44: FR0000121014 | B44: 39861 | C44: 47.39 | D44: 0.0359 | E44: 75 | F44: 41.63 | G44: 3.42 | I44: =C44/$C$2-1 -> -0.005665128 | J44: =D44/$D$2-1 -> -0.016438356
A45: FR0000121014 | B45: 39862 | C45: 46.85 | D45: 0.0358 | E45: 73.86 | F45: 41.39 | G45: 3.43 | I45: =C45/$C$2-1 -> -0.016995384 | J45: =D45/$D$2-1 -> -0.019178082
A46: FR0000121014 | B46: 39863 | C46: 47.295 | D46: 0.0352 | E46: 72.265 | F46: 40.9 | G46: 3.43 | I46: =C46/$C$2-1 -> -0.0076584138 | J46: =D46/$D$2-1 -> -0.035616438
A47: FR0000121014 | B47: 39864 | C47: 45.76 | D47: 0.0361 | E47: 72.885 | F47: 40.56 | G47: 2.99 | I47: =C47/$C$2-1 -> -0.039865715 | J47: =D47/$D$2-1 -> -0.010958904
A48: FR0000121014 | B48: 39867 | C48: 45.245 | D48: 0.0357 | E48: 71.75 | F48: 39.5 | G48: 2.8 | I48: =C48/$C$2-1 -> -0.050671423 | J48: =D48/$D$2-1 -> -0.021917808
A49: FR0000121014 | B49: 39868 | C49: 45.9 | D49: 0.0362 | E49: 70.005 | F49: 39 | G49: 3.3 | I49: =C49/$C$2-1 -> -0.036928242 | J49: =D49/$D$2-1 -> -0.0082191781
A50: FR0000121014 | B50: 39869 | C50: 46.25 | D50: 0.0353 | E50: 70.295 | F50: 39.79 | G50: 3.09 | I50: =C50/$C$2-1 -> -0.029584557 | J50: =D50/$D$2-1 -> -0.032876712
A51: FR0000121014 | B51: 39870 | C51: 46.455 | D51: 0.0358 | E51: 68.94 | F51: 39.73 | G51: 4.44 | I51: =C51/$C$2-1 -> -0.025283256 | J51: =D51/$D$2-1 -> -0.019178082
A52: FR0000121014 | B52: 39871 | C52: 45.38 | D52: 0.0365 | E52: 66.755 | F52: 39.42 | G52: 3.8 | I52: =C52/$C$2-1 -> -0.047838859 | J52: =D52/$D$2-1 -> 0
A53: FR0000121014 | B53: 39874 | C53: 43.405 | D53: 0.0367 | E53: 65.545 | F53: 38.82 | G53: 3.8 | I53: =C53/$C$2-1 -> -0.089278221 | J53: =D53/$D$2-1 -> 0.0054794521
A54: FR0000121014 | B54: 39875 | C54: 44 | D54: 0.0362 | E54: 66 | F54: 38.25 | G54: 3.75 | I54: =C54/$C$2-1 -> -0.076793957 | J54: =D54/$D$2-1 -> -0.0082191781
A55: FR0000121014 | B55: 39876 | C55: 47.24 | D55: 0.0365 | E55: 66.055 | F55: 38.6 | G55: 3.18 | I55: =C55/$C$2-1 -> -0.0088124213 | J55: =D55/$D$2-1 -> 0
... A62: FR0000121014 | B62: 39885 | C62: 48.39 | D62: 0.0365 | E62: 73.485 | F62: 42.42 | G62: 3.04 | I62: =C62/$C$2-1 -> 0.015316828 | J62: =D62/$D$2-1 -> 0
A63: FR0000121014 | B63: 39888 | C63: 48.95 | D63: 0.0366 | E63: 72.18 | F63: 40.83 | G63: 3.04 | I63: =C63/$C$2-1 -> 0.027066723 | J63: =D63/$D$2-1 -> 0.002739726 | AA63: mars-avr 2009 | AB63: 4 | AC63: =AVERAGE(C63:C83) -> 49.46619 | AD63: =AVERAGE(D63:D83) -> 0.036571429 | AE63: =AVERAGE(E63:E83) -> 82.115952 | AF63: =AVERAGE(F63:F83) -> 43.242381 | AG63: =AVERAGE(G63:G83) -> 3.0642857
A64: FR0000121014 | B64: 39889 | C64: 47.69 | D64: 0.0366 | E64: 72.91 | F64: 41 | G64: 3.05 | I64: =C64/$C$2-1 -> 0.00062945867 | J64: =D64/$D$2-1 -> 0.002739726
A65: FR0000121014 | B65: 39890 | C65: 49.345 | D65: 0.0366 | E65: 72.17 | F65: 41.5 | G65: 3.07 | I65: =C65/$C$2-1 -> 0.035354595 | J65: =D65/$D$2-1 -> 0.002739726
A66: FR0000121014 | B66: 39891 | C66: 48.97 | D66: 0.0375 | E66: 74.6 | F66: 42.1 | G66: 3 | I66: =C66/$C$2-1 -> 0.027486362 | J66: =D66/$D$2-1 -> 0.02739726
A67: FR0000121014 | B67: 39892 | C67: 49.015 | D67: 0.0361 | E67: 73.005 | F67: 42.685 | G67: 3.1 | I67: =C67/$C$2-1 -> 0.02843055 | J67: =D67/$D$2-1 -> -0.010958904
A68: FR0000121014 | B68: 39895 | C68: 48.805 | D68: 0.0358 | E68: 77.99 | F68: 43.9 | G68: 3.1 | I68: =C68/$C$2-1 -> 0.024024339 | J68: =D68/$D$2-1 -> -0.019178082
A69: FR0000121014 | B69: 39896 | C69: 49.06 | D69: 0.0356 | E69: 78.495 | F69: 43 | G69: 3.12 | I69: =C69/$C$2-1 -> 0.029374738 | J69: =D69/$D$2-1 -> -0.024657534
A70: FR0000121014 | B70: 39897 | C70: 48.865 | D70: 0.0363 | E70: 79.03 | F70: 43.3 | G70: 3.12 | I70: =C70/$C$2-1 -> 0.025283256 | J70: =D70/$D$2-1 -> -0.0054794521
A71: FR0000121014 | B71: 39898 | C71: 47.88 | D71: 0.0367 | E71: 81.765 | F71: 43.23 | G71: 3.12 | I71: =C71/$C$2-1 -> 0.0046160302 | J71: =D71/$D$2-1 -> 0.0054794521
A72: FR0000121014 | B72: 39899 | C72: 46.81 | D72: 0.0367 | E72: 84.295 | F72: 42.3 | G72: 3.1 | I72: =C72/$C$2-1 -> -0.017834662 | J72: =D72/$D$2-1 -> 0.0054794521
A73: FR0000121014 | B73: 39902 | C73: 45.34 | D73: 0.0362 | E73: 84.19 | F73: 41.01 | G73: 3.11 | I73: =C73/$C$2-1 -> -0.048678137 | J73: =D73/$D$2-1 -> -0.0082191781
A74: FR0000121014 | B74: 39903 | C74: 47.29 | D74: 0.0361 | E74: 86 | F74: 40.6 | G74: 3.12 | I74: =C74/$C$2-1 -> -0.0077633235 | J74: =D74/$D$2-1 -> -0.010958904
A75: FR0000121014 | B75: 39904 | C75: 48.305 | D75: 0.0364 | E75: 86.2 | F75: 41.215 | G75: 3.05 | I75: =C75/$C$2-1 -> 0.013533361 | J75: =D75/$D$2-1 -> -0.002739726
... A83: FR0000121014 | B83: 39918 | C83: 52.37 | D83: 0.0369 | E83: 90 | F83: 47.54 | G83: 3.32 | I83: =C83/$C$2-1 -> 0.09882501 | J83: =D83/$D$2-1 -> 0.010958904
A84: FR0000121014 | B84: 39919 | C84: 53.065 | D84: 0.0366 | E84: 90 | F84: 47.9 | G84: 3.54 | I84: =C84/$C$2-1 -> 0.11340747 | J84: =D84/$D$2-1 -> 0.002739726 | AA84: avr-mai 2009 | AB84: 5 | AC84: =AVERAGE(C84:C104) -> 56.784048 | AD84: =AVERAGE(D84:D104) -> 0.036552381 | AE84: =AVERAGE(E84:E104) -> 97.570476 | AF84: =AVERAGE(F84:F104) -> 51.130714 | AG84: =AVERAGE(G84:G104) -> 3.1828571
A85: FR0000121014 | B85: 39920 | C85: 53.35 | D85: 0.0367 | E85: 92.87 | F85: 49 | G85: 3.59 | I85: =C85/$C$2-1 -> 0.11938733 | J85: =D85/$D$2-1 -> 0.0054794521
A86: FR0000121014 | B86: 39923 | C86: 52.45 | D86: 0.0368 | E86: 93 | F86: 48.82 | G86: 3.5 | I86: =C86/$C$2-1 -> 0.10050357 | J86: =D86/$D$2-1 -> 0.0082191781
A87: FR0000121014 | B87: 39924 | C87: 55 | D87: 0.037 | E87: 91.26 | F87: 47.92 | G87: 3.37 | I87: =C87/$C$2-1 -> 0.15400755 | J87: =D87/$D$2-1 -> 0.01369863
A88: FR0000121014 | B88: 39925 | C88: 53 | D88: 0.036 | E88: 91.3 | F88: 48.49 | G88: 3.33 | I88: =C88/$C$2-1 -> 0.11204364 | J88: =D88/$D$2-1 -> -0.01369863
A89: FR0000121014 | B89: 39926 | C89: 54.35 | D89: 0.0362 | E89: 93 | F89: 48.8 | G89: 3.35 | I89: =C89/$C$2-1 -> 0.14036928 | J89: =D89/$D$2-1 -> -0.0082191781
A90: FR0000121014 | B90: 39927 | C90: 57.905 | D90: 0.0365 | E90: 96 | F90: 50.7 | G90: 3.33 | I90: =C90/$C$2-1 -> 0.21496013 | J90: =D90/$D$2-1 -> 0
A91: FR0000121014 | B91: 39930 | C91: 57.18 | D91: 0.0361 | E91: 98.02 | F91: 51.69 | G91: 3.2 | I91: =C91/$C$2-1 -> 0.19974822 | J91: =D91/$D$2-1 -> -0.010958904
A92: FR0000121014 | B92: 39931 | C92: 55.51 | D92: 0.0356 | E92: 98.97 | F92: 52.32 | G92: 3.02 | I92: =C92/$C$2-1 -> 0.16470835 | J92: =D92/$D$2-1 -> -0.024657534
A93: FR0000121014 | B93: 39932 | C93: 57.265 | D93: 0.0356 | E93: 99.77 | F93: 51.39 | G93: 3.08 | I93: =C93/$C$2-1 -> 0.20153168 | J93: =D93/$D$2-1 -> -0.024657534
A94: FR0000121014 | B94: 39933 | C94: 57.39 | D94: 0.0356 | E94: 102.995 | F94: 51.275 | G94: 3.04 | I94: =C94/$C$2-1 -> 0.20415443 | J94: =D94/$D$2-1 -> -0.024657534
A95: FR0000121014 | B95: 39937 | C95: 58.955 | D95: 0.0362 | E95: 101 | F95: 51.975 | G95: 3.04 | I95: =C95/$C$2-1 -> 0.23699119 | J95: =D95/$D$2-1 -> -0.0082191781
A96: FR0000121014 | B96: 39938 | C96: 58.275 | D96: 0.036 | E96: 102.365 | F96: 53.505 | G96: 3.03 | I96: =C96/$C$2-1 -> 0.22272346 | J96: =D96/$D$2-1 -> -0.01369863
... A104: FR0000121014 | B104: 39948 | C104: 58.02 | D104: 0.0371 | E104: 99.475 | F104: 51.17 | G104: 3.05 | I104: =C104/$C$2-1 -> 0.21737306 | J104: =D104/$D$2-1 -> 0.016438356
A105: FR0000121014 | B105: 39951 | C105: 60.035 | D105: 0.0374 | E105: 98.95 | F105: 51.495 | G105: 2.99 | I105: =C105/$C$2-1 -> 0.2596517 | J105: =D105/$D$2-1 -> 0.024657534 | AA105: mai-juin 2009 | AB105: 6 | AC105: =AVERAGE(C105:C125) -> 59.319762 | AD105: =AVERAGE(D105:D125) -> 0.0393 | AE105: =AVERAGE(E105:E125) -> 97.144048 | AF105: =AVERAGE(F105:F125) -> 54.644762 | AG105: =AVERAGE(G105:G125) -> 2.1719048
A106: FR0000121014 | B106: 39952 | C106: 61.13 | D106: 0.038 | E106: 101.5 | F106: 53.45 | G106: 2.33 | I106: =C106/$C$2-1 -> 0.28262694 | J106: =D106/$D$2-1 -> 0.04109589
A107: FR0000121014 | B107: 39953 | C107: 60.07 | D107: 0.0383 | E107: 100.53 | F107: 53.79 | G107: 2.2 | I107: =C107/$C$2-1 -> 0.26038607 | J107: =D107/$D$2-1 -> 0.049315068
A108: FR0000121014 | B108: 39954 | C108: 58.37 | D108: 0.038 | E108: 100 | F108: 53.18 | G108: 2.2 | I108: =C108/$C$2-1 -> 0.22471674 | J108: =D108/$D$2-1 -> 0.04109589
A109: FR0000121014 | B109: 39955 | C109: 58.65 | D109: 0.0384 | E109: 100.01 | F109: 52.39 | G109: 2.48 | I109: =C109/$C$2-1 -> 0.23059169 | J109: =D109/$D$2-1 -> 0.052054795
A110: FR0000121014 | B110: 39958 | C110: 58.3 | D110: 0.0391 | E110: 100.77 | F110: 52.25 | G110: 2.58 | I110: =C110/$C$2-1 -> 0.22324801 | J110: =D110/$D$2-1 -> 0.071232877
A111: FR0000121014 | B111: 39959 | C111: 58.955 | D111: 0.039 | E111: 100.005 | F111: 51.885 | G111: 2.46 | I111: =C111/$C$2-1 -> 0.23699119 | J111: =D111/$D$2-1 -> 0.068493151
A112: FR0000121014 | B112: 39960 | C112: 59.5 | D112: 0.0396 | E112: 100.21 | F112: 53.07 | G112: 2.31 | I112: =C112/$C$2-1 -> 0.24842635 | J112: =D112/$D$2-1 -> 0.084931507
A113: FR0000121014 | B113: 39961 | C113: 58.575 | D113: 0.04 | E113: 99.08 | F113: 52.94 | G113: 2.29 | I113: =C113/$C$2-1 -> 0.22901804 | J113: =D113/$D$2-1 -> 0.095890411
A114: FR0000121014 | B114: 39962 | C114: 58.53 | D114: 0.0398 | E114: 96 | F114: 53.83 | G114: 2.25 | I114: =C114/$C$2-1 -> 0.22807386 | J114: =D114/$D$2-1 -> 0.090410959
A115: FR0000121014 | B115: 39965 | C115: 60.03 | D115: 0.0397 | E115: 95.44 | F115: 54.73 | G115: 2.09 | I115: =C115/$C$2-1 -> 0.25954679 | J115: =D115/$D$2-1 -> 0.087671233
A116: FR0000121014 | B116: 39966 | C116: 61.345 | D116: 0.0399 | E116: 96.57 | F116: 55.9 | G116: 2.01 | I116: =C116/$C$2-1 -> 0.28713806 | J116: =D116/$D$2-1 -> 0.093150685
A117: FR0000121014 | B117: 39967 | C117: 61.045 | D117: 0.0397 | E117: 97.5 | F117: 57.26 | G117: 1.98 | I117: =C117/$C$2-1 -> 0.28084347 | J117: =D117/$D$2-1 -> 0.087671233
... A125: FR0000121014 | B125: 39979 | C125: 57.55 | D125: 0.0391 | E125: 94.27 | F125: 57.145 | G125: 1.92 | I125: =C125/$C$2-1 -> 0.20751154 | J125: =D125/$D$2-1 -> 0.071232877
A126: FR0000121014 | B126: 39980 | C126: 57.63 | D126: 0.0387 | E126: 93.255 | F126: 56.705 | G126: 1.84 | I126: =C126/$C$2-1 -> 0.2091901 | J126: =D126/$D$2-1 -> 0.060273973 | AA126: juin-juil 2009 | AB126: 7 | AC126: =AVERAGE(C126:C147) -> 55.1125 | AD126: =AVERAGE(D126:D147) -> 0.037463636 | AE126: =AVERAGE(E126:E147) -> 94.289545 | AF126: =AVERAGE(F126:F147) -> 53.3825 | AG126: =AVERAGE(G126:G147) -> 1.6727273
A127: FR0000121014 | B127: 39981 | C127: 56.305 | D127: 0.0385 | E127: 91.95 | F127: 56.295 | G127: 1.81 | I127: =C127/$C$2-1 -> 0.18138901 | J127: =D127/$D$2-1 -> 0.054794521
A128: FR0000121014 | B128: 39982 | C128: 55.825 | D128: 0.0385 | E128: 91.09 | F128: 54.8 | G128: 1.52 | I128: =C128/$C$2-1 -> 0.17131767 | J128: =D128/$D$2-1 -> 0.054794521
A129: FR0000121014 | B129: 39983 | C129: 56.59 | D129: 0.0393 | E129: 91.3 | F129: 54.25 | G129: 1.51 | I129: =C129/$C$2-1 -> 0.18736886 | J129: =D129/$D$2-1 -> 0.076712329
A130: FR0000121014 | B130: 39986 | C130: 54.725 | D130: 0.0383 | E130: 92 | F130: 55.38 | G130: 1.55 | I130: =C130/$C$2-1 -> 0.14823752 | J130: =D130/$D$2-1 -> 0.049315068
A131: FR0000121014 | B131: 39987 | C131: 55.075 | D131: 0.0384 | E131: 89.06 | F131: 53.13 | G131: 1.54 | I131: =C131/$C$2-1 -> 0.1555812 | J131: =D131/$D$2-1 -> 0.052054795
A132: FR0000121014 | B132: 39988 | C132: 55.86 | D132: 0.0382 | E132: 91.095 | F132: 53.66 | G132: 1.5 | I132: =C132/$C$2-1 -> 0.17205204 | J132: =D132/$D$2-1 -> 0.046575342
A133: FR0000121014 | B133: 39989 | C133: 55.065 | D133: 0.0381 | E133: 91.855 | F133: 54.53 | G133: 1.6 | I133: =C133/$C$2-1 -> 0.15537138 | J133: =D133/$D$2-1 -> 0.043835616
A134: FR0000121014 | B134: 39990 | C134: 54.155 | D134: 0.038 | E134: 95.46 | F134: 55.25 | G134: 1.57 | I134: =C134/$C$2-1 -> 0.1362778 | J134: =D134/$D$2-1 -> 0.04109589
A135: FR0000121014 | B135: 39993 | C135: 55.6 | D135: 0.0374 | E135: 95.57 | F135: 53.63 | G135: 1.58 | I135: =C135/$C$2-1 -> 0.16659673 | J135: =D135/$D$2-1 -> 0.024657534
A136: FR0000121014 | B136: 39994 | C136: 54.4 | D136: 0.0372 | E136: 98 | F136: 54.89 | G136: 1.57 | I136: =C136/$C$2-1 -> 0.14141838 | J136: =D136/$D$2-1 -> 0.019178082
A137: FR0000121014 | B137: 39995 | C137: 56.02 | D137: 0.0374 | E137: 99.5 | F137: 53.61 | G137: 1.58 | I137: =C137/$C$2-1 -> 0.17540915 | J137: =D137/$D$2-1 -> 0.024657534
A138: FR0000121014 | B138: 39996 | C138: 54.61 | D138: 0.0374 | E138: 98.505 | F138: 54 | G138: 1.66 | I138: =C138/$C$2-1 -> 0.14582459 | J138: =D138/$D$2-1 -> 0.024657534
... A147: FR0000121014 | B147: 40009 | C147: 56.945 | D147: 0.0368 | E147: 96.995 | F147: 52.815 | G147: 1.85 | I147: =C147/$C$2-1 -> 0.19481746 | J147: =D147/$D$2-1 -> 0.0082191781
A148: FR0000121014 | B148: 40010 | C148: 57.4 | D148: 0.0371 | E148: 98 | F148: 53.61 | G148: 1.85 | I148: =C148/$C$2-1 -> 0.20436425 | J148: =D148/$D$2-1 -> 0.016438356 | AA148: juil-aout 2009 | AB148: 8 | AC148: =AVERAGE(C148:C169) -> 62.012273 | AD148: =AVERAGE(D148:D169) -> 0.036363636 | AE148: =AVERAGE(E148:E169) -> 102.32864 | AF148: =AVERAGE(F148:F169) -> 58.944545 | AG148: =AVERAGE(G148:G169) -> 2.1859091
...

Sheet Feuil2
A1: =Feuil1!AA1 -> périodes (d'un mois) | B1: =Feuil1!AB1 -> mois (en chiffre / 36) | C1: =Feuil1!AC1 -> LVMH mensuel | D1: =Feuil1!AD1 -> TEC10 mensuel | E1: =Feuil1!AE1 -> Hermes mensuel | F1: =Feuil1!AF1 -> Christian DIOR mensuel
A2: =Feuil1!AA2 -> dec-janv 2008 | B2: =Feuil1!AB2 -> 1 | C2: =Feuil1!AC2 -> 46.3675 | D2: =Feuil1!AD2*1000 -> 34.945 | E2: =Feuil1!AE2 -> 100.096 | F2: =Feuil1!AF2 -> 40.1885
A3: =Feuil1!AA22 -> janv-fev 2009 | B3: =Feuil1!AB22 -> 2 | C3: =Feuil1!AC22 -> 44.349048 | D3: =Feuil1!AD22*1000 -> 37.142857 | E3: =Feuil1!AE22 -> 80.384762 | F3: =Feuil1!AF22 -> 39.448571
A4: =Feuil1!AA43 -> fev-mars 2009 | B4: =Feuil1!AB43 -> 3 | C4: =Feuil1!AC43 -> 46.2335 | D4: =Feuil1!AD43*1000 -> 36.2 | E4: =Feuil1!AE43 -> 70.77925 | F4: =Feuil1!AF43 -> 40.14725
A5: =Feuil1!AA63 -> mars-avr 2009 | B5: =Feuil1!AB63 -> 4 | C5: =Feuil1!AC63 -> 49.46619 | D5: =Feuil1!AD63*1000 -> 36.571429 | E5: =Feuil1!AE63 -> 82.115952 | F5: =Feuil1!AF63 -> 43.242381
A6: =Feuil1!AA84 -> avr-mai 2009 | B6: =Feuil1!AB84 -> 5 | C6: =Feuil1!AC84 -> 56.784048 | D6: =Feuil1!AD84*1000 -> 36.552381 | E6: =Feuil1!AE84 -> 97.570476 | F6: =Feuil1!AF84 -> 51.130714
A7: =Feuil1!AA105 -> mai-juin 2009 | B7: =Feuil1!AB105 -> 6 | C7: =Feuil1!AC105 -> 59.319762 | D7: =Feuil1!AD105*1000 -> 39.3 | E7: =Feuil1!AE105 -> 97.144048 | F7: =Feuil1!AF105 -> 54.644762
A8: =Feuil1!AA126 -> juin-juil 2009 | B8: =Feuil1!AB126 -> 7 | C8: =Feuil1!AC126 -> 55.1125 | D8: =Feuil1!AD126*1000 -> 37.463636 | E8: =Feuil1!AE126 -> 94.289545 | F8: =Feuil1!AF126 -> 53.3825
A9: =Feuil1!AA148 -> juil-aout 2009 | B9: =Feuil1!AB148 -> 8 | C9: =Feuil1!AC148 -> 62.012273 | D9: =Feuil1!AD148*1000 -> 36.363636 | E9: =Feuil1!AE148 -> 102.32864 | F9: =Feuil1!AF148 -> 58.944545
A10: =Feuil1!AA170 -> aout-sept 2009 | B10: =Feuil1!AB170 -> 9 | C10: =Feuil1!AC170 -> 66.398182 | D10: =Feuil1!AD170*1000 -> 35.390909 | E10: =Feuil1!AE170 -> 100.53636 | F10: =Feuil1!AF170 -> 63.452273
A11: =Feuil1!AA192 -> sept-oct 2009 | B11: =Feuil1!AB192 -> 10 | C11: =Feuil1!AC192 -> 69.550909 | D11: =Feuil1!AD192*1000 -> 35.481818 | E11: =Feuil1!AE192 -> 99.272273 | F11: =Feuil1!AF192 -> 68.031364
A12: =Feuil1!AA214 -> oct-nov 2009 | B12: =Feuil1!AB214 -> 11 | C12: =Feuil1!AC214 -> 72.428095 | D12: =Feuil1!AD214*1000 -> 35.92381 | E12: =Feuil1!AE214 -> 97.53 | F12: =Feuil1!AF214 -> 69.180952
A13: =Feuil1!AA235 -> nov-dec 2009 | B13: =Feuil1!AB235 -> 12 | C13: =Feuil1!AC235 -> 73.081818 | D13: =Feuil1!AD235*1000 -> 34.968182 | E13: =Feuil1!AE235 -> 96.165 | F13: =Feuil1!AF235 -> 69.351364
A14: =Feuil1!AA257 -> dec-janv 2009 | B14: =Feuil1!AB257 -> 13 | C14: =Feuil1!AC257 -> 78.584762 | D14: =Feuil1!AD257*1000 -> 35.5 | E14: =Feuil1!AE257 -> 94.295238 | F14: =Feuil1!AF257 -> 72.778095
A15: =Feuil1!AA278 -> janv-fev 2010 | B15: =Feuil1!AB278 -> 14 | C15: =Feuil1!AC278 -> 78.551429 | D15: =Feuil1!AD278*1000 -> 34.880952 | E15: =Feuil1!AE278 -> 97.454762 | F15: =Feuil1!AF278 -> 72.496667
A16: =Feuil1!AA299 -> fev-mars 2010 | B16: =Feuil1!AB299 -> 15 | C16: =Feuil1!AC299 -> 82.2805 | D16: =Feuil1!AD299*1000 -> 34.34 | E16: =Feuil1!AE299 -> 100.136 | F16: =Feuil1!AF299 -> 74.269
A17: =Feuil1!AA319 -> mars-avr 2010 | B17: =Feuil1!AB319 -> 16 | C17: =Feuil1!AC319 -> 87.629048 | D17: =Feuil1!AD319*1000 -> 34.242857 | E17: =Feuil1!AE319 -> 102.57333 | F17: =Feuil1!AF319 -> 80.872381
A18: =Feuil1!AA340 -> avr-mai 2010 | B18: =Feuil1!AB340 -> 17 | C18: =Feuil1!AC340 -> 86.989048 | D18: =Feuil1!AD340*1000 -> 32.92381 | E18: =Feuil1!AE340 -> 101.42381 | F18: =Feuil1!AF340 -> 80.658571
A19: =Feuil1!AA361 -> mai-juin 2010 | B19: =Feuil1!AB361 -> 18 | C19: =Feuil1!AC361 -> 87.159091 | D19: =Feuil1!AD361*1000 -> 30.127273 | E19: =Feuil1!AE361 -> 107.06364 | F19: =Feuil1!AF361 -> 78.291818
A20: =Feuil1!AA383 -> juin-juil 2010 | B20: =Feuil1!AB383 -> 19 | C20: =Feuil1!AC383 -> 90.558182 | D20: =Feuil1!AD383*1000 -> 30.509091 | E20: =Feuil1!AE383 -> 111.27273 | F20: =Feuil1!AF383 -> 80.685455
A21: =Feuil1!AA405 -> juil-aout 2010 | B21: =Feuil1!AB405 -> 20 | C21: =Feuil1!AC405 -> 93.360476 | D21: =Feuil1!AD405*1000 -> 29.442857 | E21: =Feuil1!AE405 -> 129.20714 | F21: =Feuil1!AF405 -> 82.240952
A22: =Feuil1!AA426 -> aout-sept 2010 | B22: =Feuil1!AB426 -> 21 | C22: =Feuil1!AC426 -> 95.405217 | D22: =Feuil1!AD426*1000 -> 26.282609 | E22: =Feuil1!AE426 -> 145.53696 | F22: =Feuil1!AF426 -> 83.833043
A23: =Feuil1!AA449 -> sept-oct 2010 | B23: =Feuil1!AB449 -> 22 | C23: =Feuil1!AC449 -> 106.78636 | D23: =Feuil1!AD449*1000 -> 27.131818 | E23: =Feuil1!AE449 -> 166.06364 | F23: =Feuil1!AF449 -> 94.965
A24: =Feuil1!AA471 -> oct-nov 2010 | B24: =Feuil1!AB471 -> 23 | C24: =Feuil1!AC471 -> 114.6881 | D24: =Feuil1!AD471*1000 -> 28.585714 | E24: =Feuil1!AE471 -> 165.82619 | F24: =Feuil1!AF471 -> 105.59095
A25: =Feuil1!AA492 -> nov-dec 2010 | B25: =Feuil1!AB492 -> 24 | C25: =Feuil1!AC492 -> 119.92273 | D25: =Feuil1!AD492*1000 -> 31.909091 | E25: =Feuil1!AE492 -> 147.25909 | F25: =Feuil1!AF492 -> 109.34773
A26: =Feuil1!AA514 -> dec-janv 2010 | B26: =Feuil1!AB514 -> 25 | C26: =Feuil1!AC514 -> 122.93864 | D26: =Feuil1!AD514*1000 -> 33.618182 | E26: =Feuil1!AE514 -> 157.55455 | F26: =Feuil1!AF514 -> 107.44545
A27: =Feuil1!AA536 -> janv-fev 2011 | B27: =Feuil1!AB536 -> 26 | C27: =Feuil1!AC536 -> 116.16364 | D27: =Feuil1!AD536*1000 -> 35.563636 | E27: =Feuil1!AE536 -> 151.15682 | F27: =Feuil1!AF536 -> 103.01909
A28: =Feuil1!AA558 -> fev-mars 2011 | B28: =Feuil1!AB558 -> 27 | C28: =Feuil1!AC558 -> 113.1575 | D28: =Feuil1!AD558*1000 -> 35.87 | E28: =Feuil1!AE558 -> 150.38 | F28: =Feuil1!AF558 -> 103.829
A29: =Feuil1!AA578 -> mars-avr 2011 | B29: =Feuil1!AB578 -> 28 | C29: =Feuil1!AC578 -> 110.06739 | D29: =Feuil1!AD578*1000 -> 36.808696 | E29: =Feuil1!AE578 -> 152.22391 | F29: =Feuil1!AF578 -> 98.680435
A30: =Feuil1!AA601 -> avr-mai 2011 | B30: =Feuil1!AB601 -> 29 | C30: =Feuil1!AC601 -> 119.04444 | D30: =Feuil1!AD601*1000 -> 35.911111 | E30: =Feuil1!AE601 -> 158.24722 | F30: =Feuil1!AF601 -> 106.16722
A31: =Feuil1!AA619 -> mai-juin 2011 | B31: =Feuil1!AB619 -> 30 | C31: =Feuil1!AC619 -> 117.86739 | D31: =Feuil1!AD619*1000 -> 34.204348 | E31: =Feuil1!AE619 -> 180.16304 | F31: =Feuil1!AF619 -> 105.3587
A32: =Feuil1!AA642 -> juin-juil 2011 | B32: =Feuil1!AB642 -> 31 | C32: =Feuil1!AC642 -> 121.49091 | D32: =Feuil1!AD642*1000 -> 33.877273 | E32: =Feuil1!AE642 -> 202.19318 | F32: =Feuil1!AF642 -> 106.27409
A33: =Feuil1!AA664 -> juil-aout 2011 | B33: =Feuil1!AB664 -> 32 | C33: =Feuil1!AC664 -> 121.17857 | D33: =Feuil1!AD664*1000 -> 31.847619 | E33: =Feuil1!AE664 -> 232.53095 | F33: =Feuil1!AF664 -> 106.50762
A34: =Feuil1!AA685 -> aout-sept 2011 | B34: =Feuil1!AB685 -> 33 | C34: =Feuil1!AC685 -> 112.27391 | D34: =Feuil1!AD685*1000 -> 27.308696 | E34: =Feuil1!AE685 -> 259.66304 | F34: =Feuil1!AF685 -> 96.701304
A35: =Feuil1!AA708 -> sept-oct 2011 | B35: =Feuil1!AB708 -> 34 | C35: =Feuil1!AC708 -> 107.95381 | D35: =Feuil1!AD708*1000 -> 26.780952 | E35: =Feuil1!AE708 -> 238.9 | F35: =Feuil1!AF708 -> 91.92381
A36: =Feuil1!AA729 -> oct-nov 2011 | B36: =Feuil1!AB729 -> 35 | C36: =Feuil1!AC729 -> 116.49318 | D36: =Feuil1!AD729*1000 -> 31.909091 | E36: =Feuil1!AE729 -> 245.01364 | F36: =Feuil1!AF729 -> 97.576364
A37: =Feuil1!AA751 -> nov-dec 2011 | B37: =Feuil1!AB751 -> 36 | C37: =Feuil1!AC751 -> 111.625 | D37: =Feuil1!AD751*1000 -> 34.263636 | E37: =Feuil1!AE751 -> 223.90909 | F37: =Feuil1!AF751 -> 93.338182

Sheet Feuil3
A1: semaine | B1: Rm | C1: Rt
A2: =Feuil1!B514 -> 40528 | B2: =SUM(Feuil1!J492:J496)/5 -> -0.16328767
A3: =Feuil1!B518 -> 40534 | B3: =SUM(Feuil1!J497:J501)/5 -> -0.15287671
A4: =Feuil1!B523 -> 40541 | B4: =SUM(Feuil1!J502:J506)/5 -> -0.11506849
A5: =Feuil1!B528 -> 40548 | B5: =SUM(Feuil1!J507:J511)/5 -> -0.089863014
A6: =Feuil1!B533 -> 40555 | B6: =SUM(Feuil1!J512:J516)/5 -> -0.076164384
A7: =Feuil1!B538 -> 40562 | B7: =SUM(Feuil1!J517:J521)/5 -> -0.081643836
A8: =Feuil1!B543 -> 40569 | B8: =SUM(Feuil1!J522:J526)/5 -> -0.08109589
A9: =Feuil1!B548 -> 40576 | B9: =SUM(Feuil1!J527:J531)/5 -> -0.082191781
A10: =Feuil1!B553 -> 40583 | B10: =SUM(Feuil1!J532:J536)/5 -> -0.071232877
A11: =Feuil1!B558 -> 40590 | B11: =SUM(Feuil1!J537:J541)/5 -> -0.044931507
A12: =Feuil1!B563 -> 40597 | B12: =SUM(Feuil1!J542:J546)/5 -> -0.037260274
A13: =Feuil1!B568 -> 40604 | B13: =SUM(Feuil1!J547:J551)/5 -> -0.016986301
A14: =Feuil1!B573 -> 40611 | B14: =SUM(Feuil1!J552:J556)/5 -> -0.002739726
A15: =Feuil1!B578 -> 40618 | B15: =SUM(Feuil1!J553:J557)/5 -> 0.0010958904
A16: =Feuil1!B583 -> 40625 | B16: =SUM(Feuil1!J558:J562)/5 -> -0.016438356
A17: =Feuil1!B587 -> 40631 | B17: =SUM(Feuil1!J563:J567)/5 -> -0.033424658
A18: =Feuil1!B592 -> 40638 | B18: =SUM(Feuil1!J568:J572)/5 -> -0.002739726
A19: =Feuil1!B597 -> 40645 | B19: =SUM(Feuil1!J573:J577)/5 -> -0.016438356
A20: =Feuil1!B602 -> 40652 | B20: =SUM(Feuil1!J578:J582)/5 -> -0.032876712
A21: =Feuil1!B607 -> 40661 | B21: =SUM(Feuil1!J583:J587)/5 -> 8.8817842e-17
A22: =Feuil1!B612 -> 40668 | B22: =SUM(Feuil1!J588:J592)/5 -> 0.022465753
A23: =Feuil1!B617 -> 40675 | B23: =SUM(Feuil1!J593:J597)/5 -> 0.032328767
A24: =Feuil1!B622 -> 40682 | B24: =SUM(Feuil1!J598:J602)/5 -> 0.018630137
A25: =Feuil1!B627 -> 40689 | B25: =SUM(Feuil1!J603:J607)/5 -> -0.0076712329
A26: =Feuil1!B632 -> 40696 | B26: =SUM(Feuil1!J608:J612)/5 -> -0.0060273973
A27: =Feuil1!B637 -> 40703 | B27: =SUM(Feuil1!J613:J617)/5 -> -0.037808219
A28: =Feuil1!B642 -> 40710 | B28: =SUM(Feuil1!J618:J622)/5 -> -0.043835616
A29: =Feuil1!B647 -> 40717 | B29: =SUM(Feuil1!J623:J627)/5 -> -0.05369863
A30: =Feuil1!B652 -> 40724 | B30: =SUM(Feuil1!J628:J632)/5 -> -0.071232877
A31: =Feuil1!B657 -> 40731 | B31: =SUM(Feuil1!J633:J637)/5 -> -0.069589041
A32: =Feuil1!B662 -> 40738 | B32: =SUM(Feuil1!J638:J642)/5 -> -0.073424658
A33: =Feuil1!B667 -> 40745 | B33: =SUM(Feuil1!J643:J647)/5 -> -0.070136986
A34: =Feuil1!B672 -> 40752 | B34: =SUM(Feuil1!J648:J652)/5 -> -0.071780822
A35: =Feuil1!B677 -> 40759 | B35: =SUM(Feuil1!J653:J657)/5 -> -0.059726027
A36: =Feuil1!B682 -> 40766 | B36: =SUM(Feuil1!J658:J662)/5 -> -0.08109589
A37: =Feuil1!B687 -> 40773 | B37: =SUM(Feuil1!J663:J667)/5 -> -0.093150685
A38: =Feuil1!B692 -> 40780 | B38: =SUM(Feuil1!J668:J672)/5 -> -0.096438356
A39: =Feuil1!B697 -> 40787 | B39: =SUM(Feuil1!J673:J677)/5 -> -0.13479452
A40: =Feuil1!B702 -> 40794 | B40: =SUM(Feuil1!J678:J682)/5 -> -0.14958904
A41: =Feuil1!B707 -> 40801 | B41: =SUM(Feuil1!J683:J687)/5 -> -0.2109589
A42: =Feuil1!B712 -> 40808 | B42: =SUM(Feuil1!J688:J692)/5 -> -0.24
A43: =Feuil1!B717 -> 40815 | B43: =SUM(Feuil1!J693:J697)/5 -> -0.2230137
A44: =Feuil1!B722 -> 40822 | B44: =SUM(Feuil1!J698:J702)/5 -> -0.26191781
A45: =Feuil1!B727 -> 40829 | B45: =SUM(Feuil1!J703:J707)/5 -> -0.3030137
A46: =Feuil1!B732 -> 40836 | B46: =SUM(Feuil1!J708:J712)/5 -> -0.29205479
A47: =Feuil1!B737 -> 40843 | B47: =SUM(Feuil1!J713:J717)/5 -> -0.2860274
A48: =Feuil1!B742 -> 40850 | B48: =SUM(Feuil1!J718:J722)/5 -> -0.28493151
A49: =Feuil1!B747 -> 40857 | B49: =SUM(Feuil1!J723:J727)/5 -> -0.2230137
A50: =Feuil1!B752 -> 40864 | B50: =SUM(Feuil1!J728:J732)/5 -> -0.13972603
A51: =Feuil1!B757 -> 40871 | B51: =SUM(Feuil1!J733:J737)/5 -> -0.12876712
A52: =Feuil1!B762 -> 40878 | B52: =SUM(Feuil1!J738:J742)/5 -> -0.14684932
A53: =Feuil1!B767 -> 40885 | B53: =SUM(Feuil1!J743:J747)/5 -> -0.13534247
A54: =Feuil1!B772 -> 40892 | B54: =SUM(Feuil1!J748:J752)/5 -> -0.019178082
