Workbook

Sheet Action planète durable
A1: Date | B1: Dernier | C1: plus haut | D1: plus bas | E1: ouverture | F1: volume
A3: 40784 | B3: 75.23 | C3: 75.23 | D3: 73.63 | E3: 73.63 | F3: 0 | I3: 40917 | J3: 75.05 | K3: 76.32 | L3: 75.05 | M3: 76.32 | N3: 0
A4: 40777 | B4: 73.16 | C4: 77.25 | D4: 72.52 | E4: 77.05 | F4: 0 | I4: 40910 | J4: 75.45 | K4: 75.45 | L4: 73.33 | M4: 73.87 | N4: 0
A5: 40767 | B5: 76.92 | C5: 76.92 | D5: 72.66 | E5: 75.12 | F5: 0 | I5: 40900 | J5: 73.72 | K5: 73.72 | L5: 72.56 | M5: 72.83 | N5: 0
A6: 40763 | B6: 73.69 | C6: 83.49 | D6: 73.69 | E6: 83.49 | F6: 0 | I6: 40896 | J6: 71.32 | K6: 72.68 | L6: 71.31 | M6: 72.68 | N6: 0
A7: 40756 | B7: 85.05 | C7: 89.05 | D7: 85.05 | E7: 89.05 | F7: 0 | I7: 40889 | J7: 72.95 | K7: 75.26 | L7: 72.95 | M7: 75.26 | N7: 0
A8: 40749 | B8: 89.46 | C8: 89.88 | D8: 87.44 | E8: 87.44 | F8: 0 | I8: 40882 | J8: 75.69 | K8: 75.69 | L8: 72.27 | M8: 72.27 | N8: 0
A9: 40742 | B9: 86.48 | C9: 89.34 | D9: 86.48 | E9: 88.65 | F9: 0 | I9: 40875 | J9: 71.53 | K9: 71.53 | L9: 68.68 | M9: 69.86 | N9: 0
A10: 40735 | B10: 89.43 | C10: 92.59 | D10: 89.43 | E10: 91.91 | F10: 0 | I10: 40868 | J10: 70.23 | K10: 73.82 | L10: 70.23 | M10: 73.82 | N10: 0
A11: 40728 | B11: 92.17 | C11: 92.17 | D11: 88.28 | E11: 88.28 | F11: 0 | I11: 40861 | J11: 74.11 | K11: 74.93 | L11: 73.35 | M11: 74.93 | N11: 0
A12: 40721 | B12: 87.67 | C12: 89.41 | D12: 87.29 | E12: 89.41 | F12: 0 | I12: 40854 | J12: 74.48 | K12: 75.5 | L12: 74.23 | M12: 74.23 | N12: 0
A13: 40714 | B13: 88.53 | C13: 89.69 | D13: 88.53 | E13: 89.69 | F13: 0 | I13: 40847 | J13: 76.25 | K13: 77.66 | L13: 74.52 | M13: 74.52 | N13: 0
A14: 40704 | B14: 88.32 | C14: 89.47 | D14: 88.32 | E14: 89.47 | F14: 0 | I14: 40840 | J14: 75.15 | K14: 75.15 | L14: 72.61 | M14: 74.09 | N14: 0
... A55: 40420 | B55: 78.55 | C55: 78.75 | D55: 77.95 | E55: 78.22 | F55: 0 | I55: 40553 | J55: 88.18 | K55: 89.21 | L55: 88.18 | M55: 89.21 | N55: 0
A56: 40413 | B56: 79.3 | C56: 81.61 | D56: 79.05 | E56: 81.61 | F56: 0
A57: 40406 | B57: 80.58 | C57: 82.85 | D57: 80.58 | E57: 82.85 | F57: 0
A58: 40399 | B58: 83.25 | C58: 83.35 | D58: 82.09 | E58: 83.21 | F58: 0
A59: 40392 | B59: 83.06 | C59: 83.06 | D59: 80.86 | E59: 81.54 | F59: 0
A60: 40385 | B60: 81.81 | C60: 81.81 | D60: 78.75 | E60: 78.75 | F60: 0
A61: 40378 | B61: 78.95 | C61: 80.99 | D61: 78.95 | E61: 80.99 | F61: 0
A62: 40371 | B62: 79.93 | C62: 79.93 | D62: 77.69 | E62: 77.69 | F62: 0
A63: 40364 | B63: 76.17 | C63: 78.26 | D63: 76.17 | E63: 78.26 | F63: 0
A64: 40357 | B64: 80.59 | C64: 82.44 | D64: 79.86 | E64: 82.44 | F64: 0
A65: 40350 | B65: 82.95 | C65: 82.95 | D65: 81.65 | E65: 81.98 | F65: 0
A66: 40343 | B66: 81.25 | C66: 81.25 | D66: 77.25 | E66: 77.25 | F66: 0
A67: 40336 | B67: 77.66 | C67: 79.92 | D67: 77.66 | E67: 78.51 | F67: 0
... A193: 39454 | B193: 98.89 | C193: 103.63 | D193: 98.89 | E193: 103.63 | F193: 0

Sheet DEXIA BONDS SUSTAINA
A1: Date | B1: Dernier | C1: plus haut | D1: plus bas | E1: ouverture | F1: volume
A3: 40784 | B3: 114.04 | C3: 114.66 | D3: 114.04 | E3: 114.66 | F3: 0 | I3: 40917 | J3: 114.39 | K3: 114.59 | L3: 114.27 | M3: 114.48 | N3: 0
A4: 40777 | B4: 114.96 | C4: 115.02 | D4: 113.85 | E4: 113.85 | F4: 0 | I4: 40910 | J4: 114.76 | K4: 115.17 | L4: 114.76 | M4: 114.93 | N4: 0
A5: 40767 | B5: 113.9 | C5: 114.47 | D5: 113.57 | E5: 113.57 | F5: 0 | I5: 40900 | J5: 114.65 | K5: 114.65 | L5: 114.46 | M5: 114.47 | N5: 0
A6: 40763 | B6: 114.12 | C6: 114.12 | D6: 113.02 | E6: 113.03 | F6: 0 | I6: 40896 | J6: 114.67 | K6: 114.81 | L6: 113.82 | M6: 113.82 | N6: 0
A7: 40756 | B7: 113.04 | C7: 113.04 | D7: 112.35 | E7: 112.35 | F7: 0 | I7: 40889 | J7: 113.72 | K7: 113.72 | L7: 113.24 | M7: 113.24 | N7: 0
A8: 40749 | B8: 112.19 | C8: 112.29 | D8: 111.84 | E8: 112.29 | F8: 0 | I8: 40882 | J8: 113.32 | K8: 113.32 | L8: 111.56 | M8: 111.56 | N8: 0
A9: 40742 | B9: 112.31 | C9: 112.32 | D9: 112.21 | E9: 112.29 | F9: 0 | I9: 40875 | J9: 111.34 | K9: 112.46 | L9: 111.21 | M9: 112.46 | N9: 0
A10: 40735 | B10: 112.55 | C10: 112.55 | D10: 111.59 | E10: 111.7 | F10: 0 | I10: 40868 | J10: 112.62 | K10: 113.01 | L10: 112.43 | M10: 113.01 | N10: 0
A11: 40728 | B11: 111.64 | C11: 111.64 | D11: 111.48 | E11: 111.64 | F11: 0 | I11: 40861 | J11: 113.71 | K11: 114.49 | L11: 113.52 | M11: 114.17 | N11: 0
A12: 40721 | B12: 111.83 | C12: 112.31 | D12: 111.75 | E12: 111.75 | F12: 0 | I12: 40854 | J12: 114.35 | K12: 114.35 | L12: 114.02 | M12: 114.26 | N12: 0
A13: 40714 | B13: 111.71 | C13: 112.08 | D13: 111.71 | E13: 111.9 | F13: 0 | I13: 40847 | J13: 113.9 | K13: 113.9 | L13: 113.55 | M13: 113.71 | N13: 0
A14: 40704 | B14: 112.22 | C14: 112.22 | D14: 111.66 | E14: 111.66 | F14: 0 | I14: 40840 | J14: 113.12 | K14: 113.75 | L14: 113.12 | M14: 113.72 | N14: 0
... A55: 40420 | B55: 116.54 | C55: 116.54 | D55: 116.15 | E55: 116.3 | F55: 0 | I55: 40553 | J55: 112.01 | K55: 112.33 | L55: 111.98 | M55: 112.33 | N55: 0
A56: 40413 | B56: 115.71 | C56: 115.79 | D56: 114.98 | E56: 114.98 | F56: 0
A57: 40406 | B57: 114.92 | C57: 114.92 | D57: 113.97 | E57: 113.97 | F57: 0
A58: 40399 | B58: 114.09 | C58: 114.1 | D58: 113.54 | E58: 113.54 | F58: 0
A59: 40392 | B59: 112.95 | C59: 112.95 | D59: 112.28 | E59: 112.28 | F59: 0
A60: 40385 | B60: 112.12 | C60: 112.41 | D60: 112.12 | E60: 112.29 | F60: 0
A61: 40378 | B61: 112.06 | C61: 112.41 | D61: 112.06 | E61: 112.27 | F61: 0
A62: 40371 | B62: 112.37 | C62: 112.37 | D62: 111.9 | E62: 112.02 | F62: 0
A63: 40364 | B63: 112.17 | C63: 112.17 | D63: 111.71 | E63: 111.71 | F63: 0
A64: 40357 | B64: 111.56 | C64: 111.56 | D64: 111.4 | E64: 111.45 | F64: 0
A65: 40350 | B65: 111.17 | C65: 111.51 | D65: 111.17 | E65: 111.51 | F65: 0
A66: 40343 | B66: 112.05 | C66: 112.39 | D66: 112.02 | E66: 112.16 | F66: 0
A67: 40336 | B67: 112.09 | C67: 112.49 | D67: 112.09 | E67: 112.49 | F67: 0
... A182: 39524 | B182: 100 | C182: 100 | D182: 100 | E182: 100 | F182: 0

Sheet LFR Action solidaire
A1: Date | B1: Dernier | C1: plus haut | D1: plus bas | E1: ouverture | F1: volume
A3: 40784 | B3: 692.29 | C3: 692.29 | D3: 667.25 | E3: 667.25 | F3: 0 | I3: 40917 | J3: 680.2 | K3: 695.36 | L3: 680.2 | M3: 695.36 | N3: 0
A4: 40777 | B4: 663.4 | C4: 713.9 | D4: 663.4 | E4: 713.9 | F4: 0 | I4: 40910 | J4: 688.15 | K4: 688.15 | L4: 663.33 | M4: 667.14 | N4: 0
A5: 40767 | B5: 716.76 | C5: 716.76 | D5: 674.28 | E5: 699.99 | F5: 0 | I5: 40900 | J5: 665.97 | K5: 665.97 | L5: 654.38 | M5: 658.71 | N5: 0
A6: 40763 | B6: 682.03 | C6: 773.88 | D6: 682.03 | E6: 773.88 | F6: 0 | I6: 40896 | J6: 641.12 | K6: 656.94 | L6: 638.37 | M6: 656.94 | N6: 0
A7: 40756 | B7: 792.6 | C7: 838.41 | D7: 792.6 | E7: 838.41 | F7: 0 | I7: 40889 | J7: 656.68 | K7: 677.68 | L7: 656.68 | M7: 677.68 | N7: 0
A8: 40749 | B8: 841.49 | C8: 847.84 | D8: 821.77 | E8: 821.77 | F8: 0 | I8: 40882 | J8: 682.58 | K8: 682.58 | L8: 645.07 | M8: 645.07 | N8: 0
A9: 40742 | B9: 809.79 | C9: 841.11 | D9: 809.79 | E9: 835.67 | F9: 0 | I9: 40875 | J9: 643.57 | K9: 643.57 | L9: 612.45 | M9: 621.88 | N9: 0
A10: 40735 | B10: 839.57 | C10: 876.77 | D10: 839.57 | E10: 876.77 | F10: 0 | I10: 40868 | J10: 626.72 | K10: 662.25 | L10: 626.72 | M10: 660.88 | N10: 0
A11: 40728 | B11: 882.94 | C11: 882.94 | D11: 842.02 | E11: 842.02 | F11: 0 | I11: 40861 | J11: 671.61 | K11: 671.61 | L11: 661.76 | M11: 671.34 | N11: 0
A12: 40721 | B12: 834.73 | C12: 858.22 | D12: 834.15 | E12: 858.22 | F12: 0 | I12: 40854 | J12: 665.19 | K12: 678.3 | L12: 661.37 | M12: 661.37 | N12: 0
A13: 40714 | B13: 842.04 | C13: 857.38 | D13: 842.04 | E13: 857.38 | F13: 0 | I13: 40847 | J13: 686.64 | K13: 716.19 | L13: 682.69 | M13: 684.83 | N13: 0
A14: 40704 | B14: 847.77 | C14: 860.12 | D14: 847.77 | E14: 860.12 | F14: 0 | I14: 40840 | J14: 685.94 | K14: 685.94 | L14: 658.08 | M14: 672.17 | N14: 0
... A54: 40427 | B54: 774.34 | C54: 774.34 | D54: 744.42 | E54: 744.42 | F54: 0 | I54: 40560 | J54: 869.49 | K54: 871.63 | L54: 857.77 | M54: 857.77 | N54: 0
A55: 40420 | B55: 744.09 | C55: 744.55 | D55: 731.92 | E55: 740.63 | F55: 0
A56: 40413 | B56: 753.23 | C56: 773.11 | D56: 748.89 | E56: 773.11 | F56: 0
A57: 40406 | B57: 761.34 | C57: 789.06 | D57: 761.34 | E57: 789.06 | F57: 0
A58: 40399 | B58: 795.77 | C58: 795.77 | D58: 784.32 | E58: 795.4 | F58: 0
A59: 40392 | B59: 794.43 | C59: 794.43 | D59: 775.38 | E59: 790.14 | F59: 0
A60: 40385 | B60: 789.04 | C60: 789.04 | D60: 756.25 | E60: 756.25 | F60: 0
A61: 40378 | B61: 759.27 | C61: 780.93 | D61: 759.27 | E61: 780.93 | F61: 0
A62: 40371 | B62: 768.91 | C62: 768.91 | D62: 748.76 | E62: 748.76 | F62: 0
A63: 40364 | B63: 729.93 | C63: 740.85 | D63: 728.91 | E63: 739.53 | F63: 0
A64: 40357 | B64: 761.41 | C64: 779.35 | D64: 754.24 | E64: 779.35 | F64: 0
A65: 40350 | B65: 782.48 | C65: 782.48 | D65: 768.2 | E65: 768.2 | F65: 0
A66: 40343 | B66: 763.77 | C66: 763.77 | D66: 721.07 | E66: 721.07 | F66: 0
... A157: 39706 | B157: 933.74 | C157: 965.91 | D157: 933.74 | E157: 965.8 | F157: 0
A158: 39699 | B158: 983.28 | C158: 1.025,30 | D158: 955.82 | E158: 1025.3 | F158: 0
A159: 39692 | B159: 1.013,90 | C159: 1.016,89 | D159: 1000 | E159: 1000 | F159: 0

Sheet Marché
A2: Indice SBF 250
E3: Cours (ouverture)
A4: 40918 | B4: 2381.23 | C4: 2405.44 | D4: 2315.35 | E4: 2395.06 | F4: 0
A5: 40911 | B5: 2406.91 | C5: 2407.18 | D5: 2278.2 | E5: 2302.65 | F5: 0
A6: 40904 | B6: 2303.14 | C6: 2321.83 | D6: 2244.76 | E6: 2285.77 | F6: 0
A7: 40897 | B7: 2268.52 | C7: 2276.74 | D7: 2186.39 | E7: 2265.7 | F7: 0
A8: 40890 | B8: 2280.24 | C8: 2404.16 | D8: 2267.28 | E8: 2390.38 | F8: 0
A9: 40883 | B9: 2358.72 | C9: 2384.51 | D9: 2221.21 | E9: 2225.09 | F9: 0
A10: 40876 | B10: 2248.63 | C10: 2261.35 | D10: 2081.49 | E10: 2113.91 | F10: 0
A11: 40869 | B11: 2135.89 | C11: 2307.6 | D11: 2135.89 | E11: 2264.14 | F11: 0
A12: 40862 | B12: 2271.54 | C12: 2372.13 | D12: 2248.88 | E12: 2363.16 | F12: 0
A13: 40855 | B13: 2344.76 | C13: 2404.51 | D13: 2262.62 | E13: 2323.41 | F13: 0
A14: 40848 | B14: 2289.48 | C14: 2532.07 | D14: 2279.92 | E14: 2363.68 | F14: 0
A15: 40841 | B15: 2369.07 | C15: 2404.92 | D15: 2296.85 | E15: 2360.64 | F15: 0
... A213: 39455 | B213: 3846.35 | C213: 3953.69 | D213: 3817.44 | E213: 3953.69 | F213: 0

Sheet Rentabilité 1ère A
C2: Rentabilité
D4: LFR Actions Solidaires | E4: Action Planète Durable | F4: Dexia Bonds Subs | H4: Marché
A5: 40050 | D5: =('LFR Action solidaire'!E109-'LFR Action solidaire'!E108)/'LFR Action solidaire'!E108 -> 0.0082459967 | E5: =('Action planète durable'!E109-'Action planète durable'!E108)/'Action planète durable'!E108 -> 0.0040316775 | F5: =('DEXIA BONDS SUSTAINA'!E109-'DEXIA BONDS SUSTAINA'!E108)/'DEXIA BONDS SUSTAINA'!E108 -> -0.0064880897 | H5: =(Marché!E129-Marché!E128)/Marché!E128 -> 0.0076187428
A6: 40043 | D6: =('LFR Action solidaire'!E110-'LFR Action solidaire'!E109)/'LFR Action solidaire'!E109 -> 0.015526066 | E6: =('Action planète durable'!E110-'Action planète durable'!E109)/'Action planète durable'!E109 -> -0.0040154883 | F6: =('DEXIA BONDS SUSTAINA'!E110-'DEXIA BONDS SUSTAINA'!E109)/'DEXIA BONDS SUSTAINA'!E109 -> 0.00083963056 | H6: =(Marché!E130-Marché!E129)/Marché!E129 -> 0.0040187624
A7: 40036 | D7: =('LFR Action solidaire'!E111-'LFR Action solidaire'!E110)/'LFR Action solidaire'!E110 -> -0.036331753 | E7: =('Action planète durable'!E111-'Action planète durable'!E110)/'Action planète durable'!E110 -> -0.044204464 | F7: =('DEXIA BONDS SUSTAINA'!E111-'DEXIA BONDS SUSTAINA'!E110)/'DEXIA BONDS SUSTAINA'!E110 -> -0.0091349739 | H7: =(Marché!E131-Marché!E130)/Marché!E130 -> -0.045164953
A8: 40029 | D8: =('LFR Action solidaire'!E112-'LFR Action solidaire'!E111)/'LFR Action solidaire'!E111 -> -0.015002426 | E8: =('Action planète durable'!E112-'Action planète durable'!E111)/'Action planète durable'!E111 -> -0.011599879 | F8: =('DEXIA BONDS SUSTAINA'!E112-'DEXIA BONDS SUSTAINA'!E111)/'DEXIA BONDS SUSTAINA'!E111 -> -0.0066792098 | H8: =(Marché!E132-Marché!E131)/Marché!E131 -> -0.0055298835
A9: 40022 | D9: =('LFR Action solidaire'!E113-'LFR Action solidaire'!E112)/'LFR Action solidaire'!E112 -> -0.020130003 | E9: =('Action planète durable'!E113-'Action planète durable'!E112)/'Action planète durable'!E112 -> -0.037494284 | F9: =('DEXIA BONDS SUSTAINA'!E113-'DEXIA BONDS SUSTAINA'!E112)/'DEXIA BONDS SUSTAINA'!E112 -> -0.0036935316 | H9: =(Marché!E133-Marché!E132)/Marché!E132 -> -0.058420814
A10: 40015 | D10: =('LFR Action solidaire'!E114-'LFR Action solidaire'!E113)/'LFR Action solidaire'!E113 -> -0.023071337 | E10: =('Action planète durable'!E114-'Action planète durable'!E113)/'Action planète durable'!E113 -> -0.038004751 | F10: =('DEXIA BONDS SUSTAINA'!E114-'DEXIA BONDS SUSTAINA'!E113)/'DEXIA BONDS SUSTAINA'!E113 -> -0.0025665399 | H10: =(Marché!E134-Marché!E133)/Marché!E133 -> -0.020982732
A11: 40008 | D11: =('LFR Action solidaire'!E115-'LFR Action solidaire'!E114)/'LFR Action solidaire'!E114 -> 0.022715576 | E11: =('Action planète durable'!E115-'Action planète durable'!E114)/'Action planète durable'!E114 -> 0.030617284 | F11: =('DEXIA BONDS SUSTAINA'!E115-'DEXIA BONDS SUSTAINA'!E114)/'DEXIA BONDS SUSTAINA'!E114 -> -0.0080053369 | H11: =(Marché!E135-Marché!E134)/Marché!E134 -> 0.04139158
A12: 40001 | D12: =('LFR Action solidaire'!E116-'LFR Action solidaire'!E115)/'LFR Action solidaire'!E115 -> -0.026124879 | E12: =('Action planète durable'!E116-'Action planète durable'!E115)/'Action planète durable'!E115 -> -0.022200926 | F12: =('DEXIA BONDS SUSTAINA'!E116-'DEXIA BONDS SUSTAINA'!E115)/'DEXIA BONDS SUSTAINA'!E115 -> -0.0068210203 | H12: =(Marché!E136-Marché!E135)/Marché!E135 -> -0.013133133
A13: 39994 | D13: =('LFR Action solidaire'!E117-'LFR Action solidaire'!E116)/'LFR Action solidaire'!E116 -> 0.041838902 | E13: =('Action planète durable'!E117-'Action planète durable'!E116)/'Action planète durable'!E116 -> 0.03381248 | F13: =('DEXIA BONDS SUSTAINA'!E117-'DEXIA BONDS SUSTAINA'!E116)/'DEXIA BONDS SUSTAINA'!E116 -> -0.0036757593 | H13: =(Marché!E137-Marché!E136)/Marché!E136 -> 0.024271604
A14: 39987 | D14: =('LFR Action solidaire'!E118-'LFR Action solidaire'!E117)/'LFR Action solidaire'!E117 -> 0.0027690909 | E14: =('Action planète durable'!E118-'Action planète durable'!E117)/'Action planète durable'!E117 -> 0.01611629 | F14: =('DEXIA BONDS SUSTAINA'!E118-'DEXIA BONDS SUSTAINA'!E117)/'DEXIA BONDS SUSTAINA'!E117 -> -0.0085436893 | H14: =(Marché!E138-Marché!E137)/Marché!E137 -> 0.039774303
A15: 39980 | D15: =('LFR Action solidaire'!E119-'LFR Action solidaire'!E118)/'LFR Action solidaire'!E118 -> 0.018904215 | E15: =('Action planète durable'!E119-'Action planète durable'!E118)/'Action planète durable'!E118 -> 0.0094853056 | F15: =('DEXIA BONDS SUSTAINA'!E119-'DEXIA BONDS SUSTAINA'!E118)/'DEXIA BONDS SUSTAINA'!E118 -> -0.0016647082 | H15: =(Marché!E139-Marché!E138)/Marché!E138 -> 0.014514654
A16: 39973 | D16: =('LFR Action solidaire'!E120-'LFR Action solidaire'!E119)/'LFR Action solidaire'!E119 -> -0.017259048 | E16: =('Action planète durable'!E120-'Action planète durable'!E119)/'Action planète durable'!E119 -> -0.02310536 | F16: =('DEXIA BONDS SUSTAINA'!E120-'DEXIA BONDS SUSTAINA'!E119)/'DEXIA BONDS SUSTAINA'!E119 -> -0.00039234919 | H16: =(Marché!E140-Marché!E139)/Marché!E139 -> -0.03216883
... A55: 39700 | D55: =('LFR Action solidaire'!E159-'LFR Action solidaire'!E158)/'LFR Action solidaire'!E158 -> -0.024675705 | E55: =('Action planète durable'!E159-'Action planète durable'!E158)/'Action planète durable'!E158 -> -0.019413919 | F55: =('DEXIA BONDS SUSTAINA'!E159-'DEXIA BONDS SUSTAINA'!E158)/'DEXIA BONDS SUSTAINA'!E158 -> 0.0023790642 | H55: =(Marché!E179-Marché!E178)/Marché!E178 -> -0.028411932
D57: =D4 -> LFR Actions Solidaires | E57: =E4 -> Action Planète Durable | F57: =F4 -> Dexia Bonds Subs | H57: =H4 -> Marché
C58: Moyenne | D58: =AVERAGE(D5:D55) -> 0.0069061223 | E58: =AVERAGE(E5:E55) -> 0.0037384424 | F58: =AVERAGE(F5:F55) -> -0.0012277753 | H58: =AVERAGE(H5:H55) -> 0.0056667218
C59: Variance | D59: =VAR(D5:D55) -> 0.0026699605 | E59: =VAR(E5:E55) -> 0.001816703 | F59: =VAR(F5:F55) -> 8.6113013e-05 | H59: =VAR(H5:H55) -> 0.0021021669
C60: Ecart Type | D60: =STDEV(D5:D55) -> 0.05167166 | E60: =STDEV(E5:E55) -> 0.042622799 | F60: =STDEV(F5:F55) -> 0.0092797098 | H60: =STDEV(H5:H55) -> 0.045849394
B63: Nombre de valeurs totales | D63: =55-5 -> 50
C65: Moyenne annuelle | D65: =D58*$D63 -> 0.34530612 | E65: =E58*$D63 -> 0.18692212 | F65: =F58*$D63 -> -0.061388763 | H65: =H58*$D63 -> 0.28333609
C66: Ecart Type annuel | D66: =D60*SQRT($D63) -> 0.36537381 | E66: =E60*SQRT($D63) -> 0.3013887 | F66: =F60*SQRT($D63) -> 0.065617457 | H66: =H60*SQRT($D63) -> 0.32420417
C68: Beta | D68: {=LINEST(D5:D55,$H5:$H55,TRUE,TRUE)} -> 0.92043996 | E68: {=LINEST(E5:E55,$H5:$H55,TRUE,TRUE)} -> 0.79815397 | F68: {=LINEST(F5:F55,$H5:$H55,TRUE,TRUE)} -> -0.063785853 | H68: {=LINEST(H5:H55,$H5:$H55,TRUE,TRUE)} -> 1
C69: Erreur Type | D69: 0.092899931 | E69: 0.068086854 | F69: 0.027440211
C70: R² | D70: 0.66704217 | E70: 0.73715127 | F70: 0.099322385
D71: 98.165785 | E71: 137.41901 | F71: 5.4034838
D72: 0.089048812 | E72: 0.066959246 | F72: 0.00042764749
B74: Beta/Erreur Type | C74: Student | D74: =D68/D69 -> 9.9078648 | E74: =E68/E69 -> 11.722585 | F74: =F68/F69 -> -2.3245395
B75: 0.01 | C75: Erreur | D75: =TINV($B75/2,61) -> 2.9127293 | E75: =TINV($B75/2,61) -> 2.9127293 | F75: =TINV($B75/2,61) -> 2.9127293 | H75: =TINV($B75/2,61) -> 2.9127293
D76: =IF(D74>D75,"accepté","rejeté") -> accepté | E76: =IF(E74>E75,"accepté","rejeté") -> accepté | F76: =IF(F74>F75,"accepté","rejeté") -> rejeté
B78: Rf (taux sans risque) | D78: 0.03
B79: Rm (prime du marché) | D79: =H65 -> 0.28333609
B81: Rentabilité attendue | D81: =$D$78+($D$79-$D$78)*D68 -> 0.26318066 | E81: =$D$78+($D$79-$D$78)*E68 -> 0.23220121 | F81: =$D$78+($D$79-$D$78)*F68 -> 0.013840741 | H81: =$D$78+($D$79-$D$78)*H68 -> 0.28333609
B83: Risque systématique | D83: =D68*$H$66 -> 0.29841048 | E83: =E68*$H$66 -> 0.25876485 | F83: =F68*$H$66 -> -0.02067964 | H83: =H68*$H$66 -> 0.32420417
B84: Risque spécifique | D84: =SQRT(D66^2-D83^2) -> 0.21082982 | E84: =SQRT(E66^2-E83^2) -> 0.1545183 | F84: =SQRT(F66^2-F83^2) -> 0.062273615 | H84: =SQRT(H66^2-H83^2) -> #NUM!
C86: Sharpe | D86: =(D81-$D$78)/D66 -> 0.63819752 | E86: =(E81-$D$78)/E66 -> 0.67089843 | F86: =(F81-$D$78)/F66 -> -0.24626463 | H86: =(H81-$D$78)/H66 -> 0.7814091
C87: Traynor | D87: =(D81-$D$78)/D68 -> 0.25333609 | E87: =(E81-$D$78)/E68 -> 0.25333609 | F87: =(F81-$D$78)/F68 -> 0.25333609 | H87: =(H81-$D$78)/H68 -> 0.25333609
C88: Jensen | D88: =D81-(D78+D68*(H81-D78)) -> 0 | E88: =E81-(E78+E68*(I81-E78)) -> 0.23220121 | F88: =F81-(F78+F68*(J81-F78)) -> 0.013840741 | H88: =H81-(H78+H68*(L81-H78)) -> 0.28333609

Sheet Rentabilité 2ème A
C2: Rentabilité
D4: LFR Actions Solidaires | E4: Action Planète Durable | F4: Dexia Bonds Subs | H4: Marché
A5: 40421 | D5: =('LFR Action solidaire'!E56-'LFR Action solidaire'!E55)/'LFR Action solidaire'!E55 -> 0.043854556 | E5: =('Action planète durable'!E56-'Action planète durable'!E55)/'Action planète durable'!E55 -> 0.043339299 | F5: =('DEXIA BONDS SUSTAINA'!E56-'DEXIA BONDS SUSTAINA'!E55)/'DEXIA BONDS SUSTAINA'!E55 -> -0.011349957 | H5: =(Marché!E76-Marché!E75)/Marché!E75 -> 0.044813075
A6: 40414 | D6: =('LFR Action solidaire'!E57-'LFR Action solidaire'!E56)/'LFR Action solidaire'!E56 -> 0.020630958 | E6: =('Action planète durable'!E57-'Action planète durable'!E56)/'Action planète durable'!E56 -> 0.015194216 | F6: =('DEXIA BONDS SUSTAINA'!E57-'DEXIA BONDS SUSTAINA'!E56)/'DEXIA BONDS SUSTAINA'!E56 -> -0.0087841364 | H6: =(Marché!E77-Marché!E76)/Marché!E76 -> 0.014286904
A7: 40407 | D7: =('LFR Action solidaire'!E58-'LFR Action solidaire'!E57)/'LFR Action solidaire'!E57 -> 0.0080348769 | E7: =('Action planète durable'!E58-'Action planète durable'!E57)/'Action planète durable'!E57 -> 0.0043452022 | F7: =('DEXIA BONDS SUSTAINA'!E58-'DEXIA BONDS SUSTAINA'!E57)/'DEXIA BONDS SUSTAINA'!E57 -> -0.0037729227 | H7: =(Marché!E78-Marché!E77)/Marché!E77 -> 0.011506651
A8: 40400 | D8: =('LFR Action solidaire'!E59-'LFR Action solidaire'!E58)/'LFR Action solidaire'!E58 -> -0.0066130249 | E8: =('Action planète durable'!E59-'Action planète durable'!E58)/'Action planète durable'!E58 -> -0.020069703 | F8: =('DEXIA BONDS SUSTAINA'!E59-'DEXIA BONDS SUSTAINA'!E58)/'DEXIA BONDS SUSTAINA'!E58 -> -0.011097411 | H8: =(Marché!E79-Marché!E78)/Marché!E78 -> -0.015231629
A9: 40393 | D9: =('LFR Action solidaire'!E60-'LFR Action solidaire'!E59)/'LFR Action solidaire'!E59 -> -0.042891133 | E9: =('Action planète durable'!E60-'Action planète durable'!E59)/'Action planète durable'!E59 -> -0.034216336 | F9: =('DEXIA BONDS SUSTAINA'!E60-'DEXIA BONDS SUSTAINA'!E59)/'DEXIA BONDS SUSTAINA'!E59 -> 8.9063057e-05 | H9: =(Marché!E80-Marché!E79)/Marché!E79 -> -0.047477022
A10: 40386 | D10: =('LFR Action solidaire'!E61-'LFR Action solidaire'!E60)/'LFR Action solidaire'!E60 -> 0.032634711 | E10: =('Action planète durable'!E61-'Action planète durable'!E60)/'Action planète durable'!E60 -> 0.028444444 | F10: =('DEXIA BONDS SUSTAINA'!E61-'DEXIA BONDS SUSTAINA'!E60)/'DEXIA BONDS SUSTAINA'!E60 -> -0.00017811025 | H10: =(Marché!E81-Marché!E80)/Marché!E80 -> 0.040654404
A11: 40379 | D11: =('LFR Action solidaire'!E62-'LFR Action solidaire'!E61)/'LFR Action solidaire'!E61 -> -0.041194473 | E11: =('Action planète durable'!E62-'Action planète durable'!E61)/'Action planète durable'!E61 -> -0.040745771 | F11: =('DEXIA BONDS SUSTAINA'!E62-'DEXIA BONDS SUSTAINA'!E61)/'DEXIA BONDS SUSTAINA'!E61 -> -0.0022267747 | H11: =(Marché!E82-Marché!E81)/Marché!E81 -> -0.069498887
A12: 40372 | D12: =('LFR Action solidaire'!E63-'LFR Action solidaire'!E62)/'LFR Action solidaire'!E62 -> -0.012327047 | E12: =('Action planète durable'!E63-'Action planète durable'!E62)/'Action planète durable'!E62 -> 0.0073368516 | F12: =('DEXIA BONDS SUSTAINA'!E63-'DEXIA BONDS SUSTAINA'!E62)/'DEXIA BONDS SUSTAINA'!E62 -> -0.002767363 | H12: =(Marché!E83-Marché!E82)/Marché!E82 -> 0.01671643
A13: 40365 | D13: =('LFR Action solidaire'!E64-'LFR Action solidaire'!E63)/'LFR Action solidaire'!E63 -> 0.05384501 | E13: =('Action planète durable'!E64-'Action planète durable'!E63)/'Action planète durable'!E63 -> 0.053411705 | F13: =('DEXIA BONDS SUSTAINA'!E64-'DEXIA BONDS SUSTAINA'!E63)/'DEXIA BONDS SUSTAINA'!E63 -> -0.002327455 | H13: =(Marché!E84-Marché!E83)/Marché!E83 -> 0.05977705
A14: 40358 | D14: =('LFR Action solidaire'!E65-'LFR Action solidaire'!E64)/'LFR Action solidaire'!E64 -> -0.014306794 | E14: =('Action planète durable'!E65-'Action planète durable'!E64)/'Action planète durable'!E64 -> -0.0055798156 | F14: =('DEXIA BONDS SUSTAINA'!E65-'DEXIA BONDS SUSTAINA'!E64)/'DEXIA BONDS SUSTAINA'!E64 -> 0.00053835801 | H14: =(Marché!E85-Marché!E84)/Marché!E84 -> 0.0071406758
A15: 40351 | D15: =('LFR Action solidaire'!E66-'LFR Action solidaire'!E65)/'LFR Action solidaire'!E65 -> -0.061351211 | E15: =('Action planète durable'!E66-'Action planète durable'!E65)/'Action planète durable'!E65 -> -0.057696999 | F15: =('DEXIA BONDS SUSTAINA'!E66-'DEXIA BONDS SUSTAINA'!E65)/'DEXIA BONDS SUSTAINA'!E65 -> 0.0058290736 | H15: =(Marché!E86-Marché!E85)/Marché!E85 -> -0.071903719
A16: 40344 | D16: =('LFR Action solidaire'!E67-'LFR Action solidaire'!E66)/'LFR Action solidaire'!E66 -> 0.033575104 | E16: =('Action planète durable'!E67-'Action planète durable'!E66)/'Action planète durable'!E66 -> 0.01631068 | F16: =('DEXIA BONDS SUSTAINA'!E67-'DEXIA BONDS SUSTAINA'!E66)/'DEXIA BONDS SUSTAINA'!E66 -> 0.0029422254 | H16: =(Marché!E87-Marché!E86)/Marché!E86 -> 0.015714303
... A57: 40057 | D57: =('LFR Action solidaire'!E108-'LFR Action solidaire'!E107)/'LFR Action solidaire'!E107 -> -0.043129669 | E57: =('Action planète durable'!E108-'Action planète durable'!E107)/'Action planète durable'!E107 -> -0.05407246 | F57: =('DEXIA BONDS SUSTAINA'!E108-'DEXIA BONDS SUSTAINA'!E107)/'DEXIA BONDS SUSTAINA'!E107 -> -0.00074094656 | H57: =(Marché!E128-Marché!E127)/Marché!E127 -> -0.064850908
D59: =D4 -> LFR Actions Solidaires | E59: =E4 -> Action Planète Durable | F59: =F4 -> Dexia Bonds Subs | H59: =H4 -> Marché
C60: Moyenne | D60: =AVERAGE(D5:D57) -> 0.00069929862 | E60: =AVERAGE(E5:E57) -> -0.001876137 | F60: =AVERAGE(F5:F57) -> -0.0014084459 | H60: =AVERAGE(H5:H57) -> -0.00021536485
C61: Variance | D61: =VAR(D5:D57) -> 0.00085304099 | E61: =VAR(E5:E57) -> 0.00074967287 | F61: =VAR(F5:F57) -> 1.3809703e-05 | H61: =VAR(H5:H57) -> 0.00096472544
C62: Ecart Type | D62: =STDEV(D5:D57) -> 0.029206865 | E62: =STDEV(E5:E57) -> 0.027380155 | F62: =STDEV(F5:F57) -> 0.0037161408 | H62: =STDEV(H5:H57) -> 0.03106003
B65: Nombre de valeurs totales | D65: =57-5 -> 52
C67: Moyenne annuelle | D67: =D60*$D65 -> 0.036363528 | E67: =E60*$D65 -> -0.097559126 | F67: =F60*$D65 -> -0.073239186 | H67: =H60*$D65 -> -0.011198972
C68: Ecart Type annuel | D68: =D62*SQRT($D65) -> 0.2106137 | E68: =E62*SQRT($D65) -> 0.1974411 | F68: =F62*SQRT($D65) -> 0.026797472 | H68: =H62*SQRT($D65) -> 0.22397706
C70: Beta | D70: {=LINEST(D5:D57,$H5:$H57,TRUE,TRUE)} -> 0.87788338 | E70: {=LINEST(E5:E57,$H5:$H57,TRUE,TRUE)} -> 0.80986766 | F70: {=LINEST(F5:F57,$H5:$H57,TRUE,TRUE)} -> -0.027749857 | H70: {=LINEST(H5:H57,$H5:$H57,TRUE,TRUE)} -> 1
C71: Erreur Type | D71: 0.047186041 | E71: 0.048748764 | F71: 0.016296632
C72: R² | D72: 0.87158046 | E72: 0.84403422 | F72: 0.053794875
D73: 346.13583 | E73: 275.9948 | F73: 2.8995178
D74: 0.038661681 | E74: 0.032902977 | F74: 3.8630343e-05
B76: Beta/Erreur Type | C76: Student | D76: =D70/D71 -> 18.604726 | E76: =E70/E71 -> 16.613091 | F76: =F70/F71 -> -1.7027971
B77: 0.01 | C77: Erreur | D77: =TINV($B77/2,61) -> 2.9127293 | E77: =TINV($B77/2,61) -> 2.9127293 | F77: =TINV($B77/2,61) -> 2.9127293 | H77: =TINV($B77/2,61) -> 2.9127293
D78: =IF(D76>D77,"accepté","rejeté") -> accepté | E78: =IF(E76>E77,"accepté","rejeté") -> accepté | F78: =IF(F76>F77,"accepté","rejeté") -> rejeté
B80: Rf (taux sans risque) | D80: 0.03
B81: Rm (prime du marché) | D81: =H67 -> -0.011198972
B83: Rentabilité attendue | D83: =$D$80+($D$81-$D$80)*D70 -> -0.006167893 | E83: =$D$80+($D$81-$D$80)*E70 -> -0.0033657154 | F83: =$D$80+($D$81-$D$80)*F70 -> 0.031143266 | H83: =$D$80+($D$81-$D$80)*H70 -> -0.011198972
B85: Risque systématique | D85: =D70*$H$68 -> 0.19662574 | E85: =E70*$H$68 -> 0.18139178 | F85: =F70*$H$68 -> -0.0062153313 | H85: =H70*$H$68 -> 0.22397706
B86: Risque spécifique | D86: =SQRT(D68^2-D85^2) -> 0.075474835 | E86: =SQRT(E68^2-E85^2) -> 0.077974435 | F86: =SQRT(F68^2-F85^2) -> 0.026066726 | H86: =SQRT(H68^2-H85^2) -> 0

Sheet Rentabilité 3ème A
C2: Rentabilité
D4: LFR Actions Solidaires | E4: Action Planète Durable | F4: Dexia Bonds Subs | H4: Marché
A5: 40785 | D5: =('LFR Action solidaire'!E4-'LFR Action solidaire'!E3)/'LFR Action solidaire'!E3 -> 0.069913825 | E5: =('Action planète durable'!E4-'Action planète durable'!E3)/'Action planète durable'!E3 -> 0.046448459 | F5: =('DEXIA BONDS SUSTAINA'!E4-'DEXIA BONDS SUSTAINA'!E3)/'DEXIA BONDS SUSTAINA'!E3 -> -0.0070643642 | H5: =(Marché!E24-Marché!E23)/Marché!E23 -> 0.032131291
A6: 40778 | D6: =('LFR Action solidaire'!E5-'LFR Action solidaire'!E4)/'LFR Action solidaire'!E4 -> -0.019484522 | E6: =('Action planète durable'!E5-'Action planète durable'!E4)/'Action planète durable'!E4 -> -0.02504867 | F6: =('DEXIA BONDS SUSTAINA'!E5-'DEXIA BONDS SUSTAINA'!E4)/'DEXIA BONDS SUSTAINA'!E4 -> -0.0024593764 | H6: =(Marché!E25-Marché!E24)/Marché!E24 -> 0.0019433475
A7: 40771 | D7: =('LFR Action solidaire'!E6-'LFR Action solidaire'!E5)/'LFR Action solidaire'!E5 -> 0.10555865 | E7: =('Action planète durable'!E6-'Action planète durable'!E5)/'Action planète durable'!E5 -> 0.11142173 | F7: =('DEXIA BONDS SUSTAINA'!E6-'DEXIA BONDS SUSTAINA'!E5)/'DEXIA BONDS SUSTAINA'!E5 -> -0.0047547768 | H7: =(Marché!E26-Marché!E25)/Marché!E25 -> 0.075178383
A8: 40764 | D8: =('LFR Action solidaire'!E7-'LFR Action solidaire'!E6)/'LFR Action solidaire'!E6 -> 0.083385021 | E8: =('Action planète durable'!E7-'Action planète durable'!E6)/'Action planète durable'!E6 -> 0.066594802 | F8: =('DEXIA BONDS SUSTAINA'!E7-'DEXIA BONDS SUSTAINA'!E6)/'DEXIA BONDS SUSTAINA'!E6 -> -0.0060161019 | H8: =(Marché!E27-Marché!E26)/Marché!E26 -> 0.08309802
A9: 40757 | D9: =('LFR Action solidaire'!E8-'LFR Action solidaire'!E7)/'LFR Action solidaire'!E7 -> -0.019847092 | E9: =('Action planète durable'!E8-'Action planète durable'!E7)/'Action planète durable'!E7 -> -0.01807973 | F9: =('DEXIA BONDS SUSTAINA'!E8-'DEXIA BONDS SUSTAINA'!E7)/'DEXIA BONDS SUSTAINA'!E7 -> -0.00053404539 | H9: =(Marché!E28-Marché!E27)/Marché!E27 -> -0.013695357
A10: 40750 | D10: =('LFR Action solidaire'!E9-'LFR Action solidaire'!E8)/'LFR Action solidaire'!E8 -> 0.016914708 | E10: =('Action planète durable'!E9-'Action planète durable'!E8)/'Action planète durable'!E8 -> 0.01383806 | F10: =('DEXIA BONDS SUSTAINA'!E9-'DEXIA BONDS SUSTAINA'!E8)/'DEXIA BONDS SUSTAINA'!E8 -> 0 | H10: =(Marché!E29-Marché!E28)/Marché!E28 -> 0.007434541
A11: 40743 | D11: =('LFR Action solidaire'!E10-'LFR Action solidaire'!E9)/'LFR Action solidaire'!E9 -> 0.049182093 | E11: =('Action planète durable'!E10-'Action planète durable'!E9)/'Action planète durable'!E9 -> 0.03677383 | F11: =('DEXIA BONDS SUSTAINA'!E10-'DEXIA BONDS SUSTAINA'!E9)/'DEXIA BONDS SUSTAINA'!E9 -> -0.0052542524 | H11: =(Marché!E30-Marché!E29)/Marché!E29 -> 0.056173121
A12: 40736 | D12: =('LFR Action solidaire'!E11-'LFR Action solidaire'!E10)/'LFR Action solidaire'!E10 -> -0.039634112 | E12: =('Action planète durable'!E11-'Action planète durable'!E10)/'Action planète durable'!E10 -> -0.039495158 | F12: =('DEXIA BONDS SUSTAINA'!E11-'DEXIA BONDS SUSTAINA'!E10)/'DEXIA BONDS SUSTAINA'!E10 -> -0.00053715309 | H12: =(Marché!E31-Marché!E30)/Marché!E30 -> -0.027714246
A13: 40729 | D13: =('LFR Action solidaire'!E12-'LFR Action solidaire'!E11)/'LFR Action solidaire'!E11 -> 0.019239448 | E13: =('Action planète durable'!E12-'Action planète durable'!E11)/'Action planète durable'!E11 -> 0.012800181 | F13: =('DEXIA BONDS SUSTAINA'!E12-'DEXIA BONDS SUSTAINA'!E11)/'DEXIA BONDS SUSTAINA'!E11 -> 0.00098530992 | H13: =(Marché!E32-Marché!E31)/Marché!E31 -> 0.0016532796
A14: 40722 | D14: =('LFR Action solidaire'!E13-'LFR Action solidaire'!E12)/'LFR Action solidaire'!E12 -> -0.00097877001 | E14: =('Action planète durable'!E13-'Action planète durable'!E12)/'Action planète durable'!E12 -> 0.0031316408 | F14: =('DEXIA BONDS SUSTAINA'!E13-'DEXIA BONDS SUSTAINA'!E12)/'DEXIA BONDS SUSTAINA'!E12 -> 0.0013422819 | H14: =(Marché!E33-Marché!E32)/Marché!E32 -> -0.0039361973
A15: 40715 | D15: =('LFR Action solidaire'!E14-'LFR Action solidaire'!E13)/'LFR Action solidaire'!E13 -> 0.0031957825 | E15: =('Action planète durable'!E14-'Action planète durable'!E13)/'Action planète durable'!E13 -> -0.0024528933 | F15: =('DEXIA BONDS SUSTAINA'!E14-'DEXIA BONDS SUSTAINA'!E13)/'DEXIA BONDS SUSTAINA'!E13 -> -0.0021447721 | H15: =(Marché!E34-Marché!E33)/Marché!E33 -> 0.0026590247
A16: 40708 | D16: =('LFR Action solidaire'!E15-'LFR Action solidaire'!E14)/'LFR Action solidaire'!E14 -> 0.022694508 | E16: =('Action planète durable'!E15-'Action planète durable'!E14)/'Action planète durable'!E14 -> 0.027048173 | F16: =('DEXIA BONDS SUSTAINA'!E15-'DEXIA BONDS SUSTAINA'!E14)/'DEXIA BONDS SUSTAINA'!E14 -> 0.0017911517 | H16: =(Marché!E35-Marché!E34)/Marché!E34 -> 0.035789407
... A56: 40428 | D56: =('LFR Action solidaire'!E55-'LFR Action solidaire'!E54)/'LFR Action solidaire'!E54 -> -0.005091212 | E56: =('Action planète durable'!E55-'Action planète durable'!E54)/'Action planète durable'!E54 -> -0.0057200966 | F56: =('DEXIA BONDS SUSTAINA'!E55-'DEXIA BONDS SUSTAINA'!E54)/'DEXIA BONDS SUSTAINA'!E54 -> -0.0023162049 | H56: =(Marché!E75-Marché!E74)/Marché!E74 -> -0.0081286779
D58: =D4 -> LFR Actions Solidaires | E58: =E4 -> Action Planète Durable | F58: =F4 -> Dexia Bonds Subs | H58: =H4 -> Marché
C59: Moyenne | D59: =AVERAGE(D5:D56) -> 0.0024139229 | E59: =AVERAGE(E5:E56) -> 0.001504692 | F59: =AVERAGE(F5:F56) -> 0.00028404319 | H59: =AVERAGE(H5:H56) -> 0.0019306466
C60: Variance | D60: =VAR(D5:D56) -> 0.00084947451 | E60: =VAR(E5:E56) -> 0.00071497949 | F60: =VAR(F5:F56) -> 2.2229411e-05 | H60: =VAR(H5:H56) -> 0.00071614181
C61: Ecart Type | D61: =STDEV(D5:D56) -> 0.029145746 | E61: =STDEV(E5:E56) -> 0.0267391 | F61: =STDEV(F5:F56) -> 0.0047148076 | H61: =STDEV(H5:H56) -> 0.026760826
B64: Nombre de valeurs totales | D64: 51
C66: Moyenne annuelle | D66: =D59*$D64 -> 0.12311007 | E66: =E59*$D64 -> 0.07673929 | F66: =F59*$D64 -> 0.014486203 | H66: =H59*$D64 -> 0.098462975
C67: Ecart Type annuel | D67: =D61*SQRT($D64) -> 0.20814226 | E67: =E61*SQRT($D64) -> 0.19095537 | F67: =F61*SQRT($D64) -> 0.033670461 | H67: =H61*SQRT($D64) -> 0.19111052
C69: Beta | D69: {=LINEST(D5:D56,$H5:$H56,TRUE,TRUE)} -> 1.0089967 | E69: {=LINEST(E5:E56,$H5:$H56,TRUE,TRUE)} -> 0.90687948 | F69: {=LINEST(F5:F56,$H5:$H56,TRUE,TRUE)} -> -0.078434209 | H69: {=LINEST(H5:H56,$H5:$H56,TRUE,TRUE)} -> 1
C70: Erreur Type | D70: 0.05798408 | E70: 0.059320582 | F70: 0.0223108
C71: R² | D71: 0.85827834 | E71: 0.82376739 | F71: 0.19819017
D72: 302.80422 | E72: 233.71594 | F72: 12.358926
D73: 0.037183364 | E73: 0.030037816 | F73: 0.00022468819
B75: Beta/Erreur Type | C75: Student | D75: =D69/D70 -> 17.401271 | E75: =E69/E70 -> 15.287771 | F75: =F69/F70 -> -3.5155265
B76: 0.01 | C76: Erreur | D76: =TINV($B76/2,61) -> 2.9127293 | E76: =TINV($B76/2,61) -> 2.9127293 | F76: =TINV($B76/2,61) -> 2.9127293 | H76: =TINV($B76/2,61) -> 2.9127293
D77: =IF(D75>D76,"accepté","rejeté") -> accepté | E77: =IF(E75>E76,"accepté","rejeté") -> accepté | F77: =IF(F75>F76,"accepté","rejeté") -> rejeté
B79: Rf (taux sans risque) | D79: 0.03
B80: Rm (prime du marché) | D80: =H66 -> 0.098462975
B82: Rentabilité attendue | D82: =$D$79+($D$80-$D$79)*D69 -> 0.099078914 | E82: =$D$79+($D$80-$D$79)*E69 -> 0.092087667 | F82: =$D$79+($D$80-$D$79)*F69 -> 0.024630161 | H82: =$D$79+($D$80-$D$79)*H69 -> 0.098462975
B84: Risque systématique | D84: =D69*$H$67 -> 0.19282988 | E84: =E69*$H$67 -> 0.17331421 | F84: =F69*$H$67 -> -0.014989603 | H84: =H69*$H$67 -> 0.19111052
B85: Risque spécifique | D85: =SQRT(D67^2-D84^2) -> 0.078357104 | E85: =SQRT(E67^2-E84^2) -> 0.080163194 | F85: =SQRT(F67^2-F84^2) -> 0.030149822 | H85: =SQRT(H67^2-H84^2) -> 4.5625302e-09

Sheet Graphes Moy-ET
B4: Fonds 1 | C4: Fonds 2 | D4: Fonds 3 | F4: Marché
A6: =A10 -> Moyenne annuelle | B6: ='Rentabilité 1ère A'!D65 -> 0.34530612 | C6: ='Rentabilité 1ère A'!E65 -> 0.18692212 | D6: ='Rentabilité 1ère A'!F65 -> -0.061388763 | F6: ='Rentabilité 1ère A'!H65 -> 0.28333609
A7: =A11 -> Ecart Type annuel | B7: ='Rentabilité 1ère A'!D66 -> 0.36537381 | C7: ='Rentabilité 1ère A'!E66 -> 0.3013887 | D7: ='Rentabilité 1ère A'!F66 -> 0.065617457 | F7: ='Rentabilité 1ère A'!H66 -> 0.32420417
A8: =A10 -> Moyenne annuelle | B8: ='Rentabilité 2ème A'!D67 -> 0.036363528 | C8: ='Rentabilité 2ème A'!E67 -> -0.097559126 | D8: ='Rentabilité 2ème A'!F67 -> -0.073239186 | F8: ='Rentabilité 2ème A'!H67 -> -0.011198972
A9: =A11 -> Ecart Type annuel | B9: ='Rentabilité 2ème A'!D68 -> 0.2106137 | C9: ='Rentabilité 2ème A'!E68 -> 0.1974411 | D9: ='Rentabilité 2ème A'!F68 -> 0.026797472 | F9: ='Rentabilité 2ème A'!H68 -> 0.22397706
A10: ='Rentabilité 3ème A'!C66 -> Moyenne annuelle | B10: ='Rentabilité 3ème A'!D66 -> 0.12311007 | C10: ='Rentabilité 3ème A'!E66 -> 0.07673929 | D10: ='Rentabilité 3ème A'!F66 -> 0.014486203 | F10: ='Rentabilité 3ème A'!H66 -> 0.098462975
A11: ='Rentabilité 3ème A'!C67 -> Ecart Type annuel | B11: ='Rentabilité 3ème A'!D67 -> 0.20814226 | C11: ='Rentabilité 3ème A'!E67 -> 0.19095537 | D11: ='Rentabilité 3ème A'!F67 -> 0.033670461 | F11: ='Rentabilité 3ème A'!H67 -> 0.19111052

Sheet Graphes Risque
B3: Fonds 1 | D3: Fonds 2 | F3: Fonds 3 | H3: Marché
B4: Risque systématique | C4: Risque spécifique | D4: Risque systématique | E4: Risque spécifique | F4: Risque systématique | G4: Risque spécifique | H4: Risque systématique | I4: Risque spécifique
B5: ='Rentabilité 1ère A'!D83 -> 0.29841048 | C5: ='Rentabilité 1ère A'!D84 -> 0.21082982 | D5: ='Rentabilité 1ère A'!E83 -> 0.25876485 | E5: ='Rentabilité 1ère A'!E84 -> 0.1545183 | F5: ='Rentabilité 1ère A'!F83 -> -0.02067964 | G5: ='Rentabilité 1ère A'!F84 -> 0.062273615 | H5: ='Rentabilité 1ère A'!H83 -> 0.32420417 | I5: 0
B6: ='Rentabilité 2ème A'!D85 -> 0.19662574 | C6: ='Rentabilité 2ème A'!D86 -> 0.075474835 | D6: ='Rentabilité 2ème A'!E85 -> 0.18139178 | E6: ='Rentabilité 2ème A'!E86 -> 0.077974435 | F6: ='Rentabilité 2ème A'!F85 -> -0.0062153313 | G6: ='Rentabilité 2ème A'!F86 -> 0.026066726 | H6: ='Rentabilité 2ème A'!H85 -> 0.22397706 | I6: ='Rentabilité 2ème A'!H86 -> 0
B7: ='Rentabilité 3ème A'!D84 -> 0.19282988 | C7: ='Rentabilité 3ème A'!D85 -> 0.078357104 | D7: ='Rentabilité 3ème A'!E84 -> 0.17331421 | E7: ='Rentabilité 3ème A'!E85 -> 0.080163194 | F7: ='Rentabilité 3ème A'!F84 -> -0.014989603 | G7: ='Rentabilité 3ème A'!F85 -> 0.030149822 | H7: ='Rentabilité 3ème A'!H84 -> 0.19111052 | I7: ='Rentabilité 3ème A'!H85 -> 4.5625302e-09
