Workbook

Sheet DONNEES
C2: 40026EF | D2: 30363EF | E2: 30029EF | F2: 90218EF | G2: 90083EF | H2: 90013EF | I2: 30350EF | J2: 30573EF | K2: 90103EF | L2: 30056EF | M2: 00470EF | N2: 30718EF | O2: 30539EF | P2: 30906EF | Q2: 00375EF | R2: 00380EF | S2: 40017EF | T2: 30867EF | U2: 30737EF | AB2: sbf250
A3: Created : 11/04/2011 15:02:17 | C3: seloger | D3: soitec | E3: axa | F3: boiron | G3: edf | H3: havas | I3: ipsos | J3: laurent perrier | K3: lvmh | L3: nrj | M3: seb | N3: toupargel | O3: boursorama | P3: meetic | Q3: bic | R3: carrefour | S3: edf en | T3: iliad | U3: sechilienne | V3: BNP Paribas SA | W3: Schneider Electric SA | X3: Air Liquide SA | Y3: Stmicroelectronics | Z3: Casino Guichard Perrachon SA | AA3: Vinci SA | AB3: sbf250 | AC3: CAC 40(FRA)
A5: EfCode | B5: Close Date | C5: Close Price | D5: Currency
A6: 40026EF | B6: 40171 | C6: 23.4 | D6: 9.9 | E6: 16.64 | F6: 29.8 | G6: 40.905 | H6: 2.77 | I6: 21.18 | J6: 53.8 | K6: 77.9 | L6: 5.69 | M6: 38.59 | N6: 15.1 | O6: 9.33 | P6: 18.5 | Q6: 48.26 | R6: 33.615 | S6: 36.11 | T6: 83.33 | U6: 28 | V6: 55.55 | W6: 78.92 | X6: 83.57 | Y6: 6.336 | Z6: 62.16 | AA6: 39.86 | AB6: 2841.47 | AC6: 3912.73
A7: 40026EF | B7: 40178 | C7: 22.52 | D7: 9.992 | E7: 16.54 | F7: 29.81 | G7: 41.56 | H7: 2.791 | I7: 21.16 | J7: 54.01 | K7: 78.38 | L7: 5.66 | M7: 39.7 | N7: 15.3 | O7: 9.67 | P7: 19 | Q7: 48.3 | R7: 33.56 | S7: 36.01 | T7: 83.52 | U7: 28.35 | V7: 55.9 | W7: 81.78 | X7: 83.03 | Y7: 6.425 | Z7: 62.53 | AA7: 39.47 | AB7: 2859.47 | AC7: 3936.33
A8: 40026EF | B8: 40186 | C8: 23 | D8: 11.32 | E8: 17.115 | F8: 31.1 | G8: 42.14 | H8: 3.068 | I8: 21.625 | J8: 56.97 | K8: 81.07 | L8: 6.7 | M8: 41.5 | N8: 15.78 | O8: 10.21 | P8: 19.5 | Q8: 49.805 | R8: 34.495 | S8: 38.47 | T8: 87.2 | U8: 26.65 | V8: 59.6 | W8: 80.32 | X8: 82.46 | Y8: 6.443 | Z8: 60.61 | AA8: 41.43 | AB8: 2942.99 | AC8: 4045.14
A9: 40026EF | B9: 40193 | C9: 26.2 | D9: 11.405 | E9: 16.64 | F9: 31.3 | G9: 40.655 | H9: 3.049 | I9: 21.55 | J9: 63.79 | K9: 79.41 | L9: 6.873 | M9: 43.46 | N9: 16.13 | O9: 10.15 | P9: 19.88 | Q9: 49.03 | R9: 35.83 | S9: 37.445 | T9: 85.02 | U9: 25.9 | V9: 56.51 | W9: 78.37 | X9: 79.99 | Y9: 6.19 | Z9: 61.73 | AA9: 40.94 | AB9: 2883.39 | AC9: 3954.38
A10: 40026EF | B10: 40200 | C10: 24.44 | D10: 10.135 | E10: 15.6 | F10: 32 | G10: 41.01 | H10: 2.99 | I10: 22.85 | J10: 63.25 | K10: 77.77 | L10: 6.415 | M10: 45.745 | N10: 16.05 | O10: 9.94 | P10: 19.9 | Q10: 49.61 | R10: 35.675 | S10: 36.355 | T10: 82.84 | U10: 25 | V10: 52.56 | W10: 76.83 | X10: 78.75 | Y10: 6.03 | Z10: 59.88 | AA10: 39.37 | AB10: 2789.91 | AC10: 3820.78
A11: 40026EF | B11: 40207 | C11: 25.14 | D11: 10.235 | E11: 15 | F11: 30.7 | G11: 39.03 | H11: 3.17 | I11: 22.725 | J11: 62 | K11: 79.07 | L11: 6.35 | M11: 47 | N11: 16.32 | O11: 9.82 | P11: 20.17 | Q11: 51.42 | R11: 35.34 | S11: 36.16 | T11: 80.27 | U11: 24.5 | V11: 52.15 | W11: 75.03 | X11: 76.99 | Y11: 5.951 | Z11: 59.45 | AA11: 38.81 | AB11: 2739.31 | AC11: 3739.46
A12: 40026EF | B12: 40214 | C12: 24.06 | D12: 9.73 | E12: 14.28 | F12: 29.6 | G12: 37.62 | H12: 2.939 | I12: 23.24 | J12: 56.22 | K12: 74.87 | L12: 6.311 | M12: 43.71 | N12: 15.8 | O12: 9.37 | P12: 19.76 | Q12: 51.6 | R12: 33.73 | S12: 34.17 | T12: 77.82 | U12: 23.155 | V12: 47.105 | W12: 72.25 | X12: 75.84 | Y12: 5.89 | Z12: 57.48 | AA12: 38.08 | AB12: 2616.63 | AC12: 3563.76
A13: 40026EF | B13: 40221 | C13: 23.4 | D13: 8.97 | E13: 14.44 | F13: 29.78 | G13: 39.065 | H13: 3.1 | I13: 23.13 | J13: 58 | K13: 76.42 | L13: 6.193 | M13: 45.03 | N13: 15.35 | O13: 9.43 | P13: 19.45 | Q13: 50.59 | R13: 34.64 | S13: 36.9 | T13: 73.92 | U13: 23.335 | V13: 47.6 | W13: 72.49 | X13: 78.86 | Y13: 5.884 | Z13: 58.12 | AA13: 37.295 | AB13: 2637.96 | AC13: 3599.07
A14: 40026EF | B14: 40228 | C14: 25 | D14: 9.991 | E14: 15.405 | F14: 30.28 | G14: 38.125 | H14: 3.127 | I14: 23.5 | J14: 57.4 | K14: 79.55 | L14: 5.949 | M14: 47.65 | N14: 16.24 | O14: 9.49 | P14: 20.35 | Q14: 53.23 | R14: 34.92 | S14: 37.62 | T14: 78.28 | U14: 22.935 | V14: 53.08 | W14: 81.21 | X14: 85.45 | Y14: 6.34 | Z14: 58.73 | AA14: 38.905 | AB14: 2758.76 | AC14: 3769.54
A15: 40026EF | B15: 40235 | C15: 25.64 | D15: 9.65 | E15: 14.785 | F15: 30.2 | G15: 36.81 | H15: 3.006 | I15: 25.5 | J15: 56.9 | K15: 79.6 | L15: 5.9 | M15: 47.23 | N15: 15.89 | O15: 9.27 | P15: 21.5 | Q15: 52 | R15: 33.885 | S15: 37.77 | T15: 77.79 | U15: 22.4 | V15: 53.13 | W15: 78.43 | X15: 87.71 | Y15: 6.36 | Z15: 59.11 | AA15: 38.45 | AB15: 2721.5 | AC15: 3708.8
A16: 40026EF | B16: 40242 | C16: 25.4 | D16: 10.505 | E16: 15.615 | F16: 31.3 | G16: 37.865 | H16: 3.13 | I16: 26.01 | J16: 59.01 | K16: 86.97 | L16: 6.07 | M16: 48.115 | N16: 15.8 | O16: 9.37 | P16: 22.25 | Q16: 54.51 | R16: 36 | S16: 37.795 | T16: 80.27 | U16: 23.71 | V16: 56.78 | W16: 82.47 | X16: 90 | Y16: 6.806 | Z16: 60.25 | AA16: 41.9 | AB16: 2865.2 | AC16: 3910.42
A17: 40026EF | B17: 40249 | C17: 25.67 | D17: 10.58 | E17: 16.17 | F17: 31.82 | G17: 37.83 | H17: 3.16 | I17: 26.135 | J17: 58 | K17: 86.41 | L17: 6.149 | M17: 47.87 | N17: 15.8 | O17: 9.26 | P17: 23.5 | Q17: 55.79 | R17: 35.855 | S17: 36.05 | T17: 76.84 | U17: 24.215 | V17: 57 | W17: 85.45 | X17: 88.53 | Y17: 6.649 | Z17: 60.74 | AA17: 42.55 | AB17: 2877.4 | AC17: 3927.4
... A51: 40026EF | B51: 40487 | C51: 35.5 | D51: 7.261 | E51: 13.72 | F51: 26.88 | G51: 32.06 | H51: 3.715 | I51: 34.645 | J51: 89 | K51: 119.1 | L51: 7.59 | M51: 71.56 | N51: 13.86 | O51: 8.35 | P51: 21.4 | Q51: 64.23 | R51: 38.02 | S51: 31.31 | T51: 79.57 | U51: 20.715 | V51: 53.8 | W51: 105.75 | X51: 96.08 | Y51: 6.446 | Z51: 68.25 | AA51: 39.475 | AB51: 2921.49 | AC51: 3916.73
A52: 40026EF | B52: 40494 | C52: 35.28 | D52: 8.56 | E52: 13.24 | F52: 26.04 | G52: 32.555 | H52: 3.515 | I52: 34.15 | J52: 81 | K52: 116.1 | L52: 7.32 | M52: 68.13 | N52: 13.98 | O52: 8.22 | P52: 18.9 | Q52: 63.84 | R52: 37.6 | S52: 29.705 | T52: 78.94 | U52: 19.96 | AB52: 2857.3
A53: 40026EF | B53: 40501 | C53: 35.26 | D53: 8.341 | E53: 12.835 | F53: 25.92 | G53: 33.665 | H53: 3.592 | I53: 34.305 | J53: 80 | K53: 119.4 | L53: 7.7 | M53: 71.04 | N53: 13.41 | O53: 8.18 | P53: 19.15 | Q53: 63.18 | R53: 38.22 | S53: 29.9 | T53: 79.78 | U53: 19.785 | AB53: 2876.18
A54: 40026EF | B54: 40508 | C54: 34.37 | D54: 8.139 | E54: 11.885 | F54: 26.16 | G54: 32.575 | H54: 3.493 | I54: 34.18 | J54: 77 | K54: 119.85 | L54: 7.51 | M54: 72.48 | N54: 12.99 | O54: 8.14 | P54: 19.03 | Q54: 63.7 | R54: 36.42 | S54: 29.41 | T54: 79 | U54: 19.37 | AB54: 2790.6
A55: 40026EF | B55: 40515 | C55: 34.68 | D55: 8.1 | E55: 11.74 | F55: 28.68 | G55: 31.62 | H55: 3.544 | I55: 35.46 | J55: 77.5 | K55: 121.7 | L55: 7.69 | M55: 76.12 | N55: 13 | O55: 8.03 | P55: 18.99 | Q55: 64.02 | R55: 33.105 | S55: 29.28 | T55: 79.86 | U55: 18.38 | AB55: 2818.63
A56: 40026EF | B56: 40522 | C56: 34.97 | D56: 8.436 | E56: 12.695 | F56: 28.5 | G56: 31.945 | H56: 3.685 | I56: 34.595 | J56: 82 | K56: 121.5 | L56: 8.23 | M56: 77.12 | N56: 12.9 | O56: 8.13 | P56: 19.65 | Q56: 64.13 | R56: 31.76 | S56: 31.19 | T56: 79.21 | U56: 19.125 | AB56: 2889.41
A57: 40026EF | B57: 40529 | C57: 35.21 | D57: 8.33 | E57: 12.645 | F57: 28.2 | G57: 31.785 | H57: 3.784 | I57: 34.88 | J57: 82.2 | K57: 123.2 | L57: 8.2 | M57: 77.14 | N57: 12.64 | O57: 7.99 | P57: 16.48 | Q57: 65.38 | R57: 33.04 | S57: 31.5 | T57: 81.65 | U57: 18.695 | AB57: 2901.11
A58: 40026EF | B58: 40536 | C58: 34.94 | D58: 8.288 | E58: 12.83 | F58: 28.46 | G58: 31.5 | H58: 3.93 | I58: 35.5 | J58: 81.64 | K58: 128 | L58: 8.2 | M58: 78.15 | N58: 13.12 | O58: 7.83 | P58: 16.41 | Q58: 66.3 | R58: 31.81 | S58: 31.805 | T58: 82.5 | U58: 18.99 | AB58: 2926.29
A59: 40026EF | B59: 40543 | C59: 35.23 | D59: 8.088 | E59: 12.45 | F59: 28.51 | G59: 30.695 | H59: 3.89 | I59: 35.52 | J59: 80 | K59: 123.1 | L59: 8.1 | M59: 77.73 | N59: 13.52 | O59: 7.91 | P59: 16.25 | Q59: 64.32 | R59: 30.85 | S59: 31.66 | T59: 81.4 | U59: 19.015 | AB59: 2861.15
A60: 40026EF | B60: 40550 | C60: 34.85 | D60: 8.52 | E60: 13.205 | F60: 29.5 | G60: 31.23 | H60: 3.888 | I60: 36 | J60: 79 | K60: 119.35 | L60: 8.6 | M60: 78.19 | N60: 14.05 | O60: 7.94 | P60: 16.08 | Q60: 67.9 | R60: 32.42 | S60: 30.965 | T60: 79.7 | U60: 19.19 | AB60: 2910.79
A61: 40026EF | B61: 40557 | C61: 34.9 | D61: 9.149 | E61: 14.54 | F61: 29.15 | G61: 31.245 | H61: 3.801 | I61: 36.275 | J61: 78 | K61: 116.75 | L61: 8.57 | M61: 80.23 | N61: 14.12 | O61: 8.1 | P61: 15.88 | Q61: 67.01 | R61: 33.225 | S61: 31.795 | T61: 76.25 | U61: 20.325 | AB61: 2984.47
A62: 40026EF | B62: 40564 | C62: 37.79 | D62: 9.177 | E62: 14.95 | F62: 28.7 | G62: 32.07 | H62: 3.789 | I62: 35.08 | J62: 77.7 | K62: 112.3 | L62: 8.28 | M62: 74.49 | N62: 14.29 | O62: 8.1 | P62: 16.75 | Q62: 63.54 | R62: 33.305 | S62: 32.45 | T62: 76.33 | U62: 20.86 | AB62: 2999.37
A63: 40026EF | B63: 40571 | C63: 37.84 | D63: 9.168 | E63: 15.39 | F63: 28.69 | G63: 32.105 | H63: 3.886 | I63: 35.6 | J63: 77 | K63: 113.8 | L63: 8.29 | M63: 74.22 | N63: 14.2 | O63: 8.18 | P63: 16.96 | Q63: 63.55 | R63: 33.975 | S63: 31.675 | T63: 78.3 | U63: 20.715 | AB63: 2994.87
... A69: 40026EF | B69: 40612 | C69: 37.98 | D69: 9.933 | E69: 14.915 | F69: 28.55 | G69: 31.02 | H69: 3.901 | I69: 34.765 | J69: 78.1 | K69: 113.1 | L69: 7.95 | M69: 67.67 | N69: 14.15 | O69: 8.46 | P69: 16.1 | Q69: 62.8 | R69: 32.32 | S69: 32.32 | T69: 80.46 | U69: 19.4 | AB69: 2942.1

Sheet Feuil3
A1: Rentabilité | B1: écart-type
C2: seloger
C4: close price
C5: =(DONNEES!C7-DONNEES!C6)/DONNEES!C6 -> -0.037606838
C6: =(DONNEES!C8-DONNEES!C7)/DONNEES!C7 -> 0.021314387
C7: =(DONNEES!C9-DONNEES!C8)/DONNEES!C8 -> 0.13913043
C8: =(DONNEES!C10-DONNEES!C9)/DONNEES!C9 -> -0.067175573
C9: =(DONNEES!C11-DONNEES!C10)/DONNEES!C10 -> 0.028641571
C10: =(DONNEES!C12-DONNEES!C11)/DONNEES!C11 -> -0.042959427
C11: =(DONNEES!C13-DONNEES!C12)/DONNEES!C12 -> -0.027431421
C12: =(DONNEES!C14-DONNEES!C13)/DONNEES!C13 -> 0.068376068
C13: =(DONNEES!C15-DONNEES!C14)/DONNEES!C14 -> 0.0256
C14: =(DONNEES!C16-DONNEES!C15)/DONNEES!C15 -> -0.0093603744
C15: =(DONNEES!C17-DONNEES!C16)/DONNEES!C16 -> 0.010629921
C16: =(DONNEES!C18-DONNEES!C17)/DONNEES!C17 -> -0.034670822
... C75: =(DONNEES!C77-DONNEES!C76)/DONNEES!C76 -> #DIV/0!
