Workbook

Sheet DONNEES
C2: 40026EF | D2: 30363EF | E2: 30029EF | F2: 90218EF | G2: 90083EF | H2: 90013EF | I2: 30350EF | J2: 30573EF | K2: 90103EF | L2: 30056EF | M2: 00470EF | N2: 30718EF | O2: 30539EF | P2: 30906EF | Q2: 00375EF | R2: 00380EF | S2: 40017EF | T2: 30867EF | U2: 30737EF | AB2: sbf250
A3: Created : 11/04/2011 15:02:17 | C3: seloger | D3: soitec | E3: axa | F3: boiron | G3: edf | H3: havas | I3: ipsos | J3: laurent perrier | K3: lvmh | L3: nrj | M3: seb | N3: toupargel | O3: boursorama | P3: meetic | Q3: bic | R3: carrefour | S3: edf en | T3: iliad | U3: sechilienne | V3: BNP Paribas SA | W3: Schneider Electric SA | X3: Air Liquide SA | Y3: Stmicroelectronics | Z3: Casino Guichard Perrachon SA | AA3: Vinci SA | AB3: sbf250 | AC3: CAC 40(FRA)
A5: EfCode | B5: Close Date | C5: Close Price | D5: Currency
A6: 40026EF | B6: 40171 | C6: 23.4 | D6: 9.9 | E6: 16.64 | F6: 29.8 | G6: 40.905 | H6: 2.77 | I6: 21.18 | J6: 53.8 | K6: 77.9 | L6: 5.69 | M6: 38.59 | N6: 15.1 | O6: 9.33 | P6: 18.5 | Q6: 48.26 | R6: 33.615 | S6: 36.11 | T6: 83.33 | U6: 28 | V6: 55.55 | W6: 78.92 | X6: 83.57 | Y6: 6.336 | Z6: 62.16 | AA6: 39.86 | AB6: 2841.47 | AC6: 3912.73
A7: 40026EF | B7: 40178 | C7: 22.52 | D7: 9.992 | E7: 16.54 | F7: 29.81 | G7: 41.56 | H7: 2.791 | I7: 21.16 | J7: 54.01 | K7: 78.38 | L7: 5.66 | M7: 39.7 | N7: 15.3 | O7: 9.67 | P7: 19 | Q7: 48.3 | R7: 33.56 | S7: 36.01 | T7: 83.52 | U7: 28.35 | V7: 55.9 | W7: 81.78 | X7: 83.03 | Y7: 6.425 | Z7: 62.53 | AA7: 39.47 | AB7: 2859.47 | AC7: 3936.33
A8: 40026EF | B8: 40186 | C8: 23 | D8: 11.32 | E8: 17.115 | F8: 31.1 | G8: 42.14 | H8: 3.068 | I8: 21.625 | J8: 56.97 | K8: 81.07 | L8: 6.7 | M8: 41.5 | N8: 15.78 | O8: 10.21 | P8: 19.5 | Q8: 49.805 | R8: 34.495 | S8: 38.47 | T8: 87.2 | U8: 26.65 | V8: 59.6 | W8: 80.32 | X8: 82.46 | Y8: 6.443 | Z8: 60.61 | AA8: 41.43 | AB8: 2942.99 | AC8: 4045.14
A9: 40026EF | B9: 40193 | C9: 26.2 | D9: 11.405 | E9: 16.64 | F9: 31.3 | G9: 40.655 | H9: 3.049 | I9: 21.55 | J9: 63.79 | K9: 79.41 | L9: 6.873 | M9: 43.46 | N9: 16.13 | O9: 10.15 | P9: 19.88 | Q9: 49.03 | R9: 35.83 | S9: 37.445 | T9: 85.02 | U9: 25.9 | V9: 56.51 | W9: 78.37 | X9: 79.99 | Y9: 6.19 | Z9: 61.73 | AA9: 40.94 | AB9: 2883.39 | AC9: 3954.38
A10: 40026EF | B10: 40200 | C10: 24.44 | D10: 10.135 | E10: 15.6 | F10: 32 | G10: 41.01 | H10: 2.99 | I10: 22.85 | J10: 63.25 | K10: 77.77 | L10: 6.415 | M10: 45.745 | N10: 16.05 | O10: 9.94 | P10: 19.9 | Q10: 49.61 | R10: 35.675 | S10: 36.355 | T10: 82.84 | U10: 25 | V10: 52.56 | W10: 76.83 | X10: 78.75 | Y10: 6.03 | Z10: 59.88 | AA10: 39.37 | AB10: 2789.91 | AC10: 3820.78
A11: 40026EF | B11: 40207 | C11: 25.14 | D11: 10.235 | E11: 15 | F11: 30.7 | G11: 39.03 | H11: 3.17 | I11: 22.725 | J11: 62 | K11: 79.07 | L11: 6.35 | M11: 47 | N11: 16.32 | O11: 9.82 | P11: 20.17 | Q11: 51.42 | R11: 35.34 | S11: 36.16 | T11: 80.27 | U11: 24.5 | V11: 52.15 | W11: 75.03 | X11: 76.99 | Y11: 5.951 | Z11: 59.45 | AA11: 38.81 | AB11: 2739.31 | AC11: 3739.46
A12: 40026EF | B12: 40214 | C12: 24.06 | D12: 9.73 | E12: 14.28 | F12: 29.6 | G12: 37.62 | H12: 2.939 | I12: 23.24 | J12: 56.22 | K12: 74.87 | L12: 6.311 | M12: 43.71 | N12: 15.8 | O12: 9.37 | P12: 19.76 | Q12: 51.6 | R12: 33.73 | S12: 34.17 | T12: 77.82 | U12: 23.155 | V12: 47.105 | W12: 72.25 | X12: 75.84 | Y12: 5.89 | Z12: 57.48 | AA12: 38.08 | AB12: 2616.63 | AC12: 3563.76
A13: 40026EF | B13: 40221 | C13: 23.4 | D13: 8.97 | E13: 14.44 | F13: 29.78 | G13: 39.065 | H13: 3.1 | I13: 23.13 | J13: 58 | K13: 76.42 | L13: 6.193 | M13: 45.03 | N13: 15.35 | O13: 9.43 | P13: 19.45 | Q13: 50.59 | R13: 34.64 | S13: 36.9 | T13: 73.92 | U13: 23.335 | V13: 47.6 | W13: 72.49 | X13: 78.86 | Y13: 5.884 | Z13: 58.12 | AA13: 37.295 | AB13: 2637.96 | AC13: 3599.07
A14: 40026EF | B14: 40228 | C14: 25 | D14: 9.991 | E14: 15.405 | F14: 30.28 | G14: 38.125 | H14: 3.127 | I14: 23.5 | J14: 57.4 | K14: 79.55 | L14: 5.949 | M14: 47.65 | N14: 16.24 | O14: 9.49 | P14: 20.35 | Q14: 53.23 | R14: 34.92 | S14: 37.62 | T14: 78.28 | U14: 22.935 | V14: 53.08 | W14: 81.21 | X14: 85.45 | Y14: 6.34 | Z14: 58.73 | AA14: 38.905 | AB14: 2758.76 | AC14: 3769.54
A15: 40026EF | B15: 40235 | C15: 25.64 | D15: 9.65 | E15: 14.785 | F15: 30.2 | G15: 36.81 | H15: 3.006 | I15: 25.5 | J15: 56.9 | K15: 79.6 | L15: 5.9 | M15: 47.23 | N15: 15.89 | O15: 9.27 | P15: 21.5 | Q15: 52 | R15: 33.885 | S15: 37.77 | T15: 77.79 | U15: 22.4 | V15: 53.13 | W15: 78.43 | X15: 87.71 | Y15: 6.36 | Z15: 59.11 | AA15: 38.45 | AB15: 2721.5 | AC15: 3708.8
A16: 40026EF | B16: 40242 | C16: 25.4 | D16: 10.505 | E16: 15.615 | F16: 31.3 | G16: 37.865 | H16: 3.13 | I16: 26.01 | J16: 59.01 | K16: 86.97 | L16: 6.07 | M16: 48.115 | N16: 15.8 | O16: 9.37 | P16: 22.25 | Q16: 54.51 | R16: 36 | S16: 37.795 | T16: 80.27 | U16: 23.71 | V16: 56.78 | W16: 82.47 | X16: 90 | Y16: 6.806 | Z16: 60.25 | AA16: 41.9 | AB16: 2865.2 | AC16: 3910.42
A17: 40026EF | B17: 40249 | C17: 25.67 | D17: 10.58 | E17: 16.17 | F17: 31.82 | G17: 37.83 | H17: 3.16 | I17: 26.135 | J17: 58 | K17: 86.41 | L17: 6.149 | M17: 47.87 | N17: 15.8 | O17: 9.26 | P17: 23.5 | Q17: 55.79 | R17: 35.855 | S17: 36.05 | T17: 76.84 | U17: 24.215 | V17: 57 | W17: 85.45 | X17: 88.53 | Y17: 6.649 | Z17: 60.74 | AA17: 42.55 | AB17: 2877.4 | AC17: 3927.4
... A51: 40026EF | B51: 40487 | C51: 35.5 | D51: 7.261 | E51: 13.72 | F51: 26.88 | G51: 32.06 | H51: 3.715 | I51: 34.645 | J51: 89 | K51: 119.1 | L51: 7.59 | M51: 71.56 | N51: 13.86 | O51: 8.35 | P51: 21.4 | Q51: 64.23 | R51: 38.02 | S51: 31.31 | T51: 79.57 | U51: 20.715 | V51: 53.8 | W51: 105.75 | X51: 96.08 | Y51: 6.446 | Z51: 68.25 | AA51: 39.475 | AB51: 2921.49 | AC51: 3916.73
A52: 40026EF | B52: 40494 | C52: 35.28 | D52: 8.56 | E52: 13.24 | F52: 26.04 | G52: 32.555 | H52: 3.515 | I52: 34.15 | J52: 81 | K52: 116.1 | L52: 7.32 | M52: 68.13 | N52: 13.98 | O52: 8.22 | P52: 18.9 | Q52: 63.84 | R52: 37.6 | S52: 29.705 | T52: 78.94 | U52: 19.96 | AB52: 2857.3
A53: 40026EF | B53: 40501 | C53: 35.26 | D53: 8.341 | E53: 12.835 | F53: 25.92 | G53: 33.665 | H53: 3.592 | I53: 34.305 | J53: 80 | K53: 119.4 | L53: 7.7 | M53: 71.04 | N53: 13.41 | O53: 8.18 | P53: 19.15 | Q53: 63.18 | R53: 38.22 | S53: 29.9 | T53: 79.78 | U53: 19.785 | AB53: 2876.18
A54: 40026EF | B54: 40508 | C54: 34.37 | D54: 8.139 | E54: 11.885 | F54: 26.16 | G54: 32.575 | H54: 3.493 | I54: 34.18 | J54: 77 | K54: 119.85 | L54: 7.51 | M54: 72.48 | N54: 12.99 | O54: 8.14 | P54: 19.03 | Q54: 63.7 | R54: 36.42 | S54: 29.41 | T54: 79 | U54: 19.37 | AB54: 2790.6
A55: 40026EF | B55: 40515 | C55: 34.68 | D55: 8.1 | E55: 11.74 | F55: 28.68 | G55: 31.62 | H55: 3.544 | I55: 35.46 | J55: 77.5 | K55: 121.7 | L55: 7.69 | M55: 76.12 | N55: 13 | O55: 8.03 | P55: 18.99 | Q55: 64.02 | R55: 33.105 | S55: 29.28 | T55: 79.86 | U55: 18.38 | AB55: 2818.63
A56: 40026EF | B56: 40522 | C56: 34.97 | D56: 8.436 | E56: 12.695 | F56: 28.5 | G56: 31.945 | H56: 3.685 | I56: 34.595 | J56: 82 | K56: 121.5 | L56: 8.23 | M56: 77.12 | N56: 12.9 | O56: 8.13 | P56: 19.65 | Q56: 64.13 | R56: 31.76 | S56: 31.19 | T56: 79.21 | U56: 19.125 | AB56: 2889.41
A57: 40026EF | B57: 40529 | C57: 35.21 | D57: 8.33 | E57: 12.645 | F57: 28.2 | G57: 31.785 | H57: 3.784 | I57: 34.88 | J57: 82.2 | K57: 123.2 | L57: 8.2 | M57: 77.14 | N57: 12.64 | O57: 7.99 | P57: 16.48 | Q57: 65.38 | R57: 33.04 | S57: 31.5 | T57: 81.65 | U57: 18.695 | AB57: 2901.11
A58: 40026EF | B58: 40536 | C58: 34.94 | D58: 8.288 | E58: 12.83 | F58: 28.46 | G58: 31.5 | H58: 3.93 | I58: 35.5 | J58: 81.64 | K58: 128 | L58: 8.2 | M58: 78.15 | N58: 13.12 | O58: 7.83 | P58: 16.41 | Q58: 66.3 | R58: 31.81 | S58: 31.805 | T58: 82.5 | U58: 18.99 | AB58: 2926.29
A59: 40026EF | B59: 40543 | C59: 35.23 | D59: 8.088 | E59: 12.45 | F59: 28.51 | G59: 30.695 | H59: 3.89 | I59: 35.52 | J59: 80 | K59: 123.1 | L59: 8.1 | M59: 77.73 | N59: 13.52 | O59: 7.91 | P59: 16.25 | Q59: 64.32 | R59: 30.85 | S59: 31.66 | T59: 81.4 | U59: 19.015 | AB59: 2861.15
A60: 40026EF | B60: 40550 | C60: 34.85 | D60: 8.52 | E60: 13.205 | F60: 29.5 | G60: 31.23 | H60: 3.888 | I60: 36 | J60: 79 | K60: 119.35 | L60: 8.6 | M60: 78.19 | N60: 14.05 | O60: 7.94 | P60: 16.08 | Q60: 67.9 | R60: 32.42 | S60: 30.965 | T60: 79.7 | U60: 19.19 | AB60: 2910.79
A61: 40026EF | B61: 40557 | C61: 34.9 | D61: 9.149 | E61: 14.54 | F61: 29.15 | G61: 31.245 | H61: 3.801 | I61: 36.275 | J61: 78 | K61: 116.75 | L61: 8.57 | M61: 80.23 | N61: 14.12 | O61: 8.1 | P61: 15.88 | Q61: 67.01 | R61: 33.225 | S61: 31.795 | T61: 76.25 | U61: 20.325 | AB61: 2984.47
A62: 40026EF | B62: 40564 | C62: 37.79 | D62: 9.177 | E62: 14.95 | F62: 28.7 | G62: 32.07 | H62: 3.789 | I62: 35.08 | J62: 77.7 | K62: 112.3 | L62: 8.28 | M62: 74.49 | N62: 14.29 | O62: 8.1 | P62: 16.75 | Q62: 63.54 | R62: 33.305 | S62: 32.45 | T62: 76.33 | U62: 20.86 | AB62: 2999.37
A63: 40026EF | B63: 40571 | C63: 37.84 | D63: 9.168 | E63: 15.39 | F63: 28.69 | G63: 32.105 | H63: 3.886 | I63: 35.6 | J63: 77 | K63: 113.8 | L63: 8.29 | M63: 74.22 | N63: 14.2 | O63: 8.18 | P63: 16.96 | Q63: 63.55 | R63: 33.975 | S63: 31.675 | T63: 78.3 | U63: 20.715 | AB63: 2994.87
... A69: 40026EF | B69: 40612 | C69: 37.98 | D69: 9.933 | E69: 14.915 | F69: 28.55 | G69: 31.02 | H69: 3.901 | I69: 34.765 | J69: 78.1 | K69: 113.1 | L69: 7.95 | M69: 67.67 | N69: 14.15 | O69: 8.46 | P69: 16.1 | Q69: 62.8 | R69: 32.32 | S69: 32.32 | T69: 80.46 | U69: 19.4 | AB69: 2942.1

Sheet Feuil3
C3: =DONNEES!C3 -> seloger | D3: =DONNEES!D3 -> soitec | E3: =DONNEES!E3 -> axa | F3: =DONNEES!F3 -> boiron | G3: =DONNEES!G3 -> edf | H3: =DONNEES!H3 -> havas | I3: =DONNEES!I3 -> ipsos | J3: =DONNEES!J3 -> laurent perrier | ... AC3: =DONNEES!AC3 -> CAC 40(FRA)
C5: =DONNEES!C7/DONNEES!C6-1 -> -0.037606838 | D5: =DONNEES!D7/DONNEES!D6-1 -> 0.0092929293 | E5: =DONNEES!E7/DONNEES!E6-1 -> -0.0060096154 | F5: =DONNEES!F7/DONNEES!F6-1 -> 0.00033557047 | G5: =DONNEES!G7/DONNEES!G6-1 -> 0.016012712 | H5: =DONNEES!H7/DONNEES!H6-1 -> 0.0075812274 | I5: =DONNEES!I7/DONNEES!I6-1 -> -0.00094428706 | J5: =DONNEES!J7/DONNEES!J6-1 -> 0.0039033457 | ... AC5: =DONNEES!AC7/DONNEES!AC6-1 -> 0.0060315943
C6: =DONNEES!C8/DONNEES!C7-1 -> 0.021314387 | D6: =DONNEES!D8/DONNEES!D7-1 -> 0.13290633 | E6: =DONNEES!E8/DONNEES!E7-1 -> 0.034764208 | F6: =DONNEES!F8/DONNEES!F7-1 -> 0.043274069 | G6: =DONNEES!G8/DONNEES!G7-1 -> 0.013955727 | H6: =DONNEES!H8/DONNEES!H7-1 -> 0.099247582 | I6: =DONNEES!I8/DONNEES!I7-1 -> 0.021975425 | J6: =DONNEES!J8/DONNEES!J7-1 -> 0.054804666 | ... AC6: =DONNEES!AC8/DONNEES!AC7-1 -> 0.027642499
C7: =DONNEES!C9/DONNEES!C8-1 -> 0.13913043 | D7: =DONNEES!D9/DONNEES!D8-1 -> 0.0075088339 | E7: =DONNEES!E9/DONNEES!E8-1 -> -0.027753433 | F7: =DONNEES!F9/DONNEES!F8-1 -> 0.0064308682 | G7: =DONNEES!G9/DONNEES!G8-1 -> -0.035239677 | H7: =DONNEES!H9/DONNEES!H8-1 -> -0.0061929596 | I7: =DONNEES!I9/DONNEES!I8-1 -> -0.0034682081 | J7: =DONNEES!J9/DONNEES!J8-1 -> 0.11971213 | ... AC7: =DONNEES!AC9/DONNEES!AC8-1 -> -0.022436801
C8: =DONNEES!C10/DONNEES!C9-1 -> -0.067175573 | D8: =DONNEES!D10/DONNEES!D9-1 -> -0.11135467 | E8: =DONNEES!E10/DONNEES!E9-1 -> -0.0625 | F8: =DONNEES!F10/DONNEES!F9-1 -> 0.022364217 | G8: =DONNEES!G10/DONNEES!G9-1 -> 0.0087320133 | H8: =DONNEES!H10/DONNEES!H9-1 -> -0.019350607 | I8: =DONNEES!I10/DONNEES!I9-1 -> 0.060324826 | J8: =DONNEES!J10/DONNEES!J9-1 -> -0.0084652767 | ... AC8: =DONNEES!AC10/DONNEES!AC9-1 -> -0.033785322
C9: =DONNEES!C11/DONNEES!C10-1 -> 0.028641571 | D9: =DONNEES!D11/DONNEES!D10-1 -> 0.0098667982 | E9: =DONNEES!E11/DONNEES!E10-1 -> -0.038461538 | F9: =DONNEES!F11/DONNEES!F10-1 -> -0.040625 | G9: =DONNEES!G11/DONNEES!G10-1 -> -0.048280907 | H9: =DONNEES!H11/DONNEES!H10-1 -> 0.060200669 | I9: =DONNEES!I11/DONNEES!I10-1 -> -0.0054704595 | J9: =DONNEES!J11/DONNEES!J10-1 -> -0.019762846 | ... AC9: =DONNEES!AC11/DONNEES!AC10-1 -> -0.021283612
C10: =DONNEES!C12/DONNEES!C11-1 -> -0.042959427 | D10: =DONNEES!D12/DONNEES!D11-1 -> -0.049340498 | E10: =DONNEES!E12/DONNEES!E11-1 -> -0.048 | F10: =DONNEES!F12/DONNEES!F11-1 -> -0.035830619 | G10: =DONNEES!G12/DONNEES!G11-1 -> -0.036126057 | H10: =DONNEES!H12/DONNEES!H11-1 -> -0.072870662 | I10: =DONNEES!I12/DONNEES!I11-1 -> 0.022662266 | J10: =DONNEES!J12/DONNEES!J11-1 -> -0.093225806 | ... AC10: =DONNEES!AC12/DONNEES!AC11-1 -> -0.046985394
C11: =DONNEES!C13/DONNEES!C12-1 -> -0.027431421 | D11: =DONNEES!D13/DONNEES!D12-1 -> -0.078108941 | E11: =DONNEES!E13/DONNEES!E12-1 -> 0.011204482 | F11: =DONNEES!F13/DONNEES!F12-1 -> 0.0060810811 | G11: =DONNEES!G13/DONNEES!G12-1 -> 0.03841042 | H11: =DONNEES!H13/DONNEES!H12-1 -> 0.054780538 | I11: =DONNEES!I13/DONNEES!I12-1 -> -0.0047332186 | J11: =DONNEES!J13/DONNEES!J12-1 -> 0.03166133 | ... AC11: =DONNEES!AC13/DONNEES!AC12-1 -> 0.0099080746
C12: =DONNEES!C14/DONNEES!C13-1 -> 0.068376068 | D12: =DONNEES!D14/DONNEES!D13-1 -> 0.11382386 | E12: =DONNEES!E14/DONNEES!E13-1 -> 0.066828255 | F12: =DONNEES!F14/DONNEES!F13-1 -> 0.016789792 | G12: =DONNEES!G14/DONNEES!G13-1 -> -0.02406246 | H12: =DONNEES!H14/DONNEES!H13-1 -> 0.0087096774 | I12: =DONNEES!I14/DONNEES!I13-1 -> 0.015996541 | J12: =DONNEES!J14/DONNEES!J13-1 -> -0.010344828 | ... AC12: =DONNEES!AC14/DONNEES!AC13-1 -> 0.047365014
C13: =DONNEES!C15/DONNEES!C14-1 -> 0.0256 | D13: =DONNEES!D15/DONNEES!D14-1 -> -0.034130718 | E13: =DONNEES!E15/DONNEES!E14-1 -> -0.040246673 | F13: =DONNEES!F15/DONNEES!F14-1 -> -0.0026420079 | G13: =DONNEES!G15/DONNEES!G14-1 -> -0.034491803 | H13: =DONNEES!H15/DONNEES!H14-1 -> -0.038695235 | I13: =DONNEES!I15/DONNEES!I14-1 -> 0.085106383 | J13: =DONNEES!J15/DONNEES!J14-1 -> -0.0087108014 | ... AC13: =DONNEES!AC15/DONNEES!AC14-1 -> -0.016113372
C14: =DONNEES!C16/DONNEES!C15-1 -> -0.0093603744 | D14: =DONNEES!D16/DONNEES!D15-1 -> 0.088601036 | E14: =DONNEES!E16/DONNEES!E15-1 -> 0.056137978 | F14: =DONNEES!F16/DONNEES!F15-1 -> 0.036423841 | G14: =DONNEES!G16/DONNEES!G15-1 -> 0.02866069 | H14: =DONNEES!H16/DONNEES!H15-1 -> 0.041250832 | I14: =DONNEES!I16/DONNEES!I15-1 -> 0.02 | J14: =DONNEES!J16/DONNEES!J15-1 -> 0.037082601 | ... AC14: =DONNEES!AC16/DONNEES!AC15-1 -> 0.054362597
C15: =DONNEES!C17/DONNEES!C16-1 -> 0.010629921 | D15: =DONNEES!D17/DONNEES!D16-1 -> 0.0071394574 | E15: =DONNEES!E17/DONNEES!E16-1 -> 0.035542747 | F15: =DONNEES!F17/DONNEES!F16-1 -> 0.016613419 | G15: =DONNEES!G17/DONNEES!G16-1 -> -0.00092433646 | H15: =DONNEES!H17/DONNEES!H16-1 -> 0.0095846645 | I15: =DONNEES!I17/DONNEES!I16-1 -> 0.0048058439 | J15: =DONNEES!J17/DONNEES!J16-1 -> -0.017115743 | ... AC15: =DONNEES!AC17/DONNEES!AC16-1 -> 0.0043422446
C16: =DONNEES!C18/DONNEES!C17-1 -> -0.034670822 | D16: =DONNEES!D18/DONNEES!D17-1 -> 0.041115312 | E16: =DONNEES!E18/DONNEES!E17-1 -> -0.02288188 | F16: =DONNEES!F18/DONNEES!F17-1 -> 0.010999371 | G16: =DONNEES!G18/DONNEES!G17-1 -> -0.00052868094 | H16: =DONNEES!H18/DONNEES!H17-1 -> 0.039556962 | I16: =DONNEES!I18/DONNEES!I17-1 -> -0.02429692 | J16: =DONNEES!J18/DONNEES!J17-1 -> 0.0051724138 | ... AC16: =DONNEES!AC18/DONNEES!AC17-1 -> -0.0004990579
... C50: =DONNEES!C52/DONNEES!C51-1 -> -0.0061971831 | D50: =DONNEES!D52/DONNEES!D51-1 -> 0.17890098 | E50: =DONNEES!E52/DONNEES!E51-1 -> -0.034985423 | F50: =DONNEES!F52/DONNEES!F51-1 -> -0.03125 | G50: =DONNEES!G52/DONNEES!G51-1 -> 0.0154398 | H50: =DONNEES!H52/DONNEES!H51-1 -> -0.053835801 | I50: =DONNEES!I52/DONNEES!I51-1 -> -0.014287776 | J50: =DONNEES!J52/DONNEES!J51-1 -> -0.08988764 | ... AC50: =DONNEES!AC52/DONNEES!AC51-1 -> -1
C51: =DONNEES!C53/DONNEES!C52-1 -> -0.00056689342 | D51: =DONNEES!D53/DONNEES!D52-1 -> -0.025584112 | E51: =DONNEES!E53/DONNEES!E52-1 -> -0.030589124 | F51: =DONNEES!F53/DONNEES!F52-1 -> -0.0046082949 | G51: =DONNEES!G53/DONNEES!G52-1 -> 0.034096145 | H51: =DONNEES!H53/DONNEES!H52-1 -> 0.021906117 | I51: =DONNEES!I53/DONNEES!I52-1 -> 0.0045387994 | J51: =DONNEES!J53/DONNEES!J52-1 -> -0.012345679 | ... U51: =DONNEES!U53/DONNEES!U52-1 -> -0.0087675351 | AB51: =DONNEES!AB53/DONNEES!AB52-1 -> 0.0066076366
C52: =DONNEES!C54/DONNEES!C53-1 -> -0.025241066 | D52: =DONNEES!D54/DONNEES!D53-1 -> -0.02421772 | E52: =DONNEES!E54/DONNEES!E53-1 -> -0.074016362 | F52: =DONNEES!F54/DONNEES!F53-1 -> 0.0092592593 | G52: =DONNEES!G54/DONNEES!G53-1 -> -0.03237784 | H52: =DONNEES!H54/DONNEES!H53-1 -> -0.027561247 | I52: =DONNEES!I54/DONNEES!I53-1 -> -0.0036437837 | J52: =DONNEES!J54/DONNEES!J53-1 -> -0.0375 | ... U52: =DONNEES!U54/DONNEES!U53-1 -> -0.020975486 | AB52: =DONNEES!AB54/DONNEES!AB53-1 -> -0.029754744
C53: =DONNEES!C55/DONNEES!C54-1 -> 0.0090194937 | D53: =DONNEES!D55/DONNEES!D54-1 -> -0.0047917435 | E53: =DONNEES!E55/DONNEES!E54-1 -> -0.012200252 | F53: =DONNEES!F55/DONNEES!F54-1 -> 0.096330275 | G53: =DONNEES!G55/DONNEES!G54-1 -> -0.029316961 | H53: =DONNEES!H55/DONNEES!H54-1 -> 0.01460063 | I53: =DONNEES!I55/DONNEES!I54-1 -> 0.0374488 | J53: =DONNEES!J55/DONNEES!J54-1 -> 0.0064935065 | ... U53: =DONNEES!U55/DONNEES!U54-1 -> -0.051109964 | AB53: =DONNEES!AB55/DONNEES!AB54-1 -> 0.010044435
C54: =DONNEES!C56/DONNEES!C55-1 -> 0.0083621684 | D54: =DONNEES!D56/DONNEES!D55-1 -> 0.041481481 | E54: =DONNEES!E56/DONNEES!E55-1 -> 0.081345826 | F54: =DONNEES!F56/DONNEES!F55-1 -> -0.0062761506 | G54: =DONNEES!G56/DONNEES!G55-1 -> 0.010278305 | H54: =DONNEES!H56/DONNEES!H55-1 -> 0.039785553 | I54: =DONNEES!I56/DONNEES!I55-1 -> -0.024393683 | J54: =DONNEES!J56/DONNEES!J55-1 -> 0.058064516 | ... U54: =DONNEES!U56/DONNEES!U55-1 -> 0.040533188 | AB54: =DONNEES!AB56/DONNEES!AB55-1 -> 0.02511149
C55: =DONNEES!C57/DONNEES!C56-1 -> 0.0068630255 | D55: =DONNEES!D57/DONNEES!D56-1 -> -0.012565197 | E55: =DONNEES!E57/DONNEES!E56-1 -> -0.0039385585 | F55: =DONNEES!F57/DONNEES!F56-1 -> -0.010526316 | G55: =DONNEES!G57/DONNEES!G56-1 -> -0.0050086085 | H55: =DONNEES!H57/DONNEES!H56-1 -> 0.026865672 | I55: =DONNEES!I57/DONNEES!I56-1 -> 0.0082381847 | J55: =DONNEES!J57/DONNEES!J56-1 -> 0.0024390244 | ... U55: =DONNEES!U57/DONNEES!U56-1 -> -0.02248366 | AB55: =DONNEES!AB57/DONNEES!AB56-1 -> 0.0040492696
C56: =DONNEES!C58/DONNEES!C57-1 -> -0.0076682761 | D56: =DONNEES!D58/DONNEES!D57-1 -> -0.0050420168 | E56: =DONNEES!E58/DONNEES!E57-1 -> 0.014630289 | F56: =DONNEES!F58/DONNEES!F57-1 -> 0.0092198582 | G56: =DONNEES!G58/DONNEES!G57-1 -> -0.0089664936 | H56: =DONNEES!H58/DONNEES!H57-1 -> 0.03858351 | I56: =DONNEES!I58/DONNEES!I57-1 -> 0.017775229 | J56: =DONNEES!J58/DONNEES!J57-1 -> -0.0068126521 | ... U56: =DONNEES!U58/DONNEES!U57-1 -> 0.01577962 | AB56: =DONNEES!AB58/DONNEES!AB57-1 -> 0.0086794365
C57: =DONNEES!C59/DONNEES!C58-1 -> 0.0082999428 | D57: =DONNEES!D59/DONNEES!D58-1 -> -0.024131274 | E57: =DONNEES!E59/DONNEES!E58-1 -> -0.029618083 | F57: =DONNEES!F59/DONNEES!F58-1 -> 0.0017568517 | G57: =DONNEES!G59/DONNEES!G58-1 -> -0.025555556 | H57: =DONNEES!H59/DONNEES!H58-1 -> -0.010178117 | I57: =DONNEES!I59/DONNEES!I58-1 -> 0.00056338028 | J57: =DONNEES!J59/DONNEES!J58-1 -> -0.020088192 | ... U57: =DONNEES!U59/DONNEES!U58-1 -> 0.0013164824 | AB57: =DONNEES!AB59/DONNEES!AB58-1 -> -0.022260268
C58: =DONNEES!C60/DONNEES!C59-1 -> -0.010786262 | D58: =DONNEES!D60/DONNEES!D59-1 -> 0.053412463 | E58: =DONNEES!E60/DONNEES!E59-1 -> 0.06064257 | F58: =DONNEES!F60/DONNEES!F59-1 -> 0.034724658 | G58: =DONNEES!G60/DONNEES!G59-1 -> 0.017429549 | H58: =DONNEES!H60/DONNEES!H59-1 -> -0.00051413882 | I58: =DONNEES!I60/DONNEES!I59-1 -> 0.013513514 | J58: =DONNEES!J60/DONNEES!J59-1 -> -0.0125 | ... U58: =DONNEES!U60/DONNEES!U59-1 -> 0.0092032606 | AB58: =DONNEES!AB60/DONNEES!AB59-1 -> 0.017349667
C59: =DONNEES!C61/DONNEES!C60-1 -> 0.0014347202 | D59: =DONNEES!D61/DONNEES!D60-1 -> 0.073826291 | E59: =DONNEES!E61/DONNEES!E60-1 -> 0.10109807 | F59: =DONNEES!F61/DONNEES!F60-1 -> -0.011864407 | G59: =DONNEES!G61/DONNEES!G60-1 -> 0.0004803074 | H59: =DONNEES!H61/DONNEES!H60-1 -> -0.022376543 | I59: =DONNEES!I61/DONNEES!I60-1 -> 0.0076388889 | J59: =DONNEES!J61/DONNEES!J60-1 -> -0.012658228 | ... U59: =DONNEES!U61/DONNEES!U60-1 -> 0.059145388 | AB59: =DONNEES!AB61/DONNEES!AB60-1 -> 0.025312716
C60: =DONNEES!C62/DONNEES!C61-1 -> 0.082808023 | D60: =DONNEES!D62/DONNEES!D61-1 -> 0.0030604438 | E60: =DONNEES!E62/DONNEES!E61-1 -> 0.028198074 | F60: =DONNEES!F62/DONNEES!F61-1 -> -0.015437393 | G60: =DONNEES!G62/DONNEES!G61-1 -> 0.026404225 | H60: =DONNEES!H62/DONNEES!H61-1 -> -0.0031570639 | I60: =DONNEES!I62/DONNEES!I61-1 -> -0.032942798 | J60: =DONNEES!J62/DONNEES!J61-1 -> -0.0038461538 | ... U60: =DONNEES!U62/DONNEES!U61-1 -> 0.026322263 | AB60: =DONNEES!AB62/DONNEES!AB61-1 -> 0.0049925112
C61: =DONNEES!C63/DONNEES!C62-1 -> 0.0013231013 | D61: =DONNEES!D63/DONNEES!D62-1 -> -0.00098071265 | E61: =DONNEES!E63/DONNEES!E62-1 -> 0.029431438 | F61: =DONNEES!F63/DONNEES!F62-1 -> -0.00034843206 | G61: =DONNEES!G63/DONNEES!G62-1 -> 0.0010913626 | H61: =DONNEES!H63/DONNEES!H62-1 -> 0.025600422 | I61: =DONNEES!I63/DONNEES!I62-1 -> 0.014823261 | J61: =DONNEES!J63/DONNEES!J62-1 -> -0.009009009 | ... U61: =DONNEES!U63/DONNEES!U62-1 -> -0.0069511026 | AB61: =DONNEES!AB63/DONNEES!AB62-1 -> -0.0015003151
C62: =DONNEES!C64/DONNEES!C63-1 -> 0.0029069767 | D62: =DONNEES!D64/DONNEES!D63-1 -> -0.012870855 | E62: =DONNEES!E64/DONNEES!E63-1 -> 0.011046134 | F62: =DONNEES!F64/DONNEES!F63-1 -> -0.0080167306 | G62: =DONNEES!G64/DONNEES!G63-1 -> -0.035352749 | H62: =DONNEES!H64/DONNEES!H63-1 -> 0.050437468 | I62: =DONNEES!I64/DONNEES!I63-1 -> 0.0016853933 | J62: =DONNEES!J64/DONNEES!J63-1 -> -0.0025974026 | ... U62: =DONNEES!U64/DONNEES!U63-1 -> 0.030654115 | AB62: =DONNEES!AB64/DONNEES!AB63-1 -> 0.01057141
... C67: =DONNEES!C69/DONNEES!C68-1 -> -0.00026322717 | D67: =DONNEES!D69/DONNEES!D68-1 -> 0.11219348 | E67: =DONNEES!E69/DONNEES!E68-1 -> -0.0063291139 | F67: =DONNEES!F69/DONNEES!F68-1 -> 0.001754386 | G67: =DONNEES!G69/DONNEES!G68-1 -> -0.010526316 | H67: =DONNEES!H69/DONNEES!H68-1 -> -0.058638996 | I67: =DONNEES!I69/DONNEES!I68-1 -> 0.015184698 | J67: =DONNEES!J69/DONNEES!J68-1 -> 0.041333333 | ... U67: =DONNEES!U69/DONNEES!U68-1 -> -0.054350475 | AB67: =DONNEES!AB69/DONNEES!AB68-1 -> -0.022778907
C69: =+C3 -> seloger | D69: =+D3 -> soitec | E69: =+E3 -> axa | F69: =+F3 -> boiron | G69: =+G3 -> edf | H69: =+H3 -> havas | I69: =+I3 -> ipsos | J69: =+J3 -> laurent perrier | ... AC69: =+AC3 -> CAC 40(FRA)
A70: moyenne | C70: =AVERAGE(C5:C67) -> 0.0093698283 | D70: =AVERAGE(D5:D67) -> 0.0018158838 | E70: =AVERAGE(E5:E67) -> -0.00030184391 | F70: =AVERAGE(F5:F67) -> -0.00015036828 | G70: =AVERAGE(G5:G67) -> -0.0038678576 | H70: =AVERAGE(H5:H67) -> 0.0062567678 | I70: =AVERAGE(I5:I67) -> 0.0084126831 | J70: =AVERAGE(J5:J67) -> 0.0067274841 | ... U70: =AVERAGE(U5:U67) -> -0.0051660452 | V70: =AVERAGE(V5:V49) -> 0.0010475514 | W70: =AVERAGE(W5:W49) -> 0.0073972543 | X70: =AVERAGE(X5:X49) -> 0.0035586775 | Y70: =AVERAGE(Y5:Y49) -> 0.0011966268 | Z70: =AVERAGE(Z5:Z49) -> 0.0024925295 | AA70: =AVERAGE(AA5:AA49) -> 0.00058841282 | AB70: =AVERAGE(AB5:AB67) -> 0.00095187103 | AC70: =AVERAGE(AC5:AC49) -> 0.00056087393
A71: variance | C71: =VAR(C5:C67) -> 0.0036938474 | D71: =VAR(D5:D67) -> 0.0036068401 | E71: =VAR(E5:E67) -> 0.0028072716 | F71: =VAR(F5:F67) -> 0.0010821936 | G71: =VAR(G5:G67) -> 0.0010336064 | H71: =VAR(H5:H67) -> 0.001657347 | I71: =VAR(I5:I67) -> 0.0010622851 | J71: =VAR(J5:J67) -> 0.0016282507 | ... U71: =VAR(U5:U67) -> 0.001283456 | V71: =VAR(V5:V49) -> 0.0035735788 | W71: =VAR(W5:W49) -> 0.001784647 | X71: =VAR(X5:X49) -> 0.00092854151 | Y71: =VAR(Y5:Y49) -> 0.0016676414 | Z71: =VAR(Z5:Z49) -> 0.00082628698 | AA71: =VAR(AA5:AA49) -> 0.0016175194 | AB71: =VAR(AB5:AB67) -> 0.00079977117 | AC71: =VAR(AC5:AC49) -> 0.0010828286
A72: écart type | C72: =STDEV(C5:C67) -> 0.06077703 | D72: =STDEV(D5:D67) -> 0.060056974 | E72: =STDEV(E5:E67) -> 0.052983692 | F72: =STDEV(F5:F67) -> 0.032896711 | G72: =STDEV(G5:G67) -> 0.03214975 | H72: =STDEV(H5:H67) -> 0.040710526 | I72: =STDEV(I5:I67) -> 0.032592716 | J72: =STDEV(J5:J67) -> 0.040351588 | ... U72: =STDEV(U5:U67) -> 0.035825354 | V72: =STDEV(V5:V49) -> 0.059779418 | W72: =STDEV(W5:W49) -> 0.042245083 | X72: =STDEV(X5:X49) -> 0.030471979 | Y72: =STDEV(Y5:Y49) -> 0.040836766 | Z72: =STDEV(Z5:Z49) -> 0.028745208 | AA72: =STDEV(AA5:AA49) -> 0.040218396 | AB72: =STDEV(AB5:AB67) -> 0.028280226 | AC72: =STDEV(AC5:AC49) -> 0.032906362
A74: Moyenne annuelle | C74: =+C70*52 -> 0.48723107 | D74: =+D70*52 -> 0.094425958 | E74: =+E70*52 -> -0.015695883 | F74: =+F70*52 -> -0.0078191505 | G74: =+G70*52 -> -0.2011286 | H74: =+H70*52 -> 0.32535192 | I74: =+I70*52 -> 0.43745952 | J74: =+J70*52 -> 0.34982917 | ... AC74: =+AC70*52 -> 0.029165444
A75: etart type annuelle | C75: =+C72*52^0.5 -> 0.43826939 | D75: =+D72*52^0.5 -> 0.433077 | E75: =+E72*52^0.5 -> 0.38207083 | F75: =+F72*52^0.5 -> 0.23722156 | G75: =+G72*52^0.5 -> 0.23183515 | H75: =+H72*52^0.5 -> 0.29356778 | I75: =+I72*52^0.5 -> 0.23502942 | J75: =+J72*52^0.5 -> 0.29097944 | ... AC75: =+AC72*52^0.5 -> 0.23729115
A77: calcul + sélectionner les cellules+ Ctrl + Maj + Enter | B77: estimation de Beta | C77: {=LINEST(C5:C67,AB5:AB67,TRUE,TRUE)} -> 0.59528522 | D77: 0.0088031936
B78: erreur type | C78: 0.26439742 | D78: 0.0074219067
B79: R² | C79: 0.076725019 | D79: 0.05887568
B80: fischer | C80: 5.0691574 | D80: 61
C81: 0.017571452 | D81: 0.21144708
C82: #N/A | D82: #N/A
A85: Student | C85: =C77/C78 -> 2.2514789 | D85: =D77/D78 -> 1.1861094
...

Sheet Feuil1
C3: =DONNEES!C3 -> seloger | D3: =DONNEES!D3 -> soitec | E3: =DONNEES!E3 -> axa | F3: =DONNEES!F3 -> boiron | G3: =DONNEES!G3 -> edf | H3: =DONNEES!H3 -> havas | I3: =DONNEES!I3 -> ipsos | J3: =DONNEES!J3 -> laurent perrier | ... AC3: =DONNEES!AC3 -> CAC 40(FRA)
C5: =DONNEES!C7/DONNEES!C6-1 -> -0.037606838 | D5: =DONNEES!D7/DONNEES!D6-1 -> 0.0092929293 | E5: =DONNEES!E7/DONNEES!E6-1 -> -0.0060096154 | F5: =DONNEES!F7/DONNEES!F6-1 -> 0.00033557047 | G5: =DONNEES!G7/DONNEES!G6-1 -> 0.016012712 | H5: =DONNEES!H7/DONNEES!H6-1 -> 0.0075812274 | I5: =DONNEES!I7/DONNEES!I6-1 -> -0.00094428706 | J5: =DONNEES!J7/DONNEES!J6-1 -> 0.0039033457 | ... AC5: =DONNEES!AC7/DONNEES!AC6-1 -> 0.0060315943
C6: =DONNEES!C8/DONNEES!C7-1 -> 0.021314387 | D6: =DONNEES!D8/DONNEES!D7-1 -> 0.13290633 | E6: =DONNEES!E8/DONNEES!E7-1 -> 0.034764208 | F6: =DONNEES!F8/DONNEES!F7-1 -> 0.043274069 | G6: =DONNEES!G8/DONNEES!G7-1 -> 0.013955727 | H6: =DONNEES!H8/DONNEES!H7-1 -> 0.099247582 | I6: =DONNEES!I8/DONNEES!I7-1 -> 0.021975425 | J6: =DONNEES!J8/DONNEES!J7-1 -> 0.054804666 | ... AC6: =DONNEES!AC8/DONNEES!AC7-1 -> 0.027642499
C7: =DONNEES!C9/DONNEES!C8-1 -> 0.13913043 | D7: =DONNEES!D9/DONNEES!D8-1 -> 0.0075088339 | E7: =DONNEES!E9/DONNEES!E8-1 -> -0.027753433 | F7: =DONNEES!F9/DONNEES!F8-1 -> 0.0064308682 | G7: =DONNEES!G9/DONNEES!G8-1 -> -0.035239677 | H7: =DONNEES!H9/DONNEES!H8-1 -> -0.0061929596 | I7: =DONNEES!I9/DONNEES!I8-1 -> -0.0034682081 | J7: =DONNEES!J9/DONNEES!J8-1 -> 0.11971213 | ... AC7: =DONNEES!AC9/DONNEES!AC8-1 -> -0.022436801
C8: =DONNEES!C10/DONNEES!C9-1 -> -0.067175573 | D8: =DONNEES!D10/DONNEES!D9-1 -> -0.11135467 | E8: =DONNEES!E10/DONNEES!E9-1 -> -0.0625 | F8: =DONNEES!F10/DONNEES!F9-1 -> 0.022364217 | G8: =DONNEES!G10/DONNEES!G9-1 -> 0.0087320133 | H8: =DONNEES!H10/DONNEES!H9-1 -> -0.019350607 | I8: =DONNEES!I10/DONNEES!I9-1 -> 0.060324826 | J8: =DONNEES!J10/DONNEES!J9-1 -> -0.0084652767 | ... AC8: =DONNEES!AC10/DONNEES!AC9-1 -> -0.033785322
C9: =DONNEES!C11/DONNEES!C10-1 -> 0.028641571 | D9: =DONNEES!D11/DONNEES!D10-1 -> 0.0098667982 | E9: =DONNEES!E11/DONNEES!E10-1 -> -0.038461538 | F9: =DONNEES!F11/DONNEES!F10-1 -> -0.040625 | G9: =DONNEES!G11/DONNEES!G10-1 -> -0.048280907 | H9: =DONNEES!H11/DONNEES!H10-1 -> 0.060200669 | I9: =DONNEES!I11/DONNEES!I10-1 -> -0.0054704595 | J9: =DONNEES!J11/DONNEES!J10-1 -> -0.019762846 | ... AC9: =DONNEES!AC11/DONNEES!AC10-1 -> -0.021283612
C10: =DONNEES!C12/DONNEES!C11-1 -> -0.042959427 | D10: =DONNEES!D12/DONNEES!D11-1 -> -0.049340498 | E10: =DONNEES!E12/DONNEES!E11-1 -> -0.048 | F10: =DONNEES!F12/DONNEES!F11-1 -> -0.035830619 | G10: =DONNEES!G12/DONNEES!G11-1 -> -0.036126057 | H10: =DONNEES!H12/DONNEES!H11-1 -> -0.072870662 | I10: =DONNEES!I12/DONNEES!I11-1 -> 0.022662266 | J10: =DONNEES!J12/DONNEES!J11-1 -> -0.093225806 | ... AC10: =DONNEES!AC12/DONNEES!AC11-1 -> -0.046985394
C11: =DONNEES!C13/DONNEES!C12-1 -> -0.027431421 | D11: =DONNEES!D13/DONNEES!D12-1 -> -0.078108941 | E11: =DONNEES!E13/DONNEES!E12-1 -> 0.011204482 | F11: =DONNEES!F13/DONNEES!F12-1 -> 0.0060810811 | G11: =DONNEES!G13/DONNEES!G12-1 -> 0.03841042 | H11: =DONNEES!H13/DONNEES!H12-1 -> 0.054780538 | I11: =DONNEES!I13/DONNEES!I12-1 -> -0.0047332186 | J11: =DONNEES!J13/DONNEES!J12-1 -> 0.03166133 | ... AC11: =DONNEES!AC13/DONNEES!AC12-1 -> 0.0099080746
C12: =DONNEES!C14/DONNEES!C13-1 -> 0.068376068 | D12: =DONNEES!D14/DONNEES!D13-1 -> 0.11382386 | E12: =DONNEES!E14/DONNEES!E13-1 -> 0.066828255 | F12: =DONNEES!F14/DONNEES!F13-1 -> 0.016789792 | G12: =DONNEES!G14/DONNEES!G13-1 -> -0.02406246 | H12: =DONNEES!H14/DONNEES!H13-1 -> 0.0087096774 | I12: =DONNEES!I14/DONNEES!I13-1 -> 0.015996541 | J12: =DONNEES!J14/DONNEES!J13-1 -> -0.010344828 | ... AC12: =DONNEES!AC14/DONNEES!AC13-1 -> 0.047365014
C13: =DONNEES!C15/DONNEES!C14-1 -> 0.0256 | D13: =DONNEES!D15/DONNEES!D14-1 -> -0.034130718 | E13: =DONNEES!E15/DONNEES!E14-1 -> -0.040246673 | F13: =DONNEES!F15/DONNEES!F14-1 -> -0.0026420079 | G13: =DONNEES!G15/DONNEES!G14-1 -> -0.034491803 | H13: =DONNEES!H15/DONNEES!H14-1 -> -0.038695235 | I13: =DONNEES!I15/DONNEES!I14-1 -> 0.085106383 | J13: =DONNEES!J15/DONNEES!J14-1 -> -0.0087108014 | ... AC13: =DONNEES!AC15/DONNEES!AC14-1 -> -0.016113372
C14: =DONNEES!C16/DONNEES!C15-1 -> -0.0093603744 | D14: =DONNEES!D16/DONNEES!D15-1 -> 0.088601036 | E14: =DONNEES!E16/DONNEES!E15-1 -> 0.056137978 | F14: =DONNEES!F16/DONNEES!F15-1 -> 0.036423841 | G14: =DONNEES!G16/DONNEES!G15-1 -> 0.02866069 | H14: =DONNEES!H16/DONNEES!H15-1 -> 0.041250832 | I14: =DONNEES!I16/DONNEES!I15-1 -> 0.02 | J14: =DONNEES!J16/DONNEES!J15-1 -> 0.037082601 | ... AC14: =DONNEES!AC16/DONNEES!AC15-1 -> 0.054362597
C15: =DONNEES!C17/DONNEES!C16-1 -> 0.010629921 | D15: =DONNEES!D17/DONNEES!D16-1 -> 0.0071394574 | E15: =DONNEES!E17/DONNEES!E16-1 -> 0.035542747 | F15: =DONNEES!F17/DONNEES!F16-1 -> 0.016613419 | G15: =DONNEES!G17/DONNEES!G16-1 -> -0.00092433646 | H15: =DONNEES!H17/DONNEES!H16-1 -> 0.0095846645 | I15: =DONNEES!I17/DONNEES!I16-1 -> 0.0048058439 | J15: =DONNEES!J17/DONNEES!J16-1 -> -0.017115743 | ... AC15: =DONNEES!AC17/DONNEES!AC16-1 -> 0.0043422446
C16: =DONNEES!C18/DONNEES!C17-1 -> -0.034670822 | D16: =DONNEES!D18/DONNEES!D17-1 -> 0.041115312 | E16: =DONNEES!E18/DONNEES!E17-1 -> -0.02288188 | F16: =DONNEES!F18/DONNEES!F17-1 -> 0.010999371 | G16: =DONNEES!G18/DONNEES!G17-1 -> -0.00052868094 | H16: =DONNEES!H18/DONNEES!H17-1 -> 0.039556962 | I16: =DONNEES!I18/DONNEES!I17-1 -> -0.02429692 | J16: =DONNEES!J18/DONNEES!J17-1 -> 0.0051724138 | ... AC16: =DONNEES!AC18/DONNEES!AC17-1 -> -0.0004990579
... C50: =DONNEES!C52/DONNEES!C51-1 -> -0.0061971831 | D50: =DONNEES!D52/DONNEES!D51-1 -> 0.17890098 | E50: =DONNEES!E52/DONNEES!E51-1 -> -0.034985423 | F50: =DONNEES!F52/DONNEES!F51-1 -> -0.03125 | G50: =DONNEES!G52/DONNEES!G51-1 -> 0.0154398 | H50: =DONNEES!H52/DONNEES!H51-1 -> -0.053835801 | I50: =DONNEES!I52/DONNEES!I51-1 -> -0.014287776 | J50: =DONNEES!J52/DONNEES!J51-1 -> -0.08988764 | ... AC50: =DONNEES!AC52/DONNEES!AC51-1 -> -1
C51: =DONNEES!C53/DONNEES!C52-1 -> -0.00056689342 | D51: =DONNEES!D53/DONNEES!D52-1 -> -0.025584112 | E51: =DONNEES!E53/DONNEES!E52-1 -> -0.030589124 | F51: =DONNEES!F53/DONNEES!F52-1 -> -0.0046082949 | G51: =DONNEES!G53/DONNEES!G52-1 -> 0.034096145 | H51: =DONNEES!H53/DONNEES!H52-1 -> 0.021906117 | I51: =DONNEES!I53/DONNEES!I52-1 -> 0.0045387994 | J51: =DONNEES!J53/DONNEES!J52-1 -> -0.012345679 | ... U51: =DONNEES!U53/DONNEES!U52-1 -> -0.0087675351 | AB51: =DONNEES!AB53/DONNEES!AB52-1 -> 0.0066076366
C52: =DONNEES!C54/DONNEES!C53-1 -> -0.025241066 | D52: =DONNEES!D54/DONNEES!D53-1 -> -0.02421772 | E52: =DONNEES!E54/DONNEES!E53-1 -> -0.074016362 | F52: =DONNEES!F54/DONNEES!F53-1 -> 0.0092592593 | G52: =DONNEES!G54/DONNEES!G53-1 -> -0.03237784 | H52: =DONNEES!H54/DONNEES!H53-1 -> -0.027561247 | I52: =DONNEES!I54/DONNEES!I53-1 -> -0.0036437837 | J52: =DONNEES!J54/DONNEES!J53-1 -> -0.0375 | ... U52: =DONNEES!U54/DONNEES!U53-1 -> -0.020975486 | AB52: =DONNEES!AB54/DONNEES!AB53-1 -> -0.029754744
C53: =DONNEES!C55/DONNEES!C54-1 -> 0.0090194937 | D53: =DONNEES!D55/DONNEES!D54-1 -> -0.0047917435 | E53: =DONNEES!E55/DONNEES!E54-1 -> -0.012200252 | F53: =DONNEES!F55/DONNEES!F54-1 -> 0.096330275 | G53: =DONNEES!G55/DONNEES!G54-1 -> -0.029316961 | H53: =DONNEES!H55/DONNEES!H54-1 -> 0.01460063 | I53: =DONNEES!I55/DONNEES!I54-1 -> 0.0374488 | J53: =DONNEES!J55/DONNEES!J54-1 -> 0.0064935065 | ... U53: =DONNEES!U55/DONNEES!U54-1 -> -0.051109964 | AB53: =DONNEES!AB55/DONNEES!AB54-1 -> 0.010044435
C54: =DONNEES!C56/DONNEES!C55-1 -> 0.0083621684 | D54: =DONNEES!D56/DONNEES!D55-1 -> 0.041481481 | E54: =DONNEES!E56/DONNEES!E55-1 -> 0.081345826 | F54: =DONNEES!F56/DONNEES!F55-1 -> -0.0062761506 | G54: =DONNEES!G56/DONNEES!G55-1 -> 0.010278305 | H54: =DONNEES!H56/DONNEES!H55-1 -> 0.039785553 | I54: =DONNEES!I56/DONNEES!I55-1 -> -0.024393683 | J54: =DONNEES!J56/DONNEES!J55-1 -> 0.058064516 | ... U54: =DONNEES!U56/DONNEES!U55-1 -> 0.040533188 | AB54: =DONNEES!AB56/DONNEES!AB55-1 -> 0.02511149
C55: =DONNEES!C57/DONNEES!C56-1 -> 0.0068630255 | D55: =DONNEES!D57/DONNEES!D56-1 -> -0.012565197 | E55: =DONNEES!E57/DONNEES!E56-1 -> -0.0039385585 | F55: =DONNEES!F57/DONNEES!F56-1 -> -0.010526316 | G55: =DONNEES!G57/DONNEES!G56-1 -> -0.0050086085 | H55: =DONNEES!H57/DONNEES!H56-1 -> 0.026865672 | I55: =DONNEES!I57/DONNEES!I56-1 -> 0.0082381847 | J55: =DONNEES!J57/DONNEES!J56-1 -> 0.0024390244 | ... U55: =DONNEES!U57/DONNEES!U56-1 -> -0.02248366 | AB55: =DONNEES!AB57/DONNEES!AB56-1 -> 0.0040492696
C56: =DONNEES!C58/DONNEES!C57-1 -> -0.0076682761 | D56: =DONNEES!D58/DONNEES!D57-1 -> -0.0050420168 | E56: =DONNEES!E58/DONNEES!E57-1 -> 0.014630289 | F56: =DONNEES!F58/DONNEES!F57-1 -> 0.0092198582 | G56: =DONNEES!G58/DONNEES!G57-1 -> -0.0089664936 | H56: =DONNEES!H58/DONNEES!H57-1 -> 0.03858351 | I56: =DONNEES!I58/DONNEES!I57-1 -> 0.017775229 | J56: =DONNEES!J58/DONNEES!J57-1 -> -0.0068126521 | ... U56: =DONNEES!U58/DONNEES!U57-1 -> 0.01577962 | AB56: =DONNEES!AB58/DONNEES!AB57-1 -> 0.0086794365
C57: =DONNEES!C59/DONNEES!C58-1 -> 0.0082999428 | D57: =DONNEES!D59/DONNEES!D58-1 -> -0.024131274 | E57: =DONNEES!E59/DONNEES!E58-1 -> -0.029618083 | F57: =DONNEES!F59/DONNEES!F58-1 -> 0.0017568517 | G57: =DONNEES!G59/DONNEES!G58-1 -> -0.025555556 | H57: =DONNEES!H59/DONNEES!H58-1 -> -0.010178117 | I57: =DONNEES!I59/DONNEES!I58-1 -> 0.00056338028 | J57: =DONNEES!J59/DONNEES!J58-1 -> -0.020088192 | ... U57: =DONNEES!U59/DONNEES!U58-1 -> 0.0013164824 | AB57: =DONNEES!AB59/DONNEES!AB58-1 -> -0.022260268
C58: =DONNEES!C60/DONNEES!C59-1 -> -0.010786262 | D58: =DONNEES!D60/DONNEES!D59-1 -> 0.053412463 | E58: =DONNEES!E60/DONNEES!E59-1 -> 0.06064257 | F58: =DONNEES!F60/DONNEES!F59-1 -> 0.034724658 | G58: =DONNEES!G60/DONNEES!G59-1 -> 0.017429549 | H58: =DONNEES!H60/DONNEES!H59-1 -> -0.00051413882 | I58: =DONNEES!I60/DONNEES!I59-1 -> 0.013513514 | J58: =DONNEES!J60/DONNEES!J59-1 -> -0.0125 | ... U58: =DONNEES!U60/DONNEES!U59-1 -> 0.0092032606 | AB58: =DONNEES!AB60/DONNEES!AB59-1 -> 0.017349667
C59: =DONNEES!C61/DONNEES!C60-1 -> 0.0014347202 | D59: =DONNEES!D61/DONNEES!D60-1 -> 0.073826291 | E59: =DONNEES!E61/DONNEES!E60-1 -> 0.10109807 | F59: =DONNEES!F61/DONNEES!F60-1 -> -0.011864407 | G59: =DONNEES!G61/DONNEES!G60-1 -> 0.0004803074 | H59: =DONNEES!H61/DONNEES!H60-1 -> -0.022376543 | I59: =DONNEES!I61/DONNEES!I60-1 -> 0.0076388889 | J59: =DONNEES!J61/DONNEES!J60-1 -> -0.012658228 | ... U59: =DONNEES!U61/DONNEES!U60-1 -> 0.059145388 | AB59: =DONNEES!AB61/DONNEES!AB60-1 -> 0.025312716
C60: =DONNEES!C62/DONNEES!C61-1 -> 0.082808023 | D60: =DONNEES!D62/DONNEES!D61-1 -> 0.0030604438 | E60: =DONNEES!E62/DONNEES!E61-1 -> 0.028198074 | F60: =DONNEES!F62/DONNEES!F61-1 -> -0.015437393 | G60: =DONNEES!G62/DONNEES!G61-1 -> 0.026404225 | H60: =DONNEES!H62/DONNEES!H61-1 -> -0.0031570639 | I60: =DONNEES!I62/DONNEES!I61-1 -> -0.032942798 | J60: =DONNEES!J62/DONNEES!J61-1 -> -0.0038461538 | ... U60: =DONNEES!U62/DONNEES!U61-1 -> 0.026322263 | AB60: =DONNEES!AB62/DONNEES!AB61-1 -> 0.0049925112
C61: =DONNEES!C63/DONNEES!C62-1 -> 0.0013231013 | D61: =DONNEES!D63/DONNEES!D62-1 -> -0.00098071265 | E61: =DONNEES!E63/DONNEES!E62-1 -> 0.029431438 | F61: =DONNEES!F63/DONNEES!F62-1 -> -0.00034843206 | G61: =DONNEES!G63/DONNEES!G62-1 -> 0.0010913626 | H61: =DONNEES!H63/DONNEES!H62-1 -> 0.025600422 | I61: =DONNEES!I63/DONNEES!I62-1 -> 0.014823261 | J61: =DONNEES!J63/DONNEES!J62-1 -> -0.009009009 | ... U61: =DONNEES!U63/DONNEES!U62-1 -> -0.0069511026 | AB61: =DONNEES!AB63/DONNEES!AB62-1 -> -0.0015003151
C62: =DONNEES!C64/DONNEES!C63-1 -> 0.0029069767 | D62: =DONNEES!D64/DONNEES!D63-1 -> -0.012870855 | E62: =DONNEES!E64/DONNEES!E63-1 -> 0.011046134 | F62: =DONNEES!F64/DONNEES!F63-1 -> -0.0080167306 | G62: =DONNEES!G64/DONNEES!G63-1 -> -0.035352749 | H62: =DONNEES!H64/DONNEES!H63-1 -> 0.050437468 | I62: =DONNEES!I64/DONNEES!I63-1 -> 0.0016853933 | J62: =DONNEES!J64/DONNEES!J63-1 -> -0.0025974026 | ... U62: =DONNEES!U64/DONNEES!U63-1 -> 0.030654115 | AB62: =DONNEES!AB64/DONNEES!AB63-1 -> 0.01057141
... C67: =DONNEES!C69/DONNEES!C68-1 -> -0.00026322717 | D67: =DONNEES!D69/DONNEES!D68-1 -> 0.11219348 | E67: =DONNEES!E69/DONNEES!E68-1 -> -0.0063291139 | F67: =DONNEES!F69/DONNEES!F68-1 -> 0.001754386 | G67: =DONNEES!G69/DONNEES!G68-1 -> -0.010526316 | H67: =DONNEES!H69/DONNEES!H68-1 -> -0.058638996 | I67: =DONNEES!I69/DONNEES!I68-1 -> 0.015184698 | J67: =DONNEES!J69/DONNEES!J68-1 -> 0.041333333 | ... U67: =DONNEES!U69/DONNEES!U68-1 -> -0.054350475 | AB67: =DONNEES!AB69/DONNEES!AB68-1 -> -0.022778907
C69: =+C3 -> seloger | D69: =+D3 -> soitec | E69: =+E3 -> axa | F69: =+F3 -> boiron | G69: =+G3 -> edf | H69: =+H3 -> havas | I69: =+I3 -> ipsos | J69: =+J3 -> laurent perrier | ... AC69: =+AC3 -> CAC 40(FRA)
A70: moyenne | C70: =AVERAGE(C5:C67) -> 0.0093698283 | D70: =AVERAGE(D5:D67) -> 0.0018158838 | E70: =AVERAGE(E5:E67) -> -0.00030184391 | F70: =AVERAGE(F5:F67) -> -0.00015036828 | G70: =AVERAGE(G5:G67) -> -0.0038678576 | H70: =AVERAGE(H5:H67) -> 0.0062567678 | I70: =AVERAGE(I5:I67) -> 0.0084126831 | J70: =AVERAGE(J5:J67) -> 0.0067274841 | ... U70: =AVERAGE(U5:U67) -> -0.0051660452 | V70: =AVERAGE(V5:V49) -> 0.0010475514 | W70: =AVERAGE(W5:W49) -> 0.0073972543 | X70: =AVERAGE(X5:X49) -> 0.0035586775 | Y70: =AVERAGE(Y5:Y49) -> 0.0011966268 | Z70: =AVERAGE(Z5:Z49) -> 0.0024925295 | AA70: =AVERAGE(AA5:AA49) -> 0.00058841282 | AB70: =AVERAGE(AB5:AB67) -> 0.00095187103 | AC70: =AVERAGE(AC5:AC49) -> 0.00056087393
A71: variance | C71: =VAR(C5:C67) -> 0.0036938474 | D71: =VAR(D5:D67) -> 0.0036068401 | E71: =VAR(E5:E67) -> 0.0028072716 | F71: =VAR(F5:F67) -> 0.0010821936 | G71: =VAR(G5:G67) -> 0.0010336064 | H71: =VAR(H5:H67) -> 0.001657347 | I71: =VAR(I5:I67) -> 0.0010622851 | J71: =VAR(J5:J67) -> 0.0016282507 | ... U71: =VAR(U5:U67) -> 0.001283456 | V71: =VAR(V5:V49) -> 0.0035735788 | W71: =VAR(W5:W49) -> 0.001784647 | X71: =VAR(X5:X49) -> 0.00092854151 | Y71: =VAR(Y5:Y49) -> 0.0016676414 | Z71: =VAR(Z5:Z49) -> 0.00082628698 | AA71: =VAR(AA5:AA49) -> 0.0016175194 | AB71: =VAR(AB5:AB67) -> 0.00079977117 | AC71: =VAR(AC5:AC49) -> 0.0010828286
A72: écart type | C72: =STDEV(C5:C67) -> 0.06077703 | D72: =STDEV(D5:D67) -> 0.060056974 | E72: =STDEV(E5:E67) -> 0.052983692 | F72: =STDEV(F5:F67) -> 0.032896711 | G72: =STDEV(G5:G67) -> 0.03214975 | H72: =STDEV(H5:H67) -> 0.040710526 | I72: =STDEV(I5:I67) -> 0.032592716 | J72: =STDEV(J5:J67) -> 0.040351588 | ... U72: =STDEV(U5:U67) -> 0.035825354 | V72: =STDEV(V5:V49) -> 0.059779418 | W72: =STDEV(W5:W49) -> 0.042245083 | X72: =STDEV(X5:X49) -> 0.030471979 | Y72: =STDEV(Y5:Y49) -> 0.040836766 | Z72: =STDEV(Z5:Z49) -> 0.028745208 | AA72: =STDEV(AA5:AA49) -> 0.040218396 | AB72: =STDEV(AB5:AB67) -> 0.028280226 | AC72: =STDEV(AC5:AC49) -> 0.032906362
A74: Moyenne annuelle | C74: =+C70*52 -> 0.48723107 | D74: =+D70*52 -> 0.094425958 | E74: =+E70*52 -> -0.015695883 | F74: =+F70*52 -> -0.0078191505 | G74: =+G70*52 -> -0.2011286 | H74: =+H70*52 -> 0.32535192 | I74: =+I70*52 -> 0.43745952 | J74: =+J70*52 -> 0.34982917 | ... AC74: =+AC70*52 -> 0.029165444
A75: etart type annuelle | C75: =+C72*52^0.5 -> 0.43826939 | D75: =+D72*52^0.5 -> 0.433077 | E75: =+E72*52^0.5 -> 0.38207083 | F75: =+F72*52^0.5 -> 0.23722156 | G75: =+G72*52^0.5 -> 0.23183515 | H75: =+H72*52^0.5 -> 0.29356778 | I75: =+I72*52^0.5 -> 0.23502942 | J75: =+J72*52^0.5 -> 0.29097944 | ... AC75: =+AC72*52^0.5 -> 0.23729115
C77: {=LINEST(C5:C67,$AB$5:$AB$67,TRUE,TRUE)} -> 0.59528522 | D77: {=LINEST(D5:D67,$AB$5:$AB$67,TRUE,TRUE)} -> 1.1858015 | E77: {=LINEST(E5:E67,$AB$5:$AB$67,TRUE,TRUE)} -> 1.636337 | F77: {=LINEST(F5:F67,$AB$5:$AB$67,TRUE,TRUE)} -> 0.31111215 | G77: {=LINEST(G5:G67,$AB$5:$AB$67,TRUE,TRUE)} -> 0.65086438 | H77: {=LINEST(H5:H67,$AB$5:$AB$67,TRUE,TRUE)} -> 0.862518 | I77: {=LINEST(I5:I67,$AB$5:$AB$67,TRUE,TRUE)} -> 0.52087088 | J77: {=LINEST(J5:J67,$AB$5:$AB$67,TRUE,TRUE)} -> 0.33029889 | ... U77: {=LINEST(U5:U67,$AB$5:$AB$67,TRUE,TRUE)} -> 0.82393346
C78: 0.26439742 | D78: 0.22556722 | E78: 0.11682233 | F78: 0.14351205 | G78: 0.11933925 | H78: 0.14756711 | I78: 0.131631 | J78: 0.17772692 | K78: 0.097096672 | L78: 0.1713502 | M78: 0.14583075 | N78: 0.12290896 | O78: 0.10972217 | P78: 0.17159936 | Q78: 0.10904399 | R78: 0.13015235 | S78: 0.13343827 | T78: 0.12756669 | U78: 0.12320266
C79: 0.076725019 | D79: 0.31179048 | E79: 0.76282829 | F79: 0.071531071 | G79: 0.32778686 | H79: 0.3589952 | I79: 0.20426069 | J79: 0.05358691 | K79: 0.63241635 | L79: 0.23728512 | M79: 0.28657649 | N79: 0.11128311 | O79: 0.35767639 | P79: 0.12832951 | Q79: 0.36010251 | R79: 0.39425388 | S79: 0.23468933 | T79: 0.23771187 | U79: 0.42302794
C80: 5.0691574 | D80: 27.635798 | E80: 196.19762 | F80: 4.6995599 | G80: 29.745028 | H80: 34.163095 | I80: 15.658272 | J80: 3.4538845 | K80: 104.94862 | L80: 18.977461 | M80: 24.50321 | N80: 7.6382818 | O80: 33.967707 | P80: 8.9805726 | Q80: 34.327769 | R80: 39.702254 | S80: 18.706193 | T80: 19.022235 | U80: 44.724357
C81: 0.017571452 | D81: 0.069723861 | E81: 0.1327709 | F81: 0.0047994489 | G81: 0.021005762 | H81: 0.036888736 | I81: 0.013452952 | J81: 0.0054096812 | K81: 0.049061729 | L81: 0.027628975 | M81: 0.025839174 | N81: 0.005721636 | O81: 0.020277408 | P81: 0.01311272 | Q81: 0.020239811 | R81: 0.033348525 | S81: 0.016515953 | T81: 0.015349476 | U81: 0.033662139
A85: Student | C85: =C77/C78 -> 2.2514789 | D85: =D77/D78 -> 5.2569761 | E85: =E77/E78 -> 14.007056 | F85: =F77/F78 -> 2.1678468 | G85: =G77/G78 -> 5.4539002 | H85: =H77/H78 -> 5.8449204 | I85: =I77/I78 -> 3.9570534 | J85: =J77/J78 -> 1.8584629 | ... U85: =U77/U78 -> 6.6876272
A86: Student = coefficient estimé / erreur type
...
